BEGIN:VCALENDAR
VERSION:2.0
PRODID:-//The Fort Atkinson Club - ECPv6.15.20//NONSGML v1.0//EN
CALSCALE:GREGORIAN
METHOD:PUBLISH
X-ORIGINAL-URL:https://www.fortatkinsonclub.org
X-WR-CALDESC:Events for The Fort Atkinson Club
REFRESH-INTERVAL;VALUE=DURATION:PT1H
X-Robots-Tag:noindex
X-PUBLISHED-TTL:PT1H
BEGIN:VTIMEZONE
TZID:America/Chicago
BEGIN:DAYLIGHT
TZOFFSETFROM:-0600
TZOFFSETTO:-0500
TZNAME:CDT
DTSTART:20230312T080000
END:DAYLIGHT
BEGIN:STANDARD
TZOFFSETFROM:-0500
TZOFFSETTO:-0600
TZNAME:CST
DTSTART:20231105T070000
END:STANDARD
BEGIN:DAYLIGHT
TZOFFSETFROM:-0600
TZOFFSETTO:-0500
TZNAME:CDT
DTSTART:20240310T080000
END:DAYLIGHT
BEGIN:STANDARD
TZOFFSETFROM:-0500
TZOFFSETTO:-0600
TZNAME:CST
DTSTART:20241103T070000
END:STANDARD
BEGIN:DAYLIGHT
TZOFFSETFROM:-0600
TZOFFSETTO:-0500
TZNAME:CDT
DTSTART:20250309T080000
END:DAYLIGHT
BEGIN:STANDARD
TZOFFSETFROM:-0500
TZOFFSETTO:-0600
TZNAME:CST
DTSTART:20251102T070000
END:STANDARD
END:VTIMEZONE
BEGIN:VEVENT
DTSTART;TZID=America/Chicago:20240726T150000
DTEND;TZID=America/Chicago:20240726T170000
DTSTAMP:20260423T003019
CREATED:20240718T184600Z
LAST-MODIFIED:20240724T174641Z
UID:10002102-1722006000-1722013200@www.fortatkinsonclub.org
SUMMARY:Coffee for a Cause
DESCRIPTION:Grab a friend and come down to Langholf for a sneak peek of Americana on the Rock! Enjoy singer and songwriter Tin Man Travis & the Tin Kan Trio while you grab dinner or a flight of coffee.\n10% of Langholf’s profits from the evening will support FAC!\nLearn more about Coffee for a Cause\n  \n 
URL:https://www.fortatkinsonclub.org/event/coffee-for-a-cause/
LOCATION:The Langholf\, 225 S Main St\,\, Fort Atkinson\, Wisconsin\, 53538
ATTACH;FMTTYPE=image/jpeg:https://www.fortatkinsonclub.org/wp-content/uploads/2024/07/CoffeeCause-scaled.jpg
END:VEVENT
END:VCALENDAR