BEGIN:VCALENDAR
VERSION:2.0
PRODID:-//The Fort Atkinson Club - ECPv6.15.20//NONSGML v1.0//EN
CALSCALE:GREGORIAN
METHOD:PUBLISH
X-WR-CALNAME:The Fort Atkinson Club
X-ORIGINAL-URL:https://www.fortatkinsonclub.org
X-WR-CALDESC:Events for The Fort Atkinson Club
REFRESH-INTERVAL;VALUE=DURATION:PT1H
X-Robots-Tag:noindex
X-PUBLISHED-TTL:PT1H
BEGIN:VTIMEZONE
TZID:America/Chicago
BEGIN:DAYLIGHT
TZOFFSETFROM:-0600
TZOFFSETTO:-0500
TZNAME:CDT
DTSTART:20220313T080000
END:DAYLIGHT
BEGIN:STANDARD
TZOFFSETFROM:-0500
TZOFFSETTO:-0600
TZNAME:CST
DTSTART:20221106T070000
END:STANDARD
BEGIN:DAYLIGHT
TZOFFSETFROM:-0600
TZOFFSETTO:-0500
TZNAME:CDT
DTSTART:20230312T080000
END:DAYLIGHT
BEGIN:STANDARD
TZOFFSETFROM:-0500
TZOFFSETTO:-0600
TZNAME:CST
DTSTART:20231105T070000
END:STANDARD
BEGIN:DAYLIGHT
TZOFFSETFROM:-0600
TZOFFSETTO:-0500
TZNAME:CDT
DTSTART:20240310T080000
END:DAYLIGHT
BEGIN:STANDARD
TZOFFSETFROM:-0500
TZOFFSETTO:-0600
TZNAME:CST
DTSTART:20241103T070000
END:STANDARD
BEGIN:DAYLIGHT
TZOFFSETFROM:-0600
TZOFFSETTO:-0500
TZNAME:CDT
DTSTART:20250309T080000
END:DAYLIGHT
BEGIN:STANDARD
TZOFFSETFROM:-0500
TZOFFSETTO:-0600
TZNAME:CST
DTSTART:20251102T070000
END:STANDARD
END:VTIMEZONE
BEGIN:VEVENT
DTSTART;TZID=America/Chicago:20240130T160000
DTEND;TZID=America/Chicago:20240130T190000
DTSTAMP:20260424T070730
CREATED:20230227T193812Z
LAST-MODIFIED:20230227T193904Z
UID:10000376-1706630400-1706641200@www.fortatkinsonclub.org
SUMMARY:MUSIC LESSONS WITH ANGELA
DESCRIPTION:
URL:https://www.fortatkinsonclub.org/event/music-lessons-with-angela-2/2024-01-30/
LOCATION:211 S Water St E\, 53538\, 211 South Water Street East\, Fort Atkinson\, WI\, 53538\, United States
END:VEVENT
BEGIN:VEVENT
DTSTART;TZID=America/Chicago:20240128T160000
DTEND;TZID=America/Chicago:20240128T180000
DTSTAMP:20260424T070730
CREATED:20240118T214714Z
LAST-MODIFIED:20240118T214714Z
UID:10000920-1706457600-1706464800@www.fortatkinsonclub.org
SUMMARY:Chamber Concert Series--Cristina Ballatori & Friends
DESCRIPTION:With:\nRachel Wood (mezzo soprano)\nDiana Shapiro (piano)\nCristina Ballatori has performed across the United States\, Europe\, England\, and Latin America as a recitalist\, soloist\, chamber and orchestral musician. Recent performance highlights include featured guest artist appearances at the Festivales Internacionales de Flautistas in Lima\, Peru\, and World Flutes Festival in Mendoza\, Argentina\, concerts in venues such as the Atelier Concert Series in Paris\, France\, and artist residencies in Spain\, Costa Rica\, and Mexico.
URL:https://www.fortatkinsonclub.org/event/chamber-concert-series-cristina-ballatori-friends/
LOCATION:211 S Water St E\, 53538\, 211 South Water Street East\, Fort Atkinson\, WI\, 53538\, United States
END:VEVENT
BEGIN:VEVENT
DTSTART;TZID=America/Chicago:20240124T160000
DTEND;TZID=America/Chicago:20240124T190000
DTSTAMP:20260424T070730
CREATED:20230227T194058Z
LAST-MODIFIED:20230227T194536Z
UID:10000480-1706112000-1706122800@www.fortatkinsonclub.org
SUMMARY:MUSIC LESSONS WITH ANGELA
DESCRIPTION:
URL:https://www.fortatkinsonclub.org/event/music-lessons-with-angela-3/2024-01-24/
LOCATION:211 S Water St E\, 53538\, 211 South Water Street East\, Fort Atkinson\, WI\, 53538\, United States
END:VEVENT
BEGIN:VEVENT
DTSTART;TZID=America/Chicago:20240123T160000
DTEND;TZID=America/Chicago:20240123T190000
DTSTAMP:20260424T070730
CREATED:20230227T193812Z
LAST-MODIFIED:20230227T193904Z
UID:10000375-1706025600-1706036400@www.fortatkinsonclub.org
SUMMARY:MUSIC LESSONS WITH ANGELA
DESCRIPTION:
URL:https://www.fortatkinsonclub.org/event/music-lessons-with-angela-2/2024-01-23/
LOCATION:211 S Water St E\, 53538\, 211 South Water Street East\, Fort Atkinson\, WI\, 53538\, United States
END:VEVENT
BEGIN:VEVENT
DTSTART;TZID=America/Chicago:20240122T120000
DTEND;TZID=America/Chicago:20240122T130000
DTSTAMP:20260424T070730
CREATED:20230227T193404Z
LAST-MODIFIED:20240710T171054Z
UID:10000283-1705924800-1705928400@www.fortatkinsonclub.org
SUMMARY:ROTARY GENERAL MEETINGS
DESCRIPTION:ROTARY is an organization of business and professional leaders united worldwide\, who provide humanitarian service\, encourage high ethical standards in all vocations\, and help build goodwill and peace in the world. ROTARY is the world’s first service club. The first Rotary club was founded in Chicago\, Illinois\, USA\, on February 23\, 1905. Rotary is some 1.2 million service-minded men and women belonging to over 32\, 000 Rotary clubs in virtually every nation in the world. Rotarians meet weekly for fellowship and interesting and informative programs dealing with topics of local and global importance. Membership is by invitation and reflects a wide cross-section of community representation. Rotarians plan and carry out a remarkable variety of humanitarian\, educational\, and cultural exchange programs that touch people’s lives in their local communities and our world community.
URL:https://www.fortatkinsonclub.org/event/rotary-general-meetings/2024-01-22/
LOCATION:211 S Water St E\, 53538\, 211 South Water Street East\, Fort Atkinson\, WI\, 53538\, United States
ATTACH;FMTTYPE=image/png:https://www.fortatkinsonclub.org/wp-content/uploads/2023/02/Rotary-Logo-5016.png
END:VEVENT
BEGIN:VEVENT
DTSTART;TZID=America/Chicago:20240119T180000
DTEND;TZID=America/Chicago:20240119T200000
DTSTAMP:20260424T070730
CREATED:20230301T164049Z
LAST-MODIFIED:20230301T164224Z
UID:10000629-1705687200-1705694400@www.fortatkinsonclub.org
SUMMARY:Patio Concert
DESCRIPTION:Kick up your heels and join us for our Patio Concerts. Held the third Friday in June\, July and August. \nWe look forward to  seeing you for an evening of singing\, laughter and dancing! \n 
URL:https://www.fortatkinsonclub.org/event/patio-concert/2024-01-19/
LOCATION:211 S Water St E\, 53538\, 211 South Water Street East\, Fort Atkinson\, WI\, 53538\, United States
END:VEVENT
BEGIN:VEVENT
DTSTART;TZID=America/Chicago:20240117T160000
DTEND;TZID=America/Chicago:20240117T190000
DTSTAMP:20260424T070730
CREATED:20230227T194058Z
LAST-MODIFIED:20230227T194536Z
UID:10000479-1705507200-1705518000@www.fortatkinsonclub.org
SUMMARY:MUSIC LESSONS WITH ANGELA
DESCRIPTION:
URL:https://www.fortatkinsonclub.org/event/music-lessons-with-angela-3/2024-01-17/
LOCATION:211 S Water St E\, 53538\, 211 South Water Street East\, Fort Atkinson\, WI\, 53538\, United States
END:VEVENT
BEGIN:VEVENT
DTSTART;TZID=America/Chicago:20240116T173000
DTEND;TZID=America/Chicago:20240116T183000
DTSTAMP:20260424T070730
CREATED:20230227T200833Z
LAST-MODIFIED:20250115T155450Z
UID:10002154-1705426200-1705429800@www.fortatkinsonclub.org
SUMMARY:Fort Club Board Meeting
DESCRIPTION:
URL:https://www.fortatkinsonclub.org/event/fort-club-board-meeting/2024-01-16/
LOCATION:211 S Water St E\, 53538\, 211 South Water Street East\, Fort Atkinson\, WI\, 53538\, United States
ATTACH;FMTTYPE=image/jpeg:https://www.fortatkinsonclub.org/wp-content/uploads/2023/02/Failte4-scaled.jpg
END:VEVENT
BEGIN:VEVENT
DTSTART;TZID=America/Chicago:20240116T160000
DTEND;TZID=America/Chicago:20240116T190000
DTSTAMP:20260424T070730
CREATED:20230227T193812Z
LAST-MODIFIED:20230227T193904Z
UID:10000374-1705420800-1705431600@www.fortatkinsonclub.org
SUMMARY:MUSIC LESSONS WITH ANGELA
DESCRIPTION:
URL:https://www.fortatkinsonclub.org/event/music-lessons-with-angela-2/2024-01-16/
LOCATION:211 S Water St E\, 53538\, 211 South Water Street East\, Fort Atkinson\, WI\, 53538\, United States
END:VEVENT
BEGIN:VEVENT
DTSTART;TZID=America/Chicago:20240115T120000
DTEND;TZID=America/Chicago:20240115T130000
DTSTAMP:20260424T070730
CREATED:20230227T193404Z
LAST-MODIFIED:20240710T171054Z
UID:10000282-1705320000-1705323600@www.fortatkinsonclub.org
SUMMARY:ROTARY GENERAL MEETINGS
DESCRIPTION:ROTARY is an organization of business and professional leaders united worldwide\, who provide humanitarian service\, encourage high ethical standards in all vocations\, and help build goodwill and peace in the world. ROTARY is the world’s first service club. The first Rotary club was founded in Chicago\, Illinois\, USA\, on February 23\, 1905. Rotary is some 1.2 million service-minded men and women belonging to over 32\, 000 Rotary clubs in virtually every nation in the world. Rotarians meet weekly for fellowship and interesting and informative programs dealing with topics of local and global importance. Membership is by invitation and reflects a wide cross-section of community representation. Rotarians plan and carry out a remarkable variety of humanitarian\, educational\, and cultural exchange programs that touch people’s lives in their local communities and our world community.
URL:https://www.fortatkinsonclub.org/event/rotary-general-meetings/2024-01-15/
LOCATION:211 S Water St E\, 53538\, 211 South Water Street East\, Fort Atkinson\, WI\, 53538\, United States
ATTACH;FMTTYPE=image/png:https://www.fortatkinsonclub.org/wp-content/uploads/2023/02/Rotary-Logo-5016.png
END:VEVENT
BEGIN:VEVENT
DTSTART;TZID=America/Chicago:20240110T160000
DTEND;TZID=America/Chicago:20240110T190000
DTSTAMP:20260424T070730
CREATED:20230227T194058Z
LAST-MODIFIED:20230227T194536Z
UID:10000478-1704902400-1704913200@www.fortatkinsonclub.org
SUMMARY:MUSIC LESSONS WITH ANGELA
DESCRIPTION:
URL:https://www.fortatkinsonclub.org/event/music-lessons-with-angela-3/2024-01-10/
LOCATION:211 S Water St E\, 53538\, 211 South Water Street East\, Fort Atkinson\, WI\, 53538\, United States
END:VEVENT
BEGIN:VEVENT
DTSTART;TZID=America/Chicago:20240109T160000
DTEND;TZID=America/Chicago:20240109T190000
DTSTAMP:20260424T070730
CREATED:20230227T193812Z
LAST-MODIFIED:20230227T193904Z
UID:10000373-1704816000-1704826800@www.fortatkinsonclub.org
SUMMARY:MUSIC LESSONS WITH ANGELA
DESCRIPTION:
URL:https://www.fortatkinsonclub.org/event/music-lessons-with-angela-2/2024-01-09/
LOCATION:211 S Water St E\, 53538\, 211 South Water Street East\, Fort Atkinson\, WI\, 53538\, United States
END:VEVENT
BEGIN:VEVENT
DTSTART;TZID=America/Chicago:20240108T120000
DTEND;TZID=America/Chicago:20240108T130000
DTSTAMP:20260424T070730
CREATED:20230227T193404Z
LAST-MODIFIED:20240710T171054Z
UID:10000281-1704715200-1704718800@www.fortatkinsonclub.org
SUMMARY:ROTARY GENERAL MEETINGS
DESCRIPTION:ROTARY is an organization of business and professional leaders united worldwide\, who provide humanitarian service\, encourage high ethical standards in all vocations\, and help build goodwill and peace in the world. ROTARY is the world’s first service club. The first Rotary club was founded in Chicago\, Illinois\, USA\, on February 23\, 1905. Rotary is some 1.2 million service-minded men and women belonging to over 32\, 000 Rotary clubs in virtually every nation in the world. Rotarians meet weekly for fellowship and interesting and informative programs dealing with topics of local and global importance. Membership is by invitation and reflects a wide cross-section of community representation. Rotarians plan and carry out a remarkable variety of humanitarian\, educational\, and cultural exchange programs that touch people’s lives in their local communities and our world community.
URL:https://www.fortatkinsonclub.org/event/rotary-general-meetings/2024-01-08/
LOCATION:211 S Water St E\, 53538\, 211 South Water Street East\, Fort Atkinson\, WI\, 53538\, United States
ATTACH;FMTTYPE=image/png:https://www.fortatkinsonclub.org/wp-content/uploads/2023/02/Rotary-Logo-5016.png
END:VEVENT
BEGIN:VEVENT
DTSTART;TZID=America/Chicago:20240103T160000
DTEND;TZID=America/Chicago:20240103T190000
DTSTAMP:20260424T070730
CREATED:20230227T194058Z
LAST-MODIFIED:20230227T194536Z
UID:10000477-1704297600-1704308400@www.fortatkinsonclub.org
SUMMARY:MUSIC LESSONS WITH ANGELA
DESCRIPTION:
URL:https://www.fortatkinsonclub.org/event/music-lessons-with-angela-3/2024-01-03/
LOCATION:211 S Water St E\, 53538\, 211 South Water Street East\, Fort Atkinson\, WI\, 53538\, United States
END:VEVENT
BEGIN:VEVENT
DTSTART;TZID=America/Chicago:20240102T160000
DTEND;TZID=America/Chicago:20240102T190000
DTSTAMP:20260424T070730
CREATED:20230227T193812Z
LAST-MODIFIED:20230227T193904Z
UID:10000372-1704211200-1704222000@www.fortatkinsonclub.org
SUMMARY:MUSIC LESSONS WITH ANGELA
DESCRIPTION:
URL:https://www.fortatkinsonclub.org/event/music-lessons-with-angela-2/2024-01-02/
LOCATION:211 S Water St E\, 53538\, 211 South Water Street East\, Fort Atkinson\, WI\, 53538\, United States
END:VEVENT
BEGIN:VEVENT
DTSTART;TZID=America/Chicago:20240101T120000
DTEND;TZID=America/Chicago:20240101T130000
DTSTAMP:20260424T070730
CREATED:20230227T193404Z
LAST-MODIFIED:20240710T171054Z
UID:10000280-1704110400-1704114000@www.fortatkinsonclub.org
SUMMARY:ROTARY GENERAL MEETINGS
DESCRIPTION:ROTARY is an organization of business and professional leaders united worldwide\, who provide humanitarian service\, encourage high ethical standards in all vocations\, and help build goodwill and peace in the world. ROTARY is the world’s first service club. The first Rotary club was founded in Chicago\, Illinois\, USA\, on February 23\, 1905. Rotary is some 1.2 million service-minded men and women belonging to over 32\, 000 Rotary clubs in virtually every nation in the world. Rotarians meet weekly for fellowship and interesting and informative programs dealing with topics of local and global importance. Membership is by invitation and reflects a wide cross-section of community representation. Rotarians plan and carry out a remarkable variety of humanitarian\, educational\, and cultural exchange programs that touch people’s lives in their local communities and our world community.
URL:https://www.fortatkinsonclub.org/event/rotary-general-meetings/2024-01-01/
LOCATION:211 S Water St E\, 53538\, 211 South Water Street East\, Fort Atkinson\, WI\, 53538\, United States
ATTACH;FMTTYPE=image/png:https://www.fortatkinsonclub.org/wp-content/uploads/2023/02/Rotary-Logo-5016.png
END:VEVENT
BEGIN:VEVENT
DTSTART;TZID=America/Chicago:20231227T171500
DTEND;TZID=America/Chicago:20231227T180000
DTSTAMP:20260424T070730
CREATED:20230815T171305Z
LAST-MODIFIED:20230815T171305Z
UID:10000905-1703697300-1703700000@www.fortatkinsonclub.org
SUMMARY:Yoga with Gina
DESCRIPTION:
URL:https://www.fortatkinsonclub.org/event/yoga-with-gina-12/
LOCATION:211 S Water St E\, 53538\, 211 South Water Street East\, Fort Atkinson\, WI\, 53538\, United States
END:VEVENT
BEGIN:VEVENT
DTSTART;TZID=America/Chicago:20231227T160000
DTEND;TZID=America/Chicago:20231227T190000
DTSTAMP:20260424T070730
CREATED:20230227T194058Z
LAST-MODIFIED:20230227T194536Z
UID:10000476-1703692800-1703703600@www.fortatkinsonclub.org
SUMMARY:MUSIC LESSONS WITH ANGELA
DESCRIPTION:
URL:https://www.fortatkinsonclub.org/event/music-lessons-with-angela-3/2023-12-27/
LOCATION:211 S Water St E\, 53538\, 211 South Water Street East\, Fort Atkinson\, WI\, 53538\, United States
END:VEVENT
BEGIN:VEVENT
DTSTART;TZID=America/Chicago:20231226T160000
DTEND;TZID=America/Chicago:20231226T190000
DTSTAMP:20260424T070730
CREATED:20230227T193812Z
LAST-MODIFIED:20230227T193904Z
UID:10000371-1703606400-1703617200@www.fortatkinsonclub.org
SUMMARY:MUSIC LESSONS WITH ANGELA
DESCRIPTION:
URL:https://www.fortatkinsonclub.org/event/music-lessons-with-angela-2/2023-12-26/
LOCATION:211 S Water St E\, 53538\, 211 South Water Street East\, Fort Atkinson\, WI\, 53538\, United States
END:VEVENT
BEGIN:VEVENT
DTSTART;TZID=America/Chicago:20231220T171500
DTEND;TZID=America/Chicago:20231220T180000
DTSTAMP:20260424T070730
CREATED:20230815T171136Z
LAST-MODIFIED:20230815T171237Z
UID:10000903-1703092500-1703095200@www.fortatkinsonclub.org
SUMMARY:Yoga with Gina
DESCRIPTION:
URL:https://www.fortatkinsonclub.org/event/yoga-with-gina-10/
LOCATION:211 S Water St E\, 53538\, 211 South Water Street East\, Fort Atkinson\, WI\, 53538\, United States
END:VEVENT
BEGIN:VEVENT
DTSTART;TZID=America/Chicago:20231220T160000
DTEND;TZID=America/Chicago:20231220T190000
DTSTAMP:20260424T070730
CREATED:20230227T194058Z
LAST-MODIFIED:20230227T194536Z
UID:10000475-1703088000-1703098800@www.fortatkinsonclub.org
SUMMARY:MUSIC LESSONS WITH ANGELA
DESCRIPTION:
URL:https://www.fortatkinsonclub.org/event/music-lessons-with-angela-3/2023-12-20/
LOCATION:211 S Water St E\, 53538\, 211 South Water Street East\, Fort Atkinson\, WI\, 53538\, United States
END:VEVENT
BEGIN:VEVENT
DTSTART;TZID=America/Chicago:20231219T173000
DTEND;TZID=America/Chicago:20231219T183000
DTSTAMP:20260424T070730
CREATED:20230227T200833Z
LAST-MODIFIED:20250115T155450Z
UID:10002153-1703007000-1703010600@www.fortatkinsonclub.org
SUMMARY:Fort Club Board Meeting
DESCRIPTION:
URL:https://www.fortatkinsonclub.org/event/fort-club-board-meeting/2023-12-19/
LOCATION:211 S Water St E\, 53538\, 211 South Water Street East\, Fort Atkinson\, WI\, 53538\, United States
ATTACH;FMTTYPE=image/jpeg:https://www.fortatkinsonclub.org/wp-content/uploads/2023/02/Failte4-scaled.jpg
END:VEVENT
BEGIN:VEVENT
DTSTART;TZID=America/Chicago:20231219T160000
DTEND;TZID=America/Chicago:20231219T190000
DTSTAMP:20260424T070730
CREATED:20230227T193812Z
LAST-MODIFIED:20230227T193904Z
UID:10000370-1703001600-1703012400@www.fortatkinsonclub.org
SUMMARY:MUSIC LESSONS WITH ANGELA
DESCRIPTION:
URL:https://www.fortatkinsonclub.org/event/music-lessons-with-angela-2/2023-12-19/
LOCATION:211 S Water St E\, 53538\, 211 South Water Street East\, Fort Atkinson\, WI\, 53538\, United States
END:VEVENT
BEGIN:VEVENT
DTSTART;TZID=America/Chicago:20231218T170000
DTEND;TZID=America/Chicago:20231218T174500
DTSTAMP:20260424T070730
CREATED:20230815T164933Z
LAST-MODIFIED:20230815T164933Z
UID:10000881-1702918800-1702921500@www.fortatkinsonclub.org
SUMMARY:Werq with Gina
DESCRIPTION:
URL:https://www.fortatkinsonclub.org/event/werq-with-gina-12/
LOCATION:211 S Water St E\, 53538\, 211 South Water Street East\, Fort Atkinson\, WI\, 53538\, United States
END:VEVENT
BEGIN:VEVENT
DTSTART;TZID=America/Chicago:20231218T120000
DTEND;TZID=America/Chicago:20231218T130000
DTSTAMP:20260424T070730
CREATED:20230227T193404Z
LAST-MODIFIED:20240710T171054Z
UID:10000279-1702900800-1702904400@www.fortatkinsonclub.org
SUMMARY:ROTARY GENERAL MEETINGS
DESCRIPTION:ROTARY is an organization of business and professional leaders united worldwide\, who provide humanitarian service\, encourage high ethical standards in all vocations\, and help build goodwill and peace in the world. ROTARY is the world’s first service club. The first Rotary club was founded in Chicago\, Illinois\, USA\, on February 23\, 1905. Rotary is some 1.2 million service-minded men and women belonging to over 32\, 000 Rotary clubs in virtually every nation in the world. Rotarians meet weekly for fellowship and interesting and informative programs dealing with topics of local and global importance. Membership is by invitation and reflects a wide cross-section of community representation. Rotarians plan and carry out a remarkable variety of humanitarian\, educational\, and cultural exchange programs that touch people’s lives in their local communities and our world community.
URL:https://www.fortatkinsonclub.org/event/rotary-general-meetings/2023-12-18/
LOCATION:211 S Water St E\, 53538\, 211 South Water Street East\, Fort Atkinson\, WI\, 53538\, United States
ATTACH;FMTTYPE=image/png:https://www.fortatkinsonclub.org/wp-content/uploads/2023/02/Rotary-Logo-5016.png
END:VEVENT
BEGIN:VEVENT
DTSTART;TZID=America/Chicago:20231215T180000
DTEND;TZID=America/Chicago:20231215T200000
DTSTAMP:20260424T070730
CREATED:20230301T164049Z
LAST-MODIFIED:20230301T164224Z
UID:10000628-1702663200-1702670400@www.fortatkinsonclub.org
SUMMARY:Patio Concert
DESCRIPTION:Kick up your heels and join us for our Patio Concerts. Held the third Friday in June\, July and August. \nWe look forward to  seeing you for an evening of singing\, laughter and dancing! \n 
URL:https://www.fortatkinsonclub.org/event/patio-concert/2023-12-15/
LOCATION:211 S Water St E\, 53538\, 211 South Water Street East\, Fort Atkinson\, WI\, 53538\, United States
END:VEVENT
BEGIN:VEVENT
DTSTART;TZID=America/Chicago:20231213T163000
DTEND;TZID=America/Chicago:20231213T171500
DTSTAMP:20260424T070730
CREATED:20230815T165904Z
LAST-MODIFIED:20230815T165904Z
UID:10000890-1702485000-1702487700@www.fortatkinsonclub.org
SUMMARY:Body Blast with Tiffany
DESCRIPTION:
URL:https://www.fortatkinsonclub.org/event/body-blast-with-tiffany-9/
LOCATION:211 S Water St E\, 53538\, 211 South Water Street East\, Fort Atkinson\, WI\, 53538\, United States
END:VEVENT
BEGIN:VEVENT
DTSTART;TZID=America/Chicago:20231213T160000
DTEND;TZID=America/Chicago:20231213T190000
DTSTAMP:20260424T070730
CREATED:20230227T194058Z
LAST-MODIFIED:20230227T194536Z
UID:10000474-1702483200-1702494000@www.fortatkinsonclub.org
SUMMARY:MUSIC LESSONS WITH ANGELA
DESCRIPTION:
URL:https://www.fortatkinsonclub.org/event/music-lessons-with-angela-3/2023-12-13/
LOCATION:211 S Water St E\, 53538\, 211 South Water Street East\, Fort Atkinson\, WI\, 53538\, United States
END:VEVENT
BEGIN:VEVENT
DTSTART;TZID=America/Chicago:20231212T160000
DTEND;TZID=America/Chicago:20231212T190000
DTSTAMP:20260424T070730
CREATED:20230227T193812Z
LAST-MODIFIED:20230227T193904Z
UID:10000369-1702396800-1702407600@www.fortatkinsonclub.org
SUMMARY:MUSIC LESSONS WITH ANGELA
DESCRIPTION:
URL:https://www.fortatkinsonclub.org/event/music-lessons-with-angela-2/2023-12-12/
LOCATION:211 S Water St E\, 53538\, 211 South Water Street East\, Fort Atkinson\, WI\, 53538\, United States
END:VEVENT
BEGIN:VEVENT
DTSTART;TZID=America/Chicago:20231211T120000
DTEND;TZID=America/Chicago:20231211T130000
DTSTAMP:20260424T070730
CREATED:20230227T193404Z
LAST-MODIFIED:20240710T171054Z
UID:10000278-1702296000-1702299600@www.fortatkinsonclub.org
SUMMARY:ROTARY GENERAL MEETINGS
DESCRIPTION:ROTARY is an organization of business and professional leaders united worldwide\, who provide humanitarian service\, encourage high ethical standards in all vocations\, and help build goodwill and peace in the world. ROTARY is the world’s first service club. The first Rotary club was founded in Chicago\, Illinois\, USA\, on February 23\, 1905. Rotary is some 1.2 million service-minded men and women belonging to over 32\, 000 Rotary clubs in virtually every nation in the world. Rotarians meet weekly for fellowship and interesting and informative programs dealing with topics of local and global importance. Membership is by invitation and reflects a wide cross-section of community representation. Rotarians plan and carry out a remarkable variety of humanitarian\, educational\, and cultural exchange programs that touch people’s lives in their local communities and our world community.
URL:https://www.fortatkinsonclub.org/event/rotary-general-meetings/2023-12-11/
LOCATION:211 S Water St E\, 53538\, 211 South Water Street East\, Fort Atkinson\, WI\, 53538\, United States
ATTACH;FMTTYPE=image/png:https://www.fortatkinsonclub.org/wp-content/uploads/2023/02/Rotary-Logo-5016.png
END:VEVENT
END:VCALENDAR