BEGIN:VCALENDAR
VERSION:2.0
PRODID:-//The Fort Atkinson Club - ECPv6.15.20//NONSGML v1.0//EN
CALSCALE:GREGORIAN
METHOD:PUBLISH
X-WR-CALNAME:The Fort Atkinson Club
X-ORIGINAL-URL:https://www.fortatkinsonclub.org
X-WR-CALDESC:Events for The Fort Atkinson Club
REFRESH-INTERVAL;VALUE=DURATION:PT1H
X-Robots-Tag:noindex
X-PUBLISHED-TTL:PT1H
BEGIN:VTIMEZONE
TZID:America/Chicago
BEGIN:DAYLIGHT
TZOFFSETFROM:-0600
TZOFFSETTO:-0500
TZNAME:CDT
DTSTART:20210314T080000
END:DAYLIGHT
BEGIN:STANDARD
TZOFFSETFROM:-0500
TZOFFSETTO:-0600
TZNAME:CST
DTSTART:20211107T070000
END:STANDARD
BEGIN:DAYLIGHT
TZOFFSETFROM:-0600
TZOFFSETTO:-0500
TZNAME:CDT
DTSTART:20220313T080000
END:DAYLIGHT
BEGIN:STANDARD
TZOFFSETFROM:-0500
TZOFFSETTO:-0600
TZNAME:CST
DTSTART:20221106T070000
END:STANDARD
BEGIN:DAYLIGHT
TZOFFSETFROM:-0600
TZOFFSETTO:-0500
TZNAME:CDT
DTSTART:20230312T080000
END:DAYLIGHT
BEGIN:STANDARD
TZOFFSETFROM:-0500
TZOFFSETTO:-0600
TZNAME:CST
DTSTART:20231105T070000
END:STANDARD
END:VTIMEZONE
BEGIN:VEVENT
DTSTART;TZID=America/Chicago:20221212T173000
DTEND;TZID=America/Chicago:20221212T183000
DTSTAMP:20260424T005307
CREATED:20221005T223953Z
LAST-MODIFIED:20221005T224242Z
UID:10000106-1670866200-1670869800@www.fortatkinsonclub.org
SUMMARY:Fall '22 Yoga Series
DESCRIPTION:https://app.donorview.com/QMnMr
URL:https://www.fortatkinsonclub.org/event/fall-22-yoga-series/2022-12-12/
LOCATION:211 S Water St E\, 53538\, 211 South Water Street East\, Fort Atkinson\, WI\, 53538\, United States
END:VEVENT
BEGIN:VEVENT
DTSTART;TZID=America/Chicago:20221207T160000
DTEND;TZID=America/Chicago:20221207T190000
DTSTAMP:20260424T005307
CREATED:20221024T212239Z
LAST-MODIFIED:20221024T212239Z
UID:10000125-1670428800-1670439600@www.fortatkinsonclub.org
SUMMARY:Music Lessons with Angela
DESCRIPTION:For Kids and Adults\, one-on-one.  Piano and Strings.  Angela Martin-Licari is Assistant Concert Master of the Beloit Symphony Orchestra\, and has taught at the FAC for over 7 years.  Her personal repertoire includes classical as well as bluegrass\, old-timey\, classic country and rock.
URL:https://www.fortatkinsonclub.org/event/music-lessons-with-angela/2022-12-07/
LOCATION:211 S Water St E\, 53538\, 211 South Water Street East\, Fort Atkinson\, WI\, 53538\, United States
END:VEVENT
BEGIN:VEVENT
DTSTART;TZID=America/Chicago:20221206T160000
DTEND;TZID=America/Chicago:20221206T190000
DTSTAMP:20260424T005307
CREATED:20221024T212239Z
LAST-MODIFIED:20221024T212239Z
UID:10000124-1670342400-1670353200@www.fortatkinsonclub.org
SUMMARY:Music Lessons with Angela
DESCRIPTION:For Kids and Adults\, one-on-one.  Piano and Strings.  Angela Martin-Licari is Assistant Concert Master of the Beloit Symphony Orchestra\, and has taught at the FAC for over 7 years.  Her personal repertoire includes classical as well as bluegrass\, old-timey\, classic country and rock.
URL:https://www.fortatkinsonclub.org/event/music-lessons-with-angela/2022-12-06/
LOCATION:211 S Water St E\, 53538\, 211 South Water Street East\, Fort Atkinson\, WI\, 53538\, United States
END:VEVENT
BEGIN:VEVENT
DTSTART;TZID=America/Chicago:20221205T173000
DTEND;TZID=America/Chicago:20221205T183000
DTSTAMP:20260424T005307
CREATED:20221005T223953Z
LAST-MODIFIED:20221005T224242Z
UID:10000105-1670261400-1670265000@www.fortatkinsonclub.org
SUMMARY:Fall '22 Yoga Series
DESCRIPTION:https://app.donorview.com/QMnMr
URL:https://www.fortatkinsonclub.org/event/fall-22-yoga-series/2022-12-05/
LOCATION:211 S Water St E\, 53538\, 211 South Water Street East\, Fort Atkinson\, WI\, 53538\, United States
END:VEVENT
BEGIN:VEVENT
DTSTART;TZID=America/Chicago:20221130T160000
DTEND;TZID=America/Chicago:20221130T190000
DTSTAMP:20260424T005307
CREATED:20221024T212239Z
LAST-MODIFIED:20221024T212239Z
UID:10000123-1669824000-1669834800@www.fortatkinsonclub.org
SUMMARY:Music Lessons with Angela
DESCRIPTION:For Kids and Adults\, one-on-one.  Piano and Strings.  Angela Martin-Licari is Assistant Concert Master of the Beloit Symphony Orchestra\, and has taught at the FAC for over 7 years.  Her personal repertoire includes classical as well as bluegrass\, old-timey\, classic country and rock.
URL:https://www.fortatkinsonclub.org/event/music-lessons-with-angela/2022-11-30/
LOCATION:211 S Water St E\, 53538\, 211 South Water Street East\, Fort Atkinson\, WI\, 53538\, United States
END:VEVENT
BEGIN:VEVENT
DTSTART;TZID=America/Chicago:20221129T160000
DTEND;TZID=America/Chicago:20221129T190000
DTSTAMP:20260424T005307
CREATED:20221024T212239Z
LAST-MODIFIED:20221024T212239Z
UID:10000122-1669737600-1669748400@www.fortatkinsonclub.org
SUMMARY:Music Lessons with Angela
DESCRIPTION:For Kids and Adults\, one-on-one.  Piano and Strings.  Angela Martin-Licari is Assistant Concert Master of the Beloit Symphony Orchestra\, and has taught at the FAC for over 7 years.  Her personal repertoire includes classical as well as bluegrass\, old-timey\, classic country and rock.
URL:https://www.fortatkinsonclub.org/event/music-lessons-with-angela/2022-11-29/
LOCATION:211 S Water St E\, 53538\, 211 South Water Street East\, Fort Atkinson\, WI\, 53538\, United States
END:VEVENT
BEGIN:VEVENT
DTSTART;TZID=America/Chicago:20221128T173000
DTEND;TZID=America/Chicago:20221128T183000
DTSTAMP:20260424T005307
CREATED:20221005T223953Z
LAST-MODIFIED:20221005T224242Z
UID:10000104-1669656600-1669660200@www.fortatkinsonclub.org
SUMMARY:Fall '22 Yoga Series
DESCRIPTION:https://app.donorview.com/QMnMr
URL:https://www.fortatkinsonclub.org/event/fall-22-yoga-series/2022-11-28/
LOCATION:211 S Water St E\, 53538\, 211 South Water Street East\, Fort Atkinson\, WI\, 53538\, United States
END:VEVENT
BEGIN:VEVENT
DTSTART;TZID=America/Chicago:20221123T160000
DTEND;TZID=America/Chicago:20221123T190000
DTSTAMP:20260424T005307
CREATED:20221024T212239Z
LAST-MODIFIED:20221024T212239Z
UID:10000121-1669219200-1669230000@www.fortatkinsonclub.org
SUMMARY:Music Lessons with Angela
DESCRIPTION:For Kids and Adults\, one-on-one.  Piano and Strings.  Angela Martin-Licari is Assistant Concert Master of the Beloit Symphony Orchestra\, and has taught at the FAC for over 7 years.  Her personal repertoire includes classical as well as bluegrass\, old-timey\, classic country and rock.
URL:https://www.fortatkinsonclub.org/event/music-lessons-with-angela/2022-11-23/
LOCATION:211 S Water St E\, 53538\, 211 South Water Street East\, Fort Atkinson\, WI\, 53538\, United States
END:VEVENT
BEGIN:VEVENT
DTSTART;TZID=America/Chicago:20221122T160000
DTEND;TZID=America/Chicago:20221122T190000
DTSTAMP:20260424T005307
CREATED:20221024T212239Z
LAST-MODIFIED:20221024T212239Z
UID:10000120-1669132800-1669143600@www.fortatkinsonclub.org
SUMMARY:Music Lessons with Angela
DESCRIPTION:For Kids and Adults\, one-on-one.  Piano and Strings.  Angela Martin-Licari is Assistant Concert Master of the Beloit Symphony Orchestra\, and has taught at the FAC for over 7 years.  Her personal repertoire includes classical as well as bluegrass\, old-timey\, classic country and rock.
URL:https://www.fortatkinsonclub.org/event/music-lessons-with-angela/2022-11-22/
LOCATION:211 S Water St E\, 53538\, 211 South Water Street East\, Fort Atkinson\, WI\, 53538\, United States
END:VEVENT
BEGIN:VEVENT
DTSTART;TZID=America/Chicago:20221121T173000
DTEND;TZID=America/Chicago:20221121T183000
DTSTAMP:20260424T005307
CREATED:20221005T223953Z
LAST-MODIFIED:20221005T224242Z
UID:10000103-1669051800-1669055400@www.fortatkinsonclub.org
SUMMARY:Fall '22 Yoga Series
DESCRIPTION:https://app.donorview.com/QMnMr
URL:https://www.fortatkinsonclub.org/event/fall-22-yoga-series/2022-11-21/
LOCATION:211 S Water St E\, 53538\, 211 South Water Street East\, Fort Atkinson\, WI\, 53538\, United States
END:VEVENT
BEGIN:VEVENT
DTSTART;TZID=America/Chicago:20221116T160000
DTEND;TZID=America/Chicago:20221116T190000
DTSTAMP:20260424T005307
CREATED:20221024T212239Z
LAST-MODIFIED:20221024T212239Z
UID:10000119-1668614400-1668625200@www.fortatkinsonclub.org
SUMMARY:Music Lessons with Angela
DESCRIPTION:For Kids and Adults\, one-on-one.  Piano and Strings.  Angela Martin-Licari is Assistant Concert Master of the Beloit Symphony Orchestra\, and has taught at the FAC for over 7 years.  Her personal repertoire includes classical as well as bluegrass\, old-timey\, classic country and rock.
URL:https://www.fortatkinsonclub.org/event/music-lessons-with-angela/2022-11-16/
LOCATION:211 S Water St E\, 53538\, 211 South Water Street East\, Fort Atkinson\, WI\, 53538\, United States
END:VEVENT
BEGIN:VEVENT
DTSTART;TZID=America/Chicago:20221115T160000
DTEND;TZID=America/Chicago:20221115T190000
DTSTAMP:20260424T005307
CREATED:20221024T212239Z
LAST-MODIFIED:20221024T212239Z
UID:10000118-1668528000-1668538800@www.fortatkinsonclub.org
SUMMARY:Music Lessons with Angela
DESCRIPTION:For Kids and Adults\, one-on-one.  Piano and Strings.  Angela Martin-Licari is Assistant Concert Master of the Beloit Symphony Orchestra\, and has taught at the FAC for over 7 years.  Her personal repertoire includes classical as well as bluegrass\, old-timey\, classic country and rock.
URL:https://www.fortatkinsonclub.org/event/music-lessons-with-angela/2022-11-15/
LOCATION:211 S Water St E\, 53538\, 211 South Water Street East\, Fort Atkinson\, WI\, 53538\, United States
END:VEVENT
BEGIN:VEVENT
DTSTART;TZID=America/Chicago:20221114T173000
DTEND;TZID=America/Chicago:20221114T183000
DTSTAMP:20260424T005307
CREATED:20221005T223953Z
LAST-MODIFIED:20221005T224242Z
UID:10000102-1668447000-1668450600@www.fortatkinsonclub.org
SUMMARY:Fall '22 Yoga Series
DESCRIPTION:https://app.donorview.com/QMnMr
URL:https://www.fortatkinsonclub.org/event/fall-22-yoga-series/2022-11-14/
LOCATION:211 S Water St E\, 53538\, 211 South Water Street East\, Fort Atkinson\, WI\, 53538\, United States
END:VEVENT
BEGIN:VEVENT
DTSTART;TZID=America/Chicago:20221109T160000
DTEND;TZID=America/Chicago:20221109T190000
DTSTAMP:20260424T005307
CREATED:20221024T212239Z
LAST-MODIFIED:20221024T212239Z
UID:10000117-1668009600-1668020400@www.fortatkinsonclub.org
SUMMARY:Music Lessons with Angela
DESCRIPTION:For Kids and Adults\, one-on-one.  Piano and Strings.  Angela Martin-Licari is Assistant Concert Master of the Beloit Symphony Orchestra\, and has taught at the FAC for over 7 years.  Her personal repertoire includes classical as well as bluegrass\, old-timey\, classic country and rock.
URL:https://www.fortatkinsonclub.org/event/music-lessons-with-angela/2022-11-09/
LOCATION:211 S Water St E\, 53538\, 211 South Water Street East\, Fort Atkinson\, WI\, 53538\, United States
END:VEVENT
BEGIN:VEVENT
DTSTART;TZID=America/Chicago:20221108T160000
DTEND;TZID=America/Chicago:20221108T190000
DTSTAMP:20260424T005307
CREATED:20221024T212239Z
LAST-MODIFIED:20221024T212239Z
UID:10000116-1667923200-1667934000@www.fortatkinsonclub.org
SUMMARY:Music Lessons with Angela
DESCRIPTION:For Kids and Adults\, one-on-one.  Piano and Strings.  Angela Martin-Licari is Assistant Concert Master of the Beloit Symphony Orchestra\, and has taught at the FAC for over 7 years.  Her personal repertoire includes classical as well as bluegrass\, old-timey\, classic country and rock.
URL:https://www.fortatkinsonclub.org/event/music-lessons-with-angela/2022-11-08/
LOCATION:211 S Water St E\, 53538\, 211 South Water Street East\, Fort Atkinson\, WI\, 53538\, United States
END:VEVENT
BEGIN:VEVENT
DTSTART;TZID=America/Chicago:20221107T173000
DTEND;TZID=America/Chicago:20221107T183000
DTSTAMP:20260424T005307
CREATED:20221005T223953Z
LAST-MODIFIED:20221005T224242Z
UID:10000101-1667842200-1667845800@www.fortatkinsonclub.org
SUMMARY:Fall '22 Yoga Series
DESCRIPTION:https://app.donorview.com/QMnMr
URL:https://www.fortatkinsonclub.org/event/fall-22-yoga-series/2022-11-07/
LOCATION:211 S Water St E\, 53538\, 211 South Water Street East\, Fort Atkinson\, WI\, 53538\, United States
END:VEVENT
BEGIN:VEVENT
DTSTART;TZID=America/Chicago:20221102T160000
DTEND;TZID=America/Chicago:20221102T190000
DTSTAMP:20260424T005307
CREATED:20221024T212239Z
LAST-MODIFIED:20221024T212239Z
UID:10000115-1667404800-1667415600@www.fortatkinsonclub.org
SUMMARY:Music Lessons with Angela
DESCRIPTION:For Kids and Adults\, one-on-one.  Piano and Strings.  Angela Martin-Licari is Assistant Concert Master of the Beloit Symphony Orchestra\, and has taught at the FAC for over 7 years.  Her personal repertoire includes classical as well as bluegrass\, old-timey\, classic country and rock.
URL:https://www.fortatkinsonclub.org/event/music-lessons-with-angela/2022-11-02/
LOCATION:211 S Water St E\, 53538\, 211 South Water Street East\, Fort Atkinson\, WI\, 53538\, United States
END:VEVENT
BEGIN:VEVENT
DTSTART;TZID=America/Chicago:20221101T160000
DTEND;TZID=America/Chicago:20221101T190000
DTSTAMP:20260424T005307
CREATED:20221024T212239Z
LAST-MODIFIED:20221024T212239Z
UID:10000114-1667318400-1667329200@www.fortatkinsonclub.org
SUMMARY:Music Lessons with Angela
DESCRIPTION:For Kids and Adults\, one-on-one.  Piano and Strings.  Angela Martin-Licari is Assistant Concert Master of the Beloit Symphony Orchestra\, and has taught at the FAC for over 7 years.  Her personal repertoire includes classical as well as bluegrass\, old-timey\, classic country and rock.
URL:https://www.fortatkinsonclub.org/event/music-lessons-with-angela/2022-11-01/
LOCATION:211 S Water St E\, 53538\, 211 South Water Street East\, Fort Atkinson\, WI\, 53538\, United States
END:VEVENT
BEGIN:VEVENT
DTSTART;TZID=America/Chicago:20221031T173000
DTEND;TZID=America/Chicago:20221031T183000
DTSTAMP:20260424T005307
CREATED:20221005T223953Z
LAST-MODIFIED:20221005T224242Z
UID:10000100-1667237400-1667241000@www.fortatkinsonclub.org
SUMMARY:Fall '22 Yoga Series
DESCRIPTION:https://app.donorview.com/QMnMr
URL:https://www.fortatkinsonclub.org/event/fall-22-yoga-series/2022-10-31/
LOCATION:211 S Water St E\, 53538\, 211 South Water Street East\, Fort Atkinson\, WI\, 53538\, United States
END:VEVENT
BEGIN:VEVENT
DTSTART;TZID=America/Chicago:20221027T130000
DTEND;TZID=America/Chicago:20221027T160000
DTSTAMP:20260424T005307
CREATED:20220920T182605Z
LAST-MODIFIED:20220920T182605Z
UID:10000087-1666875600-1666886400@www.fortatkinsonclub.org
SUMMARY:Adult Painting
DESCRIPTION:Thursdays\, 1-4 PM\n8 week sessions: Sep/Oct\, Nov/Dec\, Jan/Feb\, Mar/Apr\, May/June\, July/Aug\nJoin us on Thursday afternoons from 1-4 PM on the River Level for Adult painting class. This class runs for 8 weeks\, and FAC Members enjoy a $10 discount\, when they sign up for all 8 weeks. Tom Jewell grew up in Arizona\, where he gained a love for nature and wildlife\, which he continues to enjoy in Wisconsin. Tom attended Marquette University and worked in graphic design\, corporate art and printing. Today he paints landscapes and wildlife in multiple mediums. His work has been displayed in numerous galleries\, exhibits and museums. His class allows you to work at your own pace in acrylic\, water color\, etc\, and take advantage of Tom’s expert advice and demonstrations. Enjoy the camaraderie of other students\, and learn from them as well!
URL:https://www.fortatkinsonclub.org/event/2022-10-27/2022-10-27/
LOCATION:211 S Water St E\, 53538\, 211 South Water Street East\, Fort Atkinson\, WI\, 53538\, United States
ATTACH;FMTTYPE=image/jpeg:https://www.fortatkinsonclub.org/wp-content/uploads/2020/09/SallyWK.jpg
END:VEVENT
BEGIN:VEVENT
DTSTART;TZID=America/Chicago:20221026T160000
DTEND;TZID=America/Chicago:20221026T190000
DTSTAMP:20260424T005307
CREATED:20221024T212239Z
LAST-MODIFIED:20221024T212239Z
UID:10000113-1666800000-1666810800@www.fortatkinsonclub.org
SUMMARY:Music Lessons with Angela
DESCRIPTION:For Kids and Adults\, one-on-one.  Piano and Strings.  Angela Martin-Licari is Assistant Concert Master of the Beloit Symphony Orchestra\, and has taught at the FAC for over 7 years.  Her personal repertoire includes classical as well as bluegrass\, old-timey\, classic country and rock.
URL:https://www.fortatkinsonclub.org/event/music-lessons-with-angela/2022-10-26/
LOCATION:211 S Water St E\, 53538\, 211 South Water Street East\, Fort Atkinson\, WI\, 53538\, United States
END:VEVENT
BEGIN:VEVENT
DTSTART;TZID=America/Chicago:20221025T160000
DTEND;TZID=America/Chicago:20221025T190000
DTSTAMP:20260424T005307
CREATED:20221024T212239Z
LAST-MODIFIED:20221024T212239Z
UID:10000112-1666713600-1666724400@www.fortatkinsonclub.org
SUMMARY:Music Lessons with Angela
DESCRIPTION:For Kids and Adults\, one-on-one.  Piano and Strings.  Angela Martin-Licari is Assistant Concert Master of the Beloit Symphony Orchestra\, and has taught at the FAC for over 7 years.  Her personal repertoire includes classical as well as bluegrass\, old-timey\, classic country and rock.
URL:https://www.fortatkinsonclub.org/event/music-lessons-with-angela/2022-10-25/
LOCATION:211 S Water St E\, 53538\, 211 South Water Street East\, Fort Atkinson\, WI\, 53538\, United States
END:VEVENT
BEGIN:VEVENT
DTSTART;TZID=America/Chicago:20221024T173000
DTEND;TZID=America/Chicago:20221024T183000
DTSTAMP:20260424T005307
CREATED:20221005T223953Z
LAST-MODIFIED:20221005T224242Z
UID:10000099-1666632600-1666636200@www.fortatkinsonclub.org
SUMMARY:Fall '22 Yoga Series
DESCRIPTION:https://app.donorview.com/QMnMr
URL:https://www.fortatkinsonclub.org/event/fall-22-yoga-series/2022-10-24/
LOCATION:211 S Water St E\, 53538\, 211 South Water Street East\, Fort Atkinson\, WI\, 53538\, United States
END:VEVENT
BEGIN:VEVENT
DTSTART;TZID=America/Chicago:20221020T130000
DTEND;TZID=America/Chicago:20221020T160000
DTSTAMP:20260424T005307
CREATED:20220920T182605Z
LAST-MODIFIED:20220920T182605Z
UID:10000086-1666270800-1666281600@www.fortatkinsonclub.org
SUMMARY:Adult Painting
DESCRIPTION:Thursdays\, 1-4 PM\n8 week sessions: Sep/Oct\, Nov/Dec\, Jan/Feb\, Mar/Apr\, May/June\, July/Aug\nJoin us on Thursday afternoons from 1-4 PM on the River Level for Adult painting class. This class runs for 8 weeks\, and FAC Members enjoy a $10 discount\, when they sign up for all 8 weeks. Tom Jewell grew up in Arizona\, where he gained a love for nature and wildlife\, which he continues to enjoy in Wisconsin. Tom attended Marquette University and worked in graphic design\, corporate art and printing. Today he paints landscapes and wildlife in multiple mediums. His work has been displayed in numerous galleries\, exhibits and museums. His class allows you to work at your own pace in acrylic\, water color\, etc\, and take advantage of Tom’s expert advice and demonstrations. Enjoy the camaraderie of other students\, and learn from them as well!
URL:https://www.fortatkinsonclub.org/event/2022-10-27/2022-10-20/
LOCATION:211 S Water St E\, 53538\, 211 South Water Street East\, Fort Atkinson\, WI\, 53538\, United States
ATTACH;FMTTYPE=image/jpeg:https://www.fortatkinsonclub.org/wp-content/uploads/2020/09/SallyWK.jpg
END:VEVENT
BEGIN:VEVENT
DTSTART;TZID=America/Chicago:20221017T173000
DTEND;TZID=America/Chicago:20221017T183000
DTSTAMP:20260424T005307
CREATED:20221005T223953Z
LAST-MODIFIED:20221005T224242Z
UID:10000098-1666027800-1666031400@www.fortatkinsonclub.org
SUMMARY:Fall '22 Yoga Series
DESCRIPTION:https://app.donorview.com/QMnMr
URL:https://www.fortatkinsonclub.org/event/fall-22-yoga-series/2022-10-17/
LOCATION:211 S Water St E\, 53538\, 211 South Water Street East\, Fort Atkinson\, WI\, 53538\, United States
END:VEVENT
BEGIN:VEVENT
DTSTART;TZID=America/Chicago:20221013T130000
DTEND;TZID=America/Chicago:20221013T160000
DTSTAMP:20260424T005307
CREATED:20220920T182605Z
LAST-MODIFIED:20220920T182605Z
UID:10000085-1665666000-1665676800@www.fortatkinsonclub.org
SUMMARY:Adult Painting
DESCRIPTION:Thursdays\, 1-4 PM\n8 week sessions: Sep/Oct\, Nov/Dec\, Jan/Feb\, Mar/Apr\, May/June\, July/Aug\nJoin us on Thursday afternoons from 1-4 PM on the River Level for Adult painting class. This class runs for 8 weeks\, and FAC Members enjoy a $10 discount\, when they sign up for all 8 weeks. Tom Jewell grew up in Arizona\, where he gained a love for nature and wildlife\, which he continues to enjoy in Wisconsin. Tom attended Marquette University and worked in graphic design\, corporate art and printing. Today he paints landscapes and wildlife in multiple mediums. His work has been displayed in numerous galleries\, exhibits and museums. His class allows you to work at your own pace in acrylic\, water color\, etc\, and take advantage of Tom’s expert advice and demonstrations. Enjoy the camaraderie of other students\, and learn from them as well!
URL:https://www.fortatkinsonclub.org/event/2022-10-27/2022-10-13/
LOCATION:211 S Water St E\, 53538\, 211 South Water Street East\, Fort Atkinson\, WI\, 53538\, United States
ATTACH;FMTTYPE=image/jpeg:https://www.fortatkinsonclub.org/wp-content/uploads/2020/09/SallyWK.jpg
END:VEVENT
BEGIN:VEVENT
DTSTART;TZID=America/Chicago:20221010T173000
DTEND;TZID=America/Chicago:20221010T183000
DTSTAMP:20260424T005307
CREATED:20221005T223953Z
LAST-MODIFIED:20221005T224242Z
UID:10000097-1665423000-1665426600@www.fortatkinsonclub.org
SUMMARY:Fall '22 Yoga Series
DESCRIPTION:https://app.donorview.com/QMnMr
URL:https://www.fortatkinsonclub.org/event/fall-22-yoga-series/2022-10-10/
LOCATION:211 S Water St E\, 53538\, 211 South Water Street East\, Fort Atkinson\, WI\, 53538\, United States
END:VEVENT
BEGIN:VEVENT
DTSTART;TZID=America/Chicago:20221006T130000
DTEND;TZID=America/Chicago:20221006T160000
DTSTAMP:20260424T005307
CREATED:20220920T182605Z
LAST-MODIFIED:20220920T182605Z
UID:10000084-1665061200-1665072000@www.fortatkinsonclub.org
SUMMARY:Adult Painting
DESCRIPTION:Thursdays\, 1-4 PM\n8 week sessions: Sep/Oct\, Nov/Dec\, Jan/Feb\, Mar/Apr\, May/June\, July/Aug\nJoin us on Thursday afternoons from 1-4 PM on the River Level for Adult painting class. This class runs for 8 weeks\, and FAC Members enjoy a $10 discount\, when they sign up for all 8 weeks. Tom Jewell grew up in Arizona\, where he gained a love for nature and wildlife\, which he continues to enjoy in Wisconsin. Tom attended Marquette University and worked in graphic design\, corporate art and printing. Today he paints landscapes and wildlife in multiple mediums. His work has been displayed in numerous galleries\, exhibits and museums. His class allows you to work at your own pace in acrylic\, water color\, etc\, and take advantage of Tom’s expert advice and demonstrations. Enjoy the camaraderie of other students\, and learn from them as well!
URL:https://www.fortatkinsonclub.org/event/2022-10-27/2022-10-06/
LOCATION:211 S Water St E\, 53538\, 211 South Water Street East\, Fort Atkinson\, WI\, 53538\, United States
ATTACH;FMTTYPE=image/jpeg:https://www.fortatkinsonclub.org/wp-content/uploads/2020/09/SallyWK.jpg
END:VEVENT
BEGIN:VEVENT
DTSTART;TZID=America/Chicago:20221003T173000
DTEND;TZID=America/Chicago:20221003T183000
DTSTAMP:20260424T005307
CREATED:20220808T192304Z
LAST-MODIFIED:20220906T181735Z
UID:10000009-1664818200-1664821800@www.fortatkinsonclub.org
SUMMARY:Weekly Yoga with Anne Drehfal
DESCRIPTION:Weekly on Mondays at 5:30-6:30 PM. Location in building is dependent on class size.\nhttps://app.donorview.com/mOMGx
URL:https://www.fortatkinsonclub.org/event/weekly-yoga-with-anne-drehfal/
LOCATION:211 S Water St E\, 53538\, 211 South Water Street East\, Fort Atkinson\, WI\, 53538\, United States
END:VEVENT
BEGIN:VEVENT
DTSTART;TZID=America/Chicago:20220929T130000
DTEND;TZID=America/Chicago:20220929T160000
DTSTAMP:20260424T005307
CREATED:20220920T182605Z
LAST-MODIFIED:20220920T182605Z
UID:10000083-1664456400-1664467200@www.fortatkinsonclub.org
SUMMARY:Adult Painting
DESCRIPTION:Thursdays\, 1-4 PM\n8 week sessions: Sep/Oct\, Nov/Dec\, Jan/Feb\, Mar/Apr\, May/June\, July/Aug\nJoin us on Thursday afternoons from 1-4 PM on the River Level for Adult painting class. This class runs for 8 weeks\, and FAC Members enjoy a $10 discount\, when they sign up for all 8 weeks. Tom Jewell grew up in Arizona\, where he gained a love for nature and wildlife\, which he continues to enjoy in Wisconsin. Tom attended Marquette University and worked in graphic design\, corporate art and printing. Today he paints landscapes and wildlife in multiple mediums. His work has been displayed in numerous galleries\, exhibits and museums. His class allows you to work at your own pace in acrylic\, water color\, etc\, and take advantage of Tom’s expert advice and demonstrations. Enjoy the camaraderie of other students\, and learn from them as well!
URL:https://www.fortatkinsonclub.org/event/2022-10-27/2022-09-29/
LOCATION:211 S Water St E\, 53538\, 211 South Water Street East\, Fort Atkinson\, WI\, 53538\, United States
ATTACH;FMTTYPE=image/jpeg:https://www.fortatkinsonclub.org/wp-content/uploads/2020/09/SallyWK.jpg
END:VEVENT
END:VCALENDAR