BEGIN:VCALENDAR
VERSION:2.0
PRODID:-//The Fort Atkinson Club - ECPv6.15.20//NONSGML v1.0//EN
CALSCALE:GREGORIAN
METHOD:PUBLISH
X-ORIGINAL-URL:https://www.fortatkinsonclub.org
X-WR-CALDESC:Events for The Fort Atkinson Club
REFRESH-INTERVAL;VALUE=DURATION:PT1H
X-Robots-Tag:noindex
X-PUBLISHED-TTL:PT1H
BEGIN:VTIMEZONE
TZID:America/Chicago
BEGIN:DAYLIGHT
TZOFFSETFROM:-0600
TZOFFSETTO:-0500
TZNAME:CDT
DTSTART:20200308T080000
END:DAYLIGHT
BEGIN:STANDARD
TZOFFSETFROM:-0500
TZOFFSETTO:-0600
TZNAME:CST
DTSTART:20201101T070000
END:STANDARD
BEGIN:DAYLIGHT
TZOFFSETFROM:-0600
TZOFFSETTO:-0500
TZNAME:CDT
DTSTART:20210314T080000
END:DAYLIGHT
BEGIN:STANDARD
TZOFFSETFROM:-0500
TZOFFSETTO:-0600
TZNAME:CST
DTSTART:20211107T070000
END:STANDARD
BEGIN:DAYLIGHT
TZOFFSETFROM:-0600
TZOFFSETTO:-0500
TZNAME:CDT
DTSTART:20220313T080000
END:DAYLIGHT
BEGIN:STANDARD
TZOFFSETFROM:-0500
TZOFFSETTO:-0600
TZNAME:CST
DTSTART:20221106T070000
END:STANDARD
BEGIN:DAYLIGHT
TZOFFSETFROM:-0600
TZOFFSETTO:-0500
TZNAME:CDT
DTSTART:20230312T080000
END:DAYLIGHT
BEGIN:STANDARD
TZOFFSETFROM:-0500
TZOFFSETTO:-0600
TZNAME:CST
DTSTART:20231105T070000
END:STANDARD
BEGIN:DAYLIGHT
TZOFFSETFROM:-0600
TZOFFSETTO:-0500
TZNAME:CDT
DTSTART:20240310T080000
END:DAYLIGHT
BEGIN:STANDARD
TZOFFSETFROM:-0500
TZOFFSETTO:-0600
TZNAME:CST
DTSTART:20241103T070000
END:STANDARD
BEGIN:DAYLIGHT
TZOFFSETFROM:-0600
TZOFFSETTO:-0500
TZNAME:CDT
DTSTART:20250309T080000
END:DAYLIGHT
BEGIN:STANDARD
TZOFFSETFROM:-0500
TZOFFSETTO:-0600
TZNAME:CST
DTSTART:20251102T070000
END:STANDARD
BEGIN:DAYLIGHT
TZOFFSETFROM:-0600
TZOFFSETTO:-0500
TZNAME:CDT
DTSTART:20260308T080000
END:DAYLIGHT
BEGIN:STANDARD
TZOFFSETFROM:-0500
TZOFFSETTO:-0600
TZNAME:CST
DTSTART:20261101T070000
END:STANDARD
BEGIN:DAYLIGHT
TZOFFSETFROM:-0600
TZOFFSETTO:-0500
TZNAME:CDT
DTSTART:20270314T080000
END:DAYLIGHT
BEGIN:STANDARD
TZOFFSETFROM:-0500
TZOFFSETTO:-0600
TZNAME:CST
DTSTART:20271107T070000
END:STANDARD
END:VTIMEZONE
BEGIN:VEVENT
DTSTART;TZID=America/Chicago:20260404T090000
DTEND;TZID=America/Chicago:20260404T120000
DTSTAMP:20260423T035319
CREATED:20260210T014558Z
LAST-MODIFIED:20260210T014558Z
UID:10002597-1775293200-1775304000@www.fortatkinsonclub.org
SUMMARY:Spring Into Wellness
DESCRIPTION:Join us for a FREE\, community-wide health and wellness event—now in its third year and proudly sponsored by Fort Healthcare. This event brings together local health and wellness vendors and organizations\, engaging fitness classes\, and complimentary snacks\, all designed to support and inspire your wellness journey. Spend the day connecting with health-focused experts\, learning practical skills\, and discovering resources that empower our community to feel better\, move more\, and stay prepared. \nOn the main floor\, explore a variety of vendors and community partners offering wellness services\, education\, and resources to help you maintain a healthier lifestyle. Participating vendors and organizations include: \n\nJefferson County Health Department\nFort HealthCare\nHometown Pharmacy\nFort Community Credit Union\nRock River Dental\nNancy Shea Clinical EFT\nFort Atkinson Senior Center\n\n**Interested in joining as a vendor? To reserve your space\, a $25 refundable deposit is required\, which will be returned at the end of the event. Please register before February 15. REGISTER HERE.\nOn the River/Lower Level\, participate in 25-minute fitness classes suitable for all levels\, including Chair Yoga and Standing Yoga.\n\nOn the Theater Level (2nd Floor)\, learn valuable emergency preparedness skills through hands-on demonstrations and training\, including AED use\, hands-only CPR\, and Narcan administration.
URL:https://www.fortatkinsonclub.org/event/spring-into-wellness/
LOCATION:211 S Water St E\, 53538\, 211 South Water Street East\, Fort Atkinson\, WI\, 53538\, United States
CATEGORIES:Health & Wellness
ATTACH;FMTTYPE=image/png:https://www.fortatkinsonclub.org/wp-content/uploads/2026/02/wellness-day-2026.png
END:VEVENT
BEGIN:VEVENT
DTSTART;TZID=America/Chicago:20251020T140000
DTEND;TZID=America/Chicago:20251020T190000
DTSTAMP:20260423T035319
CREATED:20250919T171904Z
LAST-MODIFIED:20250925T160108Z
UID:10002250-1760968800-1760986800@www.fortatkinsonclub.org
SUMMARY:Blood Drive sponsored by Fort HealthCare
DESCRIPTION:Don’t ghost us this Halloween season —book your blood donation appointment today and save lives. \nOne donation can help save up to three lives! \nHelp those in need by donating blood. Schedule your donation today! Schedule
URL:https://www.fortatkinsonclub.org/event/blood-drive-sponsored-by-fort-healthcare/
LOCATION:211 S Water St E\, 53538\, 211 South Water Street East\, Fort Atkinson\, WI\, 53538\, United States
CATEGORIES:Health & Wellness
ATTACH;FMTTYPE=image/png:https://www.fortatkinsonclub.org/wp-content/uploads/2025/09/Dont_Ghost_Us.png
END:VEVENT
BEGIN:VEVENT
DTSTART;TZID=America/Chicago:20240703T173000
DTEND;TZID=America/Chicago:20240703T183000
DTSTAMP:20260423T035319
CREATED:20240118T215849Z
LAST-MODIFIED:20240201T211319Z
UID:10000930-1720027800-1720031400@www.fortatkinsonclub.org
SUMMARY:Yoga with Gina Elmore
DESCRIPTION:Day: Wednesdays\nTime: 5:30-6:15\nPlace: River Level (Indoors)\nCost: $25/5 classes\nRegister: Fort Healthcare website\nDevelop the fundamentals of connecting breath to yoga postures\, learn techniques to release tension and improve strength and flexibility. Prior experience not required.\nClass equipment needed: Yoga blocks or thick books\, blanket/towel/mat\, and a yoga strap/belt/bathrobe tie.\n*This class is held EVERY Wednesday\, unless noted on FHC website \n  \n 
URL:https://www.fortatkinsonclub.org/event/yoga-with-gina-elmore/2024-07-03/
LOCATION:211 S Water St E\, 53538\, 211 South Water Street East\, Fort Atkinson\, WI\, 53538\, United States
ATTACH;FMTTYPE=image/jpeg:https://www.fortatkinsonclub.org/wp-content/uploads/2021/09/yoga-group.jpg
END:VEVENT
BEGIN:VEVENT
DTSTART;TZID=America/Chicago:20240529T173000
DTEND;TZID=America/Chicago:20240529T183000
DTSTAMP:20260423T035319
CREATED:20240118T215849Z
LAST-MODIFIED:20240201T211319Z
UID:10000929-1717003800-1717007400@www.fortatkinsonclub.org
SUMMARY:Yoga with Gina Elmore
DESCRIPTION:Day: Wednesdays\nTime: 5:30-6:15\nPlace: River Level (Indoors)\nCost: $25/5 classes\nRegister: Fort Healthcare website\nDevelop the fundamentals of connecting breath to yoga postures\, learn techniques to release tension and improve strength and flexibility. Prior experience not required.\nClass equipment needed: Yoga blocks or thick books\, blanket/towel/mat\, and a yoga strap/belt/bathrobe tie.\n*This class is held EVERY Wednesday\, unless noted on FHC website \n  \n 
URL:https://www.fortatkinsonclub.org/event/yoga-with-gina-elmore/2024-05-29/
LOCATION:211 S Water St E\, 53538\, 211 South Water Street East\, Fort Atkinson\, WI\, 53538\, United States
ATTACH;FMTTYPE=image/jpeg:https://www.fortatkinsonclub.org/wp-content/uploads/2021/09/yoga-group.jpg
END:VEVENT
BEGIN:VEVENT
DTSTART;TZID=America/Chicago:20240424T173000
DTEND;TZID=America/Chicago:20240424T183000
DTSTAMP:20260423T035319
CREATED:20240118T215849Z
LAST-MODIFIED:20240201T211319Z
UID:10000928-1713979800-1713983400@www.fortatkinsonclub.org
SUMMARY:Yoga with Gina Elmore
DESCRIPTION:Day: Wednesdays\nTime: 5:30-6:15\nPlace: River Level (Indoors)\nCost: $25/5 classes\nRegister: Fort Healthcare website\nDevelop the fundamentals of connecting breath to yoga postures\, learn techniques to release tension and improve strength and flexibility. Prior experience not required.\nClass equipment needed: Yoga blocks or thick books\, blanket/towel/mat\, and a yoga strap/belt/bathrobe tie.\n*This class is held EVERY Wednesday\, unless noted on FHC website \n  \n 
URL:https://www.fortatkinsonclub.org/event/yoga-with-gina-elmore/2024-04-24/
LOCATION:211 S Water St E\, 53538\, 211 South Water Street East\, Fort Atkinson\, WI\, 53538\, United States
ATTACH;FMTTYPE=image/jpeg:https://www.fortatkinsonclub.org/wp-content/uploads/2021/09/yoga-group.jpg
END:VEVENT
BEGIN:VEVENT
DTSTART;TZID=America/Chicago:20240326T173000
DTEND;TZID=America/Chicago:20240326T183000
DTSTAMP:20260423T035319
CREATED:20240213T212155Z
LAST-MODIFIED:20240213T212155Z
UID:10001733-1711474200-1711477800@www.fortatkinsonclub.org
SUMMARY:Body Blast with Tiffany Pernat
DESCRIPTION:Day: Tuesdays\nTime: 5:30-6:15\nPlace: River Level (Indoors)\nCost: $25/5 classes\nRegister: Fort Healthcare website\nThis  class will get your heart pumping and muscles toned while using hand weights and a mat. The class is designed to help you achieve health benefits such as maintaining bone density\, increasing strength and shaping your physique.\nEquipment: Please bring a mat and a medium set of dumbbells.\n*This class is held EVERY Tuesday\, unless noted on FHC website \n  \n 
URL:https://www.fortatkinsonclub.org/event/body-blast-with-tiffany-pernat/2024-03-26/
LOCATION:211 S Water St E\, 53538\, 211 South Water Street East\, Fort Atkinson\, WI\, 53538\, United States
ATTACH;FMTTYPE=image/jpeg:https://www.fortatkinsonclub.org/wp-content/uploads/2024/02/body-blast.jpeg
END:VEVENT
BEGIN:VEVENT
DTSTART;TZID=America/Chicago:20240320T173000
DTEND;TZID=America/Chicago:20240320T183000
DTSTAMP:20260423T035319
CREATED:20240118T215849Z
LAST-MODIFIED:20240201T211319Z
UID:10000927-1710955800-1710959400@www.fortatkinsonclub.org
SUMMARY:Yoga with Gina Elmore
DESCRIPTION:Day: Wednesdays\nTime: 5:30-6:15\nPlace: River Level (Indoors)\nCost: $25/5 classes\nRegister: Fort Healthcare website\nDevelop the fundamentals of connecting breath to yoga postures\, learn techniques to release tension and improve strength and flexibility. Prior experience not required.\nClass equipment needed: Yoga blocks or thick books\, blanket/towel/mat\, and a yoga strap/belt/bathrobe tie.\n*This class is held EVERY Wednesday\, unless noted on FHC website \n  \n 
URL:https://www.fortatkinsonclub.org/event/yoga-with-gina-elmore/2024-03-20/
LOCATION:211 S Water St E\, 53538\, 211 South Water Street East\, Fort Atkinson\, WI\, 53538\, United States
ATTACH;FMTTYPE=image/jpeg:https://www.fortatkinsonclub.org/wp-content/uploads/2021/09/yoga-group.jpg
END:VEVENT
BEGIN:VEVENT
DTSTART;TZID=America/Chicago:20240319T173000
DTEND;TZID=America/Chicago:20240319T183000
DTSTAMP:20260423T035319
CREATED:20240213T212155Z
LAST-MODIFIED:20240213T212155Z
UID:10001732-1710869400-1710873000@www.fortatkinsonclub.org
SUMMARY:Body Blast with Tiffany Pernat
DESCRIPTION:Day: Tuesdays\nTime: 5:30-6:15\nPlace: River Level (Indoors)\nCost: $25/5 classes\nRegister: Fort Healthcare website\nThis  class will get your heart pumping and muscles toned while using hand weights and a mat. The class is designed to help you achieve health benefits such as maintaining bone density\, increasing strength and shaping your physique.\nEquipment: Please bring a mat and a medium set of dumbbells.\n*This class is held EVERY Tuesday\, unless noted on FHC website \n  \n 
URL:https://www.fortatkinsonclub.org/event/body-blast-with-tiffany-pernat/2024-03-19/
LOCATION:211 S Water St E\, 53538\, 211 South Water Street East\, Fort Atkinson\, WI\, 53538\, United States
ATTACH;FMTTYPE=image/jpeg:https://www.fortatkinsonclub.org/wp-content/uploads/2024/02/body-blast.jpeg
END:VEVENT
BEGIN:VEVENT
DTSTART;TZID=America/Chicago:20240313T173000
DTEND;TZID=America/Chicago:20240313T183000
DTSTAMP:20260423T035319
CREATED:20240118T215849Z
LAST-MODIFIED:20240201T211319Z
UID:10000934-1710351000-1710354600@www.fortatkinsonclub.org
SUMMARY:Yoga with Gina Elmore
DESCRIPTION:Day: Wednesdays\nTime: 5:30-6:15\nPlace: River Level (Indoors)\nCost: $25/5 classes\nRegister: Fort Healthcare website\nDevelop the fundamentals of connecting breath to yoga postures\, learn techniques to release tension and improve strength and flexibility. Prior experience not required.\nClass equipment needed: Yoga blocks or thick books\, blanket/towel/mat\, and a yoga strap/belt/bathrobe tie.\n*This class is held EVERY Wednesday\, unless noted on FHC website \n  \n 
URL:https://www.fortatkinsonclub.org/event/yoga-with-gina-elmore/2024-03-13/
LOCATION:211 S Water St E\, 53538\, 211 South Water Street East\, Fort Atkinson\, WI\, 53538\, United States
ATTACH;FMTTYPE=image/jpeg:https://www.fortatkinsonclub.org/wp-content/uploads/2021/09/yoga-group.jpg
END:VEVENT
BEGIN:VEVENT
DTSTART;TZID=America/Chicago:20240306T173000
DTEND;TZID=America/Chicago:20240306T183000
DTSTAMP:20260423T035319
CREATED:20240118T215849Z
LAST-MODIFIED:20240201T211319Z
UID:10000933-1709746200-1709749800@www.fortatkinsonclub.org
SUMMARY:Yoga with Gina Elmore
DESCRIPTION:Day: Wednesdays\nTime: 5:30-6:15\nPlace: River Level (Indoors)\nCost: $25/5 classes\nRegister: Fort Healthcare website\nDevelop the fundamentals of connecting breath to yoga postures\, learn techniques to release tension and improve strength and flexibility. Prior experience not required.\nClass equipment needed: Yoga blocks or thick books\, blanket/towel/mat\, and a yoga strap/belt/bathrobe tie.\n*This class is held EVERY Wednesday\, unless noted on FHC website \n  \n 
URL:https://www.fortatkinsonclub.org/event/yoga-with-gina-elmore/2024-03-06/
LOCATION:211 S Water St E\, 53538\, 211 South Water Street East\, Fort Atkinson\, WI\, 53538\, United States
ATTACH;FMTTYPE=image/jpeg:https://www.fortatkinsonclub.org/wp-content/uploads/2021/09/yoga-group.jpg
END:VEVENT
BEGIN:VEVENT
DTSTART;TZID=America/Chicago:20240305T173000
DTEND;TZID=America/Chicago:20240305T183000
DTSTAMP:20260423T035319
CREATED:20240213T212155Z
LAST-MODIFIED:20240213T212155Z
UID:10001731-1709659800-1709663400@www.fortatkinsonclub.org
SUMMARY:Body Blast with Tiffany Pernat
DESCRIPTION:Day: Tuesdays\nTime: 5:30-6:15\nPlace: River Level (Indoors)\nCost: $25/5 classes\nRegister: Fort Healthcare website\nThis  class will get your heart pumping and muscles toned while using hand weights and a mat. The class is designed to help you achieve health benefits such as maintaining bone density\, increasing strength and shaping your physique.\nEquipment: Please bring a mat and a medium set of dumbbells.\n*This class is held EVERY Tuesday\, unless noted on FHC website \n  \n 
URL:https://www.fortatkinsonclub.org/event/body-blast-with-tiffany-pernat/2024-03-05/
LOCATION:211 S Water St E\, 53538\, 211 South Water Street East\, Fort Atkinson\, WI\, 53538\, United States
ATTACH;FMTTYPE=image/jpeg:https://www.fortatkinsonclub.org/wp-content/uploads/2024/02/body-blast.jpeg
END:VEVENT
BEGIN:VEVENT
DTSTART;TZID=America/Chicago:20240228T173000
DTEND;TZID=America/Chicago:20240228T183000
DTSTAMP:20260423T035319
CREATED:20240118T215849Z
LAST-MODIFIED:20240201T211319Z
UID:10000932-1709141400-1709145000@www.fortatkinsonclub.org
SUMMARY:Yoga with Gina Elmore
DESCRIPTION:Day: Wednesdays\nTime: 5:30-6:15\nPlace: River Level (Indoors)\nCost: $25/5 classes\nRegister: Fort Healthcare website\nDevelop the fundamentals of connecting breath to yoga postures\, learn techniques to release tension and improve strength and flexibility. Prior experience not required.\nClass equipment needed: Yoga blocks or thick books\, blanket/towel/mat\, and a yoga strap/belt/bathrobe tie.\n*This class is held EVERY Wednesday\, unless noted on FHC website \n  \n 
URL:https://www.fortatkinsonclub.org/event/yoga-with-gina-elmore/2024-02-28/
LOCATION:211 S Water St E\, 53538\, 211 South Water Street East\, Fort Atkinson\, WI\, 53538\, United States
ATTACH;FMTTYPE=image/jpeg:https://www.fortatkinsonclub.org/wp-content/uploads/2021/09/yoga-group.jpg
END:VEVENT
BEGIN:VEVENT
DTSTART;TZID=America/Chicago:20240227T173000
DTEND;TZID=America/Chicago:20240227T183000
DTSTAMP:20260423T035319
CREATED:20240213T212155Z
LAST-MODIFIED:20240213T212155Z
UID:10001730-1709055000-1709058600@www.fortatkinsonclub.org
SUMMARY:Body Blast with Tiffany Pernat
DESCRIPTION:Day: Tuesdays\nTime: 5:30-6:15\nPlace: River Level (Indoors)\nCost: $25/5 classes\nRegister: Fort Healthcare website\nThis  class will get your heart pumping and muscles toned while using hand weights and a mat. The class is designed to help you achieve health benefits such as maintaining bone density\, increasing strength and shaping your physique.\nEquipment: Please bring a mat and a medium set of dumbbells.\n*This class is held EVERY Tuesday\, unless noted on FHC website \n  \n 
URL:https://www.fortatkinsonclub.org/event/body-blast-with-tiffany-pernat/2024-02-27/
LOCATION:211 S Water St E\, 53538\, 211 South Water Street East\, Fort Atkinson\, WI\, 53538\, United States
ATTACH;FMTTYPE=image/jpeg:https://www.fortatkinsonclub.org/wp-content/uploads/2024/02/body-blast.jpeg
END:VEVENT
BEGIN:VEVENT
DTSTART;TZID=America/Chicago:20240221T173000
DTEND;TZID=America/Chicago:20240221T183000
DTSTAMP:20260423T035319
CREATED:20240118T215849Z
LAST-MODIFIED:20240201T211319Z
UID:10000931-1708536600-1708540200@www.fortatkinsonclub.org
SUMMARY:Yoga with Gina Elmore
DESCRIPTION:Day: Wednesdays\nTime: 5:30-6:15\nPlace: River Level (Indoors)\nCost: $25/5 classes\nRegister: Fort Healthcare website\nDevelop the fundamentals of connecting breath to yoga postures\, learn techniques to release tension and improve strength and flexibility. Prior experience not required.\nClass equipment needed: Yoga blocks or thick books\, blanket/towel/mat\, and a yoga strap/belt/bathrobe tie.\n*This class is held EVERY Wednesday\, unless noted on FHC website \n  \n 
URL:https://www.fortatkinsonclub.org/event/yoga-with-gina-elmore/2024-02-21/
LOCATION:211 S Water St E\, 53538\, 211 South Water Street East\, Fort Atkinson\, WI\, 53538\, United States
ATTACH;FMTTYPE=image/jpeg:https://www.fortatkinsonclub.org/wp-content/uploads/2021/09/yoga-group.jpg
END:VEVENT
BEGIN:VEVENT
DTSTART;TZID=America/Chicago:20240220T173000
DTEND;TZID=America/Chicago:20240220T183000
DTSTAMP:20260423T035319
CREATED:20240213T212155Z
LAST-MODIFIED:20240213T212155Z
UID:10001712-1708450200-1708453800@www.fortatkinsonclub.org
SUMMARY:Body Blast with Tiffany Pernat
DESCRIPTION:Day: Tuesdays\nTime: 5:30-6:15\nPlace: River Level (Indoors)\nCost: $25/5 classes\nRegister: Fort Healthcare website\nThis  class will get your heart pumping and muscles toned while using hand weights and a mat. The class is designed to help you achieve health benefits such as maintaining bone density\, increasing strength and shaping your physique.\nEquipment: Please bring a mat and a medium set of dumbbells.\n*This class is held EVERY Tuesday\, unless noted on FHC website \n  \n 
URL:https://www.fortatkinsonclub.org/event/body-blast-with-tiffany-pernat/2024-02-20/
LOCATION:211 S Water St E\, 53538\, 211 South Water Street East\, Fort Atkinson\, WI\, 53538\, United States
ATTACH;FMTTYPE=image/jpeg:https://www.fortatkinsonclub.org/wp-content/uploads/2024/02/body-blast.jpeg
END:VEVENT
BEGIN:VEVENT
DTSTART;TZID=America/Chicago:20240214T173000
DTEND;TZID=America/Chicago:20240214T183000
DTSTAMP:20260423T035319
CREATED:20240118T215849Z
LAST-MODIFIED:20240201T211319Z
UID:10000922-1707931800-1707935400@www.fortatkinsonclub.org
SUMMARY:Yoga with Gina Elmore
DESCRIPTION:Day: Wednesdays\nTime: 5:30-6:15\nPlace: River Level (Indoors)\nCost: $25/5 classes\nRegister: Fort Healthcare website\nDevelop the fundamentals of connecting breath to yoga postures\, learn techniques to release tension and improve strength and flexibility. Prior experience not required.\nClass equipment needed: Yoga blocks or thick books\, blanket/towel/mat\, and a yoga strap/belt/bathrobe tie.\n*This class is held EVERY Wednesday\, unless noted on FHC website \n  \n 
URL:https://www.fortatkinsonclub.org/event/yoga-with-gina-elmore/2024-02-14/
LOCATION:211 S Water St E\, 53538\, 211 South Water Street East\, Fort Atkinson\, WI\, 53538\, United States
ATTACH;FMTTYPE=image/jpeg:https://www.fortatkinsonclub.org/wp-content/uploads/2021/09/yoga-group.jpg
END:VEVENT
BEGIN:VEVENT
DTSTART;TZID=America/Chicago:20230913T171500
DTEND;TZID=America/Chicago:20230913T180000
DTSTAMP:20260423T035319
CREATED:20230831T152435Z
LAST-MODIFIED:20230831T152435Z
UID:10000912-1694625300-1694628000@www.fortatkinsonclub.org
SUMMARY:Yoga with Gina
DESCRIPTION:
URL:https://www.fortatkinsonclub.org/event/yoga-with-gina-13/
LOCATION:211 S Water St E\, 53538\, 211 South Water Street East\, Fort Atkinson\, WI\, 53538\, United States
END:VEVENT
BEGIN:VEVENT
DTSTART;TZID=America/Chicago:20210511T190000
DTEND;TZID=America/Chicago:20210511T200000
DTSTAMP:20260423T035319
CREATED:20210304T154312Z
LAST-MODIFIED:20210304T154312Z
UID:10000044-1620759600-1620763200@www.fortatkinsonclub.org
SUMMARY:FACTalks: 2021 Spring Lecture Series
DESCRIPTION:Join us on Tuesday evenings at 7PM via Zoom for interesting and fun talks on a variety of topics by experts in their fields! Tonight’s topic will be Mental Health during COVID\, presented by Alicia Leslie of Fort Healthcare.
URL:https://www.fortatkinsonclub.org/event/factalks-2021-spring-lecture-series-5/
END:VEVENT
BEGIN:VEVENT
DTSTART;TZID=America/Chicago:20210427T190000
DTEND;TZID=America/Chicago:20210427T200000
DTSTAMP:20260423T035319
CREATED:20210304T153359Z
LAST-MODIFIED:20210304T153359Z
UID:10000045-1619550000-1619553600@www.fortatkinsonclub.org
SUMMARY:FACTalks: 2021 Spring Lecture Series
DESCRIPTION:Join us on Tuesday evenings at 7PM via Zoom for interesting and fun talks on a variety of topics by experts in their fields! Tonight’s topic will be COVID-19 Vaccines\, presented by Sarah Pagenkopf\, Fort Healthcare.
URL:https://www.fortatkinsonclub.org/event/factalks-2021-spring-lecture-series-4/
END:VEVENT
BEGIN:VEVENT
DTSTART;TZID=America/Chicago:20210413T190000
DTEND;TZID=America/Chicago:20210413T200000
DTSTAMP:20260423T035319
CREATED:20210304T153048Z
LAST-MODIFIED:20210304T153048Z
UID:10000046-1618340400-1618344000@www.fortatkinsonclub.org
SUMMARY:FACTalks: 2021 Spring Lecture Series
DESCRIPTION:Join us on Tuesday evenings at 7PM via Zoom for interesting and fun talks on a variety of topics by experts in their fields!  This week will feature a Panel Discussion on Staying in business during COVID. The panel:  \n\nTim Humphrey\, Humphrey Floral and Gifts\nIvy Miles\, Ivy’s Holistic Arts\nErin Patterson\, Paddy Coughlin’s Pub and Paddy’s Paws
URL:https://www.fortatkinsonclub.org/event/factalks-2021-spring-lecture-series-3/
END:VEVENT
BEGIN:VEVENT
DTSTART;TZID=America/Chicago:20210330T190000
DTEND;TZID=America/Chicago:20210330T200000
DTSTAMP:20260423T035319
CREATED:20210304T152524Z
LAST-MODIFIED:20210304T152524Z
UID:10000047-1617130800-1617134400@www.fortatkinsonclub.org
SUMMARY:FACTalks: 2021 Spring Lecture Series
DESCRIPTION:Join us on Tuesday evenings at 7PM via Zoom for interesting and fun talks on a variety of topics by experts in their fields! Tonight’s topic will be The future of Environments and Cities\, post-COVID\, Presented by Paul Robbins\, Director of\nThe Nelson Institute
URL:https://www.fortatkinsonclub.org/event/factalks-2021-spring-lecture-series-2/
END:VEVENT
BEGIN:VEVENT
DTSTART;TZID=America/Chicago:20210323T190000
DTEND;TZID=America/Chicago:20210323T200000
DTSTAMP:20260423T035319
CREATED:20210304T152049Z
LAST-MODIFIED:20210304T152049Z
UID:10000048-1616526000-1616529600@www.fortatkinsonclub.org
SUMMARY:FACTalks: 2021 Spring Lecture Series
DESCRIPTION:Join us on Tuesday evenings at 7PM via Zoom for interesting and fun talks on a variety of topics by experts in their fields! Tonight’s topic will be Milwaukee’s Integrated WPA Handicrafts Project\, Presented by Matthew Prigge\, from the Wisconsin Historical Society.
URL:https://www.fortatkinsonclub.org/event/factalks-2021-spring-lecture-series/
END:VEVENT
BEGIN:VEVENT
DTSTART;TZID=America/Chicago:20210316T190000
DTEND;TZID=America/Chicago:20210316T200000
DTSTAMP:20260423T035319
CREATED:20210301T173004Z
LAST-MODIFIED:20210304T154636Z
UID:10000015-1615921200-1615924800@www.fortatkinsonclub.org
SUMMARY:FACTalks: 2021 Spring Lecture Series
DESCRIPTION:Join us on Tuesday evenings at 7PM via Zoom for interesting and fun talks on a variety of topics by experts in their fields! First up will be Susan Carpenter\, from the UW Arboretum\, talking about Bumblebee conservation.
URL:https://www.fortatkinsonclub.org/event/factalks-spring-lecture-series/
END:VEVENT
END:VCALENDAR