BEGIN:VCALENDAR
VERSION:2.0
PRODID:-//The Fort Atkinson Club - ECPv6.15.20//NONSGML v1.0//EN
CALSCALE:GREGORIAN
METHOD:PUBLISH
X-WR-CALNAME:The Fort Atkinson Club
X-ORIGINAL-URL:https://www.fortatkinsonclub.org
X-WR-CALDESC:Events for The Fort Atkinson Club
REFRESH-INTERVAL;VALUE=DURATION:PT1H
X-Robots-Tag:noindex
X-PUBLISHED-TTL:PT1H
BEGIN:VTIMEZONE
TZID:America/Chicago
BEGIN:DAYLIGHT
TZOFFSETFROM:-0600
TZOFFSETTO:-0500
TZNAME:CDT
DTSTART:20210314T080000
END:DAYLIGHT
BEGIN:STANDARD
TZOFFSETFROM:-0500
TZOFFSETTO:-0600
TZNAME:CST
DTSTART:20211107T070000
END:STANDARD
BEGIN:DAYLIGHT
TZOFFSETFROM:-0600
TZOFFSETTO:-0500
TZNAME:CDT
DTSTART:20220313T080000
END:DAYLIGHT
BEGIN:STANDARD
TZOFFSETFROM:-0500
TZOFFSETTO:-0600
TZNAME:CST
DTSTART:20221106T070000
END:STANDARD
BEGIN:DAYLIGHT
TZOFFSETFROM:-0600
TZOFFSETTO:-0500
TZNAME:CDT
DTSTART:20230312T080000
END:DAYLIGHT
BEGIN:STANDARD
TZOFFSETFROM:-0500
TZOFFSETTO:-0600
TZNAME:CST
DTSTART:20231105T070000
END:STANDARD
BEGIN:DAYLIGHT
TZOFFSETFROM:-0600
TZOFFSETTO:-0500
TZNAME:CDT
DTSTART:20240310T080000
END:DAYLIGHT
BEGIN:STANDARD
TZOFFSETFROM:-0500
TZOFFSETTO:-0600
TZNAME:CST
DTSTART:20241103T070000
END:STANDARD
END:VTIMEZONE
BEGIN:VEVENT
DTSTART;TZID=America/Chicago:20230723T160000
DTEND;TZID=America/Chicago:20230723T173000
DTSTAMP:20260425T082317
CREATED:20230712T161931Z
LAST-MODIFIED:20230712T161931Z
UID:10000863-1690128000-1690133400@www.fortatkinsonclub.org
SUMMARY:CHAMBER CONCERT - MIDTOWN STRINGS
DESCRIPTION:
URL:https://www.fortatkinsonclub.org/event/chamber-concert-midtown-strings/
LOCATION:211 S Water St E\, 53538\, 211 South Water Street East\, Fort Atkinson\, WI\, 53538\, United States
END:VEVENT
BEGIN:VEVENT
DTSTART;TZID=America/Chicago:20221219T120000
DTEND;TZID=America/Chicago:20221219T130000
DTSTAMP:20260425T082317
CREATED:20220920T184658Z
LAST-MODIFIED:20220926T200540Z
UID:10000096-1671451200-1671454800@www.fortatkinsonclub.org
SUMMARY:Rotary Club Meeting
DESCRIPTION:Mondays\, 12 pm-1 pm\nJoin the Fort Atkinson Rotary Club every Monday for a NOON meeting with lunch provided by Steel Away Cafe\, at Fort Healthcare.  These meetings are held on the River Level of the FAC.  Every 4th Monday is an EVENING meeting at a local restaurant or pub\, location announced at noon meetings. There is a SOCIAL meeting in the evening\, when a 5th Monday occurs.
URL:https://www.fortatkinsonclub.org/event/rotary-club-meeting-2022-10-03/2022-12-19/
LOCATION:211 S Water St E\, 53538\, 211 South Water Street East\, Fort Atkinson\, WI\, 53538\, United States
ATTACH;FMTTYPE=image/png:https://www.fortatkinsonclub.org/wp-content/uploads/2022/09/WeAreRotary.png
END:VEVENT
BEGIN:VEVENT
DTSTART;TZID=America/Chicago:20221212T120000
DTEND;TZID=America/Chicago:20221212T130000
DTSTAMP:20260425T082317
CREATED:20220920T184658Z
LAST-MODIFIED:20220926T200540Z
UID:10000095-1670846400-1670850000@www.fortatkinsonclub.org
SUMMARY:Rotary Club Meeting
DESCRIPTION:Mondays\, 12 pm-1 pm\nJoin the Fort Atkinson Rotary Club every Monday for a NOON meeting with lunch provided by Steel Away Cafe\, at Fort Healthcare.  These meetings are held on the River Level of the FAC.  Every 4th Monday is an EVENING meeting at a local restaurant or pub\, location announced at noon meetings. There is a SOCIAL meeting in the evening\, when a 5th Monday occurs.
URL:https://www.fortatkinsonclub.org/event/rotary-club-meeting-2022-10-03/2022-12-12/
LOCATION:211 S Water St E\, 53538\, 211 South Water Street East\, Fort Atkinson\, WI\, 53538\, United States
ATTACH;FMTTYPE=image/png:https://www.fortatkinsonclub.org/wp-content/uploads/2022/09/WeAreRotary.png
END:VEVENT
BEGIN:VEVENT
DTSTART;TZID=America/Chicago:20221205T120000
DTEND;TZID=America/Chicago:20221205T130000
DTSTAMP:20260425T082317
CREATED:20220920T184658Z
LAST-MODIFIED:20220926T200540Z
UID:10000094-1670241600-1670245200@www.fortatkinsonclub.org
SUMMARY:Rotary Club Meeting
DESCRIPTION:Mondays\, 12 pm-1 pm\nJoin the Fort Atkinson Rotary Club every Monday for a NOON meeting with lunch provided by Steel Away Cafe\, at Fort Healthcare.  These meetings are held on the River Level of the FAC.  Every 4th Monday is an EVENING meeting at a local restaurant or pub\, location announced at noon meetings. There is a SOCIAL meeting in the evening\, when a 5th Monday occurs.
URL:https://www.fortatkinsonclub.org/event/rotary-club-meeting-2022-10-03/2022-12-05/
LOCATION:211 S Water St E\, 53538\, 211 South Water Street East\, Fort Atkinson\, WI\, 53538\, United States
ATTACH;FMTTYPE=image/png:https://www.fortatkinsonclub.org/wp-content/uploads/2022/09/WeAreRotary.png
END:VEVENT
BEGIN:VEVENT
DTSTART;TZID=America/Chicago:20221121T120000
DTEND;TZID=America/Chicago:20221121T130000
DTSTAMP:20260425T082317
CREATED:20220920T184658Z
LAST-MODIFIED:20220926T200540Z
UID:10000093-1669032000-1669035600@www.fortatkinsonclub.org
SUMMARY:Rotary Club Meeting
DESCRIPTION:Mondays\, 12 pm-1 pm\nJoin the Fort Atkinson Rotary Club every Monday for a NOON meeting with lunch provided by Steel Away Cafe\, at Fort Healthcare.  These meetings are held on the River Level of the FAC.  Every 4th Monday is an EVENING meeting at a local restaurant or pub\, location announced at noon meetings. There is a SOCIAL meeting in the evening\, when a 5th Monday occurs.
URL:https://www.fortatkinsonclub.org/event/rotary-club-meeting-2022-10-03/2022-11-21/
LOCATION:211 S Water St E\, 53538\, 211 South Water Street East\, Fort Atkinson\, WI\, 53538\, United States
ATTACH;FMTTYPE=image/png:https://www.fortatkinsonclub.org/wp-content/uploads/2022/09/WeAreRotary.png
END:VEVENT
BEGIN:VEVENT
DTSTART;TZID=America/Chicago:20221114T120000
DTEND;TZID=America/Chicago:20221114T130000
DTSTAMP:20260425T082317
CREATED:20220920T184658Z
LAST-MODIFIED:20220926T200540Z
UID:10000092-1668427200-1668430800@www.fortatkinsonclub.org
SUMMARY:Rotary Club Meeting
DESCRIPTION:Mondays\, 12 pm-1 pm\nJoin the Fort Atkinson Rotary Club every Monday for a NOON meeting with lunch provided by Steel Away Cafe\, at Fort Healthcare.  These meetings are held on the River Level of the FAC.  Every 4th Monday is an EVENING meeting at a local restaurant or pub\, location announced at noon meetings. There is a SOCIAL meeting in the evening\, when a 5th Monday occurs.
URL:https://www.fortatkinsonclub.org/event/rotary-club-meeting-2022-10-03/2022-11-14/
LOCATION:211 S Water St E\, 53538\, 211 South Water Street East\, Fort Atkinson\, WI\, 53538\, United States
ATTACH;FMTTYPE=image/png:https://www.fortatkinsonclub.org/wp-content/uploads/2022/09/WeAreRotary.png
END:VEVENT
BEGIN:VEVENT
DTSTART;TZID=America/Chicago:20221107T120000
DTEND;TZID=America/Chicago:20221107T130000
DTSTAMP:20260425T082317
CREATED:20220920T184658Z
LAST-MODIFIED:20220926T200540Z
UID:10000091-1667822400-1667826000@www.fortatkinsonclub.org
SUMMARY:Rotary Club Meeting
DESCRIPTION:Mondays\, 12 pm-1 pm\nJoin the Fort Atkinson Rotary Club every Monday for a NOON meeting with lunch provided by Steel Away Cafe\, at Fort Healthcare.  These meetings are held on the River Level of the FAC.  Every 4th Monday is an EVENING meeting at a local restaurant or pub\, location announced at noon meetings. There is a SOCIAL meeting in the evening\, when a 5th Monday occurs.
URL:https://www.fortatkinsonclub.org/event/rotary-club-meeting-2022-10-03/2022-11-07/
LOCATION:211 S Water St E\, 53538\, 211 South Water Street East\, Fort Atkinson\, WI\, 53538\, United States
ATTACH;FMTTYPE=image/png:https://www.fortatkinsonclub.org/wp-content/uploads/2022/09/WeAreRotary.png
END:VEVENT
BEGIN:VEVENT
DTSTART;TZID=America/Chicago:20221017T120000
DTEND;TZID=America/Chicago:20221017T130000
DTSTAMP:20260425T082317
CREATED:20220920T184658Z
LAST-MODIFIED:20220926T200540Z
UID:10000090-1666008000-1666011600@www.fortatkinsonclub.org
SUMMARY:Rotary Club Meeting
DESCRIPTION:Mondays\, 12 pm-1 pm\nJoin the Fort Atkinson Rotary Club every Monday for a NOON meeting with lunch provided by Steel Away Cafe\, at Fort Healthcare.  These meetings are held on the River Level of the FAC.  Every 4th Monday is an EVENING meeting at a local restaurant or pub\, location announced at noon meetings. There is a SOCIAL meeting in the evening\, when a 5th Monday occurs.
URL:https://www.fortatkinsonclub.org/event/rotary-club-meeting-2022-10-03/2022-10-17/
LOCATION:211 S Water St E\, 53538\, 211 South Water Street East\, Fort Atkinson\, WI\, 53538\, United States
ATTACH;FMTTYPE=image/png:https://www.fortatkinsonclub.org/wp-content/uploads/2022/09/WeAreRotary.png
END:VEVENT
BEGIN:VEVENT
DTSTART;TZID=America/Chicago:20221010T120000
DTEND;TZID=America/Chicago:20221010T130000
DTSTAMP:20260425T082317
CREATED:20220920T184658Z
LAST-MODIFIED:20220926T200540Z
UID:10000089-1665403200-1665406800@www.fortatkinsonclub.org
SUMMARY:Rotary Club Meeting
DESCRIPTION:Mondays\, 12 pm-1 pm\nJoin the Fort Atkinson Rotary Club every Monday for a NOON meeting with lunch provided by Steel Away Cafe\, at Fort Healthcare.  These meetings are held on the River Level of the FAC.  Every 4th Monday is an EVENING meeting at a local restaurant or pub\, location announced at noon meetings. There is a SOCIAL meeting in the evening\, when a 5th Monday occurs.
URL:https://www.fortatkinsonclub.org/event/rotary-club-meeting-2022-10-03/2022-10-10/
LOCATION:211 S Water St E\, 53538\, 211 South Water Street East\, Fort Atkinson\, WI\, 53538\, United States
ATTACH;FMTTYPE=image/png:https://www.fortatkinsonclub.org/wp-content/uploads/2022/09/WeAreRotary.png
END:VEVENT
BEGIN:VEVENT
DTSTART;TZID=America/Chicago:20221003T120000
DTEND;TZID=America/Chicago:20221003T130000
DTSTAMP:20260425T082317
CREATED:20220920T184658Z
LAST-MODIFIED:20220926T200540Z
UID:10000088-1664798400-1664802000@www.fortatkinsonclub.org
SUMMARY:Rotary Club Meeting
DESCRIPTION:Mondays\, 12 pm-1 pm\nJoin the Fort Atkinson Rotary Club every Monday for a NOON meeting with lunch provided by Steel Away Cafe\, at Fort Healthcare.  These meetings are held on the River Level of the FAC.  Every 4th Monday is an EVENING meeting at a local restaurant or pub\, location announced at noon meetings. There is a SOCIAL meeting in the evening\, when a 5th Monday occurs.
URL:https://www.fortatkinsonclub.org/event/rotary-club-meeting-2022-10-03/2022-10-03/
LOCATION:211 S Water St E\, 53538\, 211 South Water Street East\, Fort Atkinson\, WI\, 53538\, United States
ATTACH;FMTTYPE=image/png:https://www.fortatkinsonclub.org/wp-content/uploads/2022/09/WeAreRotary.png
END:VEVENT
END:VCALENDAR