BEGIN:VCALENDAR
VERSION:2.0
PRODID:-//The Fort Atkinson Club - ECPv6.15.20//NONSGML v1.0//EN
CALSCALE:GREGORIAN
METHOD:PUBLISH
X-WR-CALNAME:The Fort Atkinson Club
X-ORIGINAL-URL:https://www.fortatkinsonclub.org
X-WR-CALDESC:Events for The Fort Atkinson Club
REFRESH-INTERVAL;VALUE=DURATION:PT1H
X-Robots-Tag:noindex
X-PUBLISHED-TTL:PT1H
BEGIN:VTIMEZONE
TZID:America/Chicago
BEGIN:DAYLIGHT
TZOFFSETFROM:-0600
TZOFFSETTO:-0500
TZNAME:CDT
DTSTART:20210314T080000
END:DAYLIGHT
BEGIN:STANDARD
TZOFFSETFROM:-0500
TZOFFSETTO:-0600
TZNAME:CST
DTSTART:20211107T070000
END:STANDARD
BEGIN:DAYLIGHT
TZOFFSETFROM:-0600
TZOFFSETTO:-0500
TZNAME:CDT
DTSTART:20220313T080000
END:DAYLIGHT
BEGIN:STANDARD
TZOFFSETFROM:-0500
TZOFFSETTO:-0600
TZNAME:CST
DTSTART:20221106T070000
END:STANDARD
BEGIN:DAYLIGHT
TZOFFSETFROM:-0600
TZOFFSETTO:-0500
TZNAME:CDT
DTSTART:20230312T080000
END:DAYLIGHT
BEGIN:STANDARD
TZOFFSETFROM:-0500
TZOFFSETTO:-0600
TZNAME:CST
DTSTART:20231105T070000
END:STANDARD
BEGIN:DAYLIGHT
TZOFFSETFROM:-0600
TZOFFSETTO:-0500
TZNAME:CDT
DTSTART:20240310T080000
END:DAYLIGHT
BEGIN:STANDARD
TZOFFSETFROM:-0500
TZOFFSETTO:-0600
TZNAME:CST
DTSTART:20241103T070000
END:STANDARD
BEGIN:DAYLIGHT
TZOFFSETFROM:-0600
TZOFFSETTO:-0500
TZNAME:CDT
DTSTART:20250309T080000
END:DAYLIGHT
BEGIN:STANDARD
TZOFFSETFROM:-0500
TZOFFSETTO:-0600
TZNAME:CST
DTSTART:20251102T070000
END:STANDARD
END:VTIMEZONE
BEGIN:VEVENT
DTSTART;TZID=America/Chicago:20240313T080000
DTEND;TZID=America/Chicago:20240313T170000
DTSTAMP:20260423T184836
CREATED:20240314T032857Z
LAST-MODIFIED:20240314T032951Z
UID:10001734-1710316800-1710349200@www.fortatkinsonclub.org
SUMMARY:Music Lessons
DESCRIPTION:For Kids and Adults\, one-on-one.  Piano and Strings.  Angela Martin-Licari is Assistant Concert Master of the Beloit Symphony Orchestra\, and has taught at the FAC for over 8 years.  Her personal repertoire includes classical as well as bluegrass\, old-timey\, classic country and rock.
URL:https://www.fortatkinsonclub.org/event/music-lessons-with-angela-4-2/2024-03-13/
LOCATION:211 S Water St E\, 53538\, 211 South Water Street East\, Fort Atkinson\, WI\, 53538\, United States
ATTACH;FMTTYPE=image/jpeg:https://www.fortatkinsonclub.org/wp-content/uploads/2023/05/concert-hall-8.jpg
END:VEVENT
BEGIN:VEVENT
DTSTART;TZID=America/Chicago:20240227T160000
DTEND;TZID=America/Chicago:20240227T190000
DTSTAMP:20260423T184836
CREATED:20240314T032857Z
LAST-MODIFIED:20240314T032951Z
UID:10001450-1709049600-1709060400@www.fortatkinsonclub.org
SUMMARY:Music Lessons
DESCRIPTION:For Kids and Adults\, one-on-one.  Piano and Strings.  Angela Martin-Licari is Assistant Concert Master of the Beloit Symphony Orchestra\, and has taught at the FAC for over 8 years.  Her personal repertoire includes classical as well as bluegrass\, old-timey\, classic country and rock.
URL:https://www.fortatkinsonclub.org/event/music-lessons-with-angela-4-2/2024-02-27/
LOCATION:211 S Water St E\, 53538\, 211 South Water Street East\, Fort Atkinson\, WI\, 53538\, United States
ATTACH;FMTTYPE=image/jpeg:https://www.fortatkinsonclub.org/wp-content/uploads/2023/05/concert-hall-8.jpg
END:VEVENT
BEGIN:VEVENT
DTSTART;TZID=America/Chicago:20240220T160000
DTEND;TZID=America/Chicago:20240220T190000
DTSTAMP:20260423T184836
CREATED:20240204T163149Z
LAST-MODIFIED:20240208T203434Z
UID:10001449-1708444800-1708455600@www.fortatkinsonclub.org
SUMMARY:Music Lessons with Angela
DESCRIPTION:For Kids and Adults\, one-on-one.  Piano and Strings.  Angela Martin-Licari is Assistant Concert Master of the Beloit Symphony Orchestra\, and has taught at the FAC for over 8 years.  Her personal repertoire includes classical as well as bluegrass\, old-timey\, classic country and rock.
URL:https://www.fortatkinsonclub.org/event/music-lessons-with-angela-4/2024-02-20/
LOCATION:211 S Water St E\, 53538\, 211 South Water Street East\, Fort Atkinson\, WI\, 53538\, United States
ATTACH;FMTTYPE=image/jpeg:https://www.fortatkinsonclub.org/wp-content/uploads/2023/05/concert-hall-8.jpg
END:VEVENT
BEGIN:VEVENT
DTSTART;TZID=America/Chicago:20240213T160000
DTEND;TZID=America/Chicago:20240213T190000
DTSTAMP:20260423T184836
CREATED:20240204T163149Z
LAST-MODIFIED:20240208T203434Z
UID:10001448-1707840000-1707850800@www.fortatkinsonclub.org
SUMMARY:Music Lessons with Angela
DESCRIPTION:For Kids and Adults\, one-on-one.  Piano and Strings.  Angela Martin-Licari is Assistant Concert Master of the Beloit Symphony Orchestra\, and has taught at the FAC for over 8 years.  Her personal repertoire includes classical as well as bluegrass\, old-timey\, classic country and rock.
URL:https://www.fortatkinsonclub.org/event/music-lessons-with-angela-4/2024-02-13/
LOCATION:211 S Water St E\, 53538\, 211 South Water Street East\, Fort Atkinson\, WI\, 53538\, United States
ATTACH;FMTTYPE=image/jpeg:https://www.fortatkinsonclub.org/wp-content/uploads/2023/05/concert-hall-8.jpg
END:VEVENT
BEGIN:VEVENT
DTSTART;TZID=America/Chicago:20240206T160000
DTEND;TZID=America/Chicago:20240206T190000
DTSTAMP:20260423T184836
CREATED:20240204T163149Z
LAST-MODIFIED:20240208T203434Z
UID:10000131-1707235200-1707246000@www.fortatkinsonclub.org
SUMMARY:Music Lessons with Angela
DESCRIPTION:For Kids and Adults\, one-on-one.  Piano and Strings.  Angela Martin-Licari is Assistant Concert Master of the Beloit Symphony Orchestra\, and has taught at the FAC for over 8 years.  Her personal repertoire includes classical as well as bluegrass\, old-timey\, classic country and rock.
URL:https://www.fortatkinsonclub.org/event/music-lessons-with-angela-4/2024-02-06/
LOCATION:211 S Water St E\, 53538\, 211 South Water Street East\, Fort Atkinson\, WI\, 53538\, United States
ATTACH;FMTTYPE=image/jpeg:https://www.fortatkinsonclub.org/wp-content/uploads/2023/05/concert-hall-8.jpg
END:VEVENT
BEGIN:VEVENT
DTSTART;TZID=America/Chicago:20221227T160000
DTEND;TZID=America/Chicago:20221227T190000
DTSTAMP:20260423T184836
CREATED:20221024T212239Z
LAST-MODIFIED:20221024T212239Z
UID:10000130-1672156800-1672167600@www.fortatkinsonclub.org
SUMMARY:Music Lessons with Angela
DESCRIPTION:For Kids and Adults\, one-on-one.  Piano and Strings.  Angela Martin-Licari is Assistant Concert Master of the Beloit Symphony Orchestra\, and has taught at the FAC for over 7 years.  Her personal repertoire includes classical as well as bluegrass\, old-timey\, classic country and rock.
URL:https://www.fortatkinsonclub.org/event/music-lessons-with-angela/2022-12-27/
LOCATION:211 S Water St E\, 53538\, 211 South Water Street East\, Fort Atkinson\, WI\, 53538\, United States
END:VEVENT
BEGIN:VEVENT
DTSTART;TZID=America/Chicago:20221221T160000
DTEND;TZID=America/Chicago:20221221T190000
DTSTAMP:20260423T184836
CREATED:20221024T212239Z
LAST-MODIFIED:20221024T212239Z
UID:10000129-1671638400-1671649200@www.fortatkinsonclub.org
SUMMARY:Music Lessons with Angela
DESCRIPTION:For Kids and Adults\, one-on-one.  Piano and Strings.  Angela Martin-Licari is Assistant Concert Master of the Beloit Symphony Orchestra\, and has taught at the FAC for over 7 years.  Her personal repertoire includes classical as well as bluegrass\, old-timey\, classic country and rock.
URL:https://www.fortatkinsonclub.org/event/music-lessons-with-angela/2022-12-21/
LOCATION:211 S Water St E\, 53538\, 211 South Water Street East\, Fort Atkinson\, WI\, 53538\, United States
END:VEVENT
BEGIN:VEVENT
DTSTART;TZID=America/Chicago:20221220T160000
DTEND;TZID=America/Chicago:20221220T190000
DTSTAMP:20260423T184836
CREATED:20221024T212239Z
LAST-MODIFIED:20221024T212239Z
UID:10000128-1671552000-1671562800@www.fortatkinsonclub.org
SUMMARY:Music Lessons with Angela
DESCRIPTION:For Kids and Adults\, one-on-one.  Piano and Strings.  Angela Martin-Licari is Assistant Concert Master of the Beloit Symphony Orchestra\, and has taught at the FAC for over 7 years.  Her personal repertoire includes classical as well as bluegrass\, old-timey\, classic country and rock.
URL:https://www.fortatkinsonclub.org/event/music-lessons-with-angela/2022-12-20/
LOCATION:211 S Water St E\, 53538\, 211 South Water Street East\, Fort Atkinson\, WI\, 53538\, United States
END:VEVENT
BEGIN:VEVENT
DTSTART;TZID=America/Chicago:20221214T160000
DTEND;TZID=America/Chicago:20221214T190000
DTSTAMP:20260423T184836
CREATED:20221024T212239Z
LAST-MODIFIED:20221024T212239Z
UID:10000127-1671033600-1671044400@www.fortatkinsonclub.org
SUMMARY:Music Lessons with Angela
DESCRIPTION:For Kids and Adults\, one-on-one.  Piano and Strings.  Angela Martin-Licari is Assistant Concert Master of the Beloit Symphony Orchestra\, and has taught at the FAC for over 7 years.  Her personal repertoire includes classical as well as bluegrass\, old-timey\, classic country and rock.
URL:https://www.fortatkinsonclub.org/event/music-lessons-with-angela/2022-12-14/
LOCATION:211 S Water St E\, 53538\, 211 South Water Street East\, Fort Atkinson\, WI\, 53538\, United States
END:VEVENT
BEGIN:VEVENT
DTSTART;TZID=America/Chicago:20221213T160000
DTEND;TZID=America/Chicago:20221213T190000
DTSTAMP:20260423T184836
CREATED:20221024T212239Z
LAST-MODIFIED:20221024T212239Z
UID:10000126-1670947200-1670958000@www.fortatkinsonclub.org
SUMMARY:Music Lessons with Angela
DESCRIPTION:For Kids and Adults\, one-on-one.  Piano and Strings.  Angela Martin-Licari is Assistant Concert Master of the Beloit Symphony Orchestra\, and has taught at the FAC for over 7 years.  Her personal repertoire includes classical as well as bluegrass\, old-timey\, classic country and rock.
URL:https://www.fortatkinsonclub.org/event/music-lessons-with-angela/2022-12-13/
LOCATION:211 S Water St E\, 53538\, 211 South Water Street East\, Fort Atkinson\, WI\, 53538\, United States
END:VEVENT
BEGIN:VEVENT
DTSTART;TZID=America/Chicago:20221207T160000
DTEND;TZID=America/Chicago:20221207T190000
DTSTAMP:20260423T184836
CREATED:20221024T212239Z
LAST-MODIFIED:20221024T212239Z
UID:10000125-1670428800-1670439600@www.fortatkinsonclub.org
SUMMARY:Music Lessons with Angela
DESCRIPTION:For Kids and Adults\, one-on-one.  Piano and Strings.  Angela Martin-Licari is Assistant Concert Master of the Beloit Symphony Orchestra\, and has taught at the FAC for over 7 years.  Her personal repertoire includes classical as well as bluegrass\, old-timey\, classic country and rock.
URL:https://www.fortatkinsonclub.org/event/music-lessons-with-angela/2022-12-07/
LOCATION:211 S Water St E\, 53538\, 211 South Water Street East\, Fort Atkinson\, WI\, 53538\, United States
END:VEVENT
BEGIN:VEVENT
DTSTART;TZID=America/Chicago:20221206T160000
DTEND;TZID=America/Chicago:20221206T190000
DTSTAMP:20260423T184836
CREATED:20221024T212239Z
LAST-MODIFIED:20221024T212239Z
UID:10000124-1670342400-1670353200@www.fortatkinsonclub.org
SUMMARY:Music Lessons with Angela
DESCRIPTION:For Kids and Adults\, one-on-one.  Piano and Strings.  Angela Martin-Licari is Assistant Concert Master of the Beloit Symphony Orchestra\, and has taught at the FAC for over 7 years.  Her personal repertoire includes classical as well as bluegrass\, old-timey\, classic country and rock.
URL:https://www.fortatkinsonclub.org/event/music-lessons-with-angela/2022-12-06/
LOCATION:211 S Water St E\, 53538\, 211 South Water Street East\, Fort Atkinson\, WI\, 53538\, United States
END:VEVENT
BEGIN:VEVENT
DTSTART;TZID=America/Chicago:20221130T160000
DTEND;TZID=America/Chicago:20221130T190000
DTSTAMP:20260423T184836
CREATED:20221024T212239Z
LAST-MODIFIED:20221024T212239Z
UID:10000123-1669824000-1669834800@www.fortatkinsonclub.org
SUMMARY:Music Lessons with Angela
DESCRIPTION:For Kids and Adults\, one-on-one.  Piano and Strings.  Angela Martin-Licari is Assistant Concert Master of the Beloit Symphony Orchestra\, and has taught at the FAC for over 7 years.  Her personal repertoire includes classical as well as bluegrass\, old-timey\, classic country and rock.
URL:https://www.fortatkinsonclub.org/event/music-lessons-with-angela/2022-11-30/
LOCATION:211 S Water St E\, 53538\, 211 South Water Street East\, Fort Atkinson\, WI\, 53538\, United States
END:VEVENT
BEGIN:VEVENT
DTSTART;TZID=America/Chicago:20221129T160000
DTEND;TZID=America/Chicago:20221129T190000
DTSTAMP:20260423T184836
CREATED:20221024T212239Z
LAST-MODIFIED:20221024T212239Z
UID:10000122-1669737600-1669748400@www.fortatkinsonclub.org
SUMMARY:Music Lessons with Angela
DESCRIPTION:For Kids and Adults\, one-on-one.  Piano and Strings.  Angela Martin-Licari is Assistant Concert Master of the Beloit Symphony Orchestra\, and has taught at the FAC for over 7 years.  Her personal repertoire includes classical as well as bluegrass\, old-timey\, classic country and rock.
URL:https://www.fortatkinsonclub.org/event/music-lessons-with-angela/2022-11-29/
LOCATION:211 S Water St E\, 53538\, 211 South Water Street East\, Fort Atkinson\, WI\, 53538\, United States
END:VEVENT
BEGIN:VEVENT
DTSTART;TZID=America/Chicago:20221123T160000
DTEND;TZID=America/Chicago:20221123T190000
DTSTAMP:20260423T184836
CREATED:20221024T212239Z
LAST-MODIFIED:20221024T212239Z
UID:10000121-1669219200-1669230000@www.fortatkinsonclub.org
SUMMARY:Music Lessons with Angela
DESCRIPTION:For Kids and Adults\, one-on-one.  Piano and Strings.  Angela Martin-Licari is Assistant Concert Master of the Beloit Symphony Orchestra\, and has taught at the FAC for over 7 years.  Her personal repertoire includes classical as well as bluegrass\, old-timey\, classic country and rock.
URL:https://www.fortatkinsonclub.org/event/music-lessons-with-angela/2022-11-23/
LOCATION:211 S Water St E\, 53538\, 211 South Water Street East\, Fort Atkinson\, WI\, 53538\, United States
END:VEVENT
BEGIN:VEVENT
DTSTART;TZID=America/Chicago:20221122T160000
DTEND;TZID=America/Chicago:20221122T190000
DTSTAMP:20260423T184836
CREATED:20221024T212239Z
LAST-MODIFIED:20221024T212239Z
UID:10000120-1669132800-1669143600@www.fortatkinsonclub.org
SUMMARY:Music Lessons with Angela
DESCRIPTION:For Kids and Adults\, one-on-one.  Piano and Strings.  Angela Martin-Licari is Assistant Concert Master of the Beloit Symphony Orchestra\, and has taught at the FAC for over 7 years.  Her personal repertoire includes classical as well as bluegrass\, old-timey\, classic country and rock.
URL:https://www.fortatkinsonclub.org/event/music-lessons-with-angela/2022-11-22/
LOCATION:211 S Water St E\, 53538\, 211 South Water Street East\, Fort Atkinson\, WI\, 53538\, United States
END:VEVENT
BEGIN:VEVENT
DTSTART;TZID=America/Chicago:20221116T160000
DTEND;TZID=America/Chicago:20221116T190000
DTSTAMP:20260423T184836
CREATED:20221024T212239Z
LAST-MODIFIED:20221024T212239Z
UID:10000119-1668614400-1668625200@www.fortatkinsonclub.org
SUMMARY:Music Lessons with Angela
DESCRIPTION:For Kids and Adults\, one-on-one.  Piano and Strings.  Angela Martin-Licari is Assistant Concert Master of the Beloit Symphony Orchestra\, and has taught at the FAC for over 7 years.  Her personal repertoire includes classical as well as bluegrass\, old-timey\, classic country and rock.
URL:https://www.fortatkinsonclub.org/event/music-lessons-with-angela/2022-11-16/
LOCATION:211 S Water St E\, 53538\, 211 South Water Street East\, Fort Atkinson\, WI\, 53538\, United States
END:VEVENT
BEGIN:VEVENT
DTSTART;TZID=America/Chicago:20221115T160000
DTEND;TZID=America/Chicago:20221115T190000
DTSTAMP:20260423T184836
CREATED:20221024T212239Z
LAST-MODIFIED:20221024T212239Z
UID:10000118-1668528000-1668538800@www.fortatkinsonclub.org
SUMMARY:Music Lessons with Angela
DESCRIPTION:For Kids and Adults\, one-on-one.  Piano and Strings.  Angela Martin-Licari is Assistant Concert Master of the Beloit Symphony Orchestra\, and has taught at the FAC for over 7 years.  Her personal repertoire includes classical as well as bluegrass\, old-timey\, classic country and rock.
URL:https://www.fortatkinsonclub.org/event/music-lessons-with-angela/2022-11-15/
LOCATION:211 S Water St E\, 53538\, 211 South Water Street East\, Fort Atkinson\, WI\, 53538\, United States
END:VEVENT
BEGIN:VEVENT
DTSTART;TZID=America/Chicago:20221109T160000
DTEND;TZID=America/Chicago:20221109T190000
DTSTAMP:20260423T184836
CREATED:20221024T212239Z
LAST-MODIFIED:20221024T212239Z
UID:10000117-1668009600-1668020400@www.fortatkinsonclub.org
SUMMARY:Music Lessons with Angela
DESCRIPTION:For Kids and Adults\, one-on-one.  Piano and Strings.  Angela Martin-Licari is Assistant Concert Master of the Beloit Symphony Orchestra\, and has taught at the FAC for over 7 years.  Her personal repertoire includes classical as well as bluegrass\, old-timey\, classic country and rock.
URL:https://www.fortatkinsonclub.org/event/music-lessons-with-angela/2022-11-09/
LOCATION:211 S Water St E\, 53538\, 211 South Water Street East\, Fort Atkinson\, WI\, 53538\, United States
END:VEVENT
BEGIN:VEVENT
DTSTART;TZID=America/Chicago:20221108T160000
DTEND;TZID=America/Chicago:20221108T190000
DTSTAMP:20260423T184836
CREATED:20221024T212239Z
LAST-MODIFIED:20221024T212239Z
UID:10000116-1667923200-1667934000@www.fortatkinsonclub.org
SUMMARY:Music Lessons with Angela
DESCRIPTION:For Kids and Adults\, one-on-one.  Piano and Strings.  Angela Martin-Licari is Assistant Concert Master of the Beloit Symphony Orchestra\, and has taught at the FAC for over 7 years.  Her personal repertoire includes classical as well as bluegrass\, old-timey\, classic country and rock.
URL:https://www.fortatkinsonclub.org/event/music-lessons-with-angela/2022-11-08/
LOCATION:211 S Water St E\, 53538\, 211 South Water Street East\, Fort Atkinson\, WI\, 53538\, United States
END:VEVENT
BEGIN:VEVENT
DTSTART;TZID=America/Chicago:20221102T160000
DTEND;TZID=America/Chicago:20221102T190000
DTSTAMP:20260423T184836
CREATED:20221024T212239Z
LAST-MODIFIED:20221024T212239Z
UID:10000115-1667404800-1667415600@www.fortatkinsonclub.org
SUMMARY:Music Lessons with Angela
DESCRIPTION:For Kids and Adults\, one-on-one.  Piano and Strings.  Angela Martin-Licari is Assistant Concert Master of the Beloit Symphony Orchestra\, and has taught at the FAC for over 7 years.  Her personal repertoire includes classical as well as bluegrass\, old-timey\, classic country and rock.
URL:https://www.fortatkinsonclub.org/event/music-lessons-with-angela/2022-11-02/
LOCATION:211 S Water St E\, 53538\, 211 South Water Street East\, Fort Atkinson\, WI\, 53538\, United States
END:VEVENT
BEGIN:VEVENT
DTSTART;TZID=America/Chicago:20221101T160000
DTEND;TZID=America/Chicago:20221101T190000
DTSTAMP:20260423T184836
CREATED:20221024T212239Z
LAST-MODIFIED:20221024T212239Z
UID:10000114-1667318400-1667329200@www.fortatkinsonclub.org
SUMMARY:Music Lessons with Angela
DESCRIPTION:For Kids and Adults\, one-on-one.  Piano and Strings.  Angela Martin-Licari is Assistant Concert Master of the Beloit Symphony Orchestra\, and has taught at the FAC for over 7 years.  Her personal repertoire includes classical as well as bluegrass\, old-timey\, classic country and rock.
URL:https://www.fortatkinsonclub.org/event/music-lessons-with-angela/2022-11-01/
LOCATION:211 S Water St E\, 53538\, 211 South Water Street East\, Fort Atkinson\, WI\, 53538\, United States
END:VEVENT
BEGIN:VEVENT
DTSTART;TZID=America/Chicago:20221026T160000
DTEND;TZID=America/Chicago:20221026T190000
DTSTAMP:20260423T184836
CREATED:20221024T212239Z
LAST-MODIFIED:20221024T212239Z
UID:10000113-1666800000-1666810800@www.fortatkinsonclub.org
SUMMARY:Music Lessons with Angela
DESCRIPTION:For Kids and Adults\, one-on-one.  Piano and Strings.  Angela Martin-Licari is Assistant Concert Master of the Beloit Symphony Orchestra\, and has taught at the FAC for over 7 years.  Her personal repertoire includes classical as well as bluegrass\, old-timey\, classic country and rock.
URL:https://www.fortatkinsonclub.org/event/music-lessons-with-angela/2022-10-26/
LOCATION:211 S Water St E\, 53538\, 211 South Water Street East\, Fort Atkinson\, WI\, 53538\, United States
END:VEVENT
BEGIN:VEVENT
DTSTART;TZID=America/Chicago:20221025T160000
DTEND;TZID=America/Chicago:20221025T190000
DTSTAMP:20260423T184836
CREATED:20221024T212239Z
LAST-MODIFIED:20221024T212239Z
UID:10000112-1666713600-1666724400@www.fortatkinsonclub.org
SUMMARY:Music Lessons with Angela
DESCRIPTION:For Kids and Adults\, one-on-one.  Piano and Strings.  Angela Martin-Licari is Assistant Concert Master of the Beloit Symphony Orchestra\, and has taught at the FAC for over 7 years.  Her personal repertoire includes classical as well as bluegrass\, old-timey\, classic country and rock.
URL:https://www.fortatkinsonclub.org/event/music-lessons-with-angela/2022-10-25/
LOCATION:211 S Water St E\, 53538\, 211 South Water Street East\, Fort Atkinson\, WI\, 53538\, United States
END:VEVENT
END:VCALENDAR