BEGIN:VCALENDAR
VERSION:2.0
PRODID:-//The Fort Atkinson Club - ECPv6.15.20//NONSGML v1.0//EN
CALSCALE:GREGORIAN
METHOD:PUBLISH
X-WR-CALNAME:The Fort Atkinson Club
X-ORIGINAL-URL:https://www.fortatkinsonclub.org
X-WR-CALDESC:Events for The Fort Atkinson Club
REFRESH-INTERVAL;VALUE=DURATION:PT1H
X-Robots-Tag:noindex
X-PUBLISHED-TTL:PT1H
BEGIN:VTIMEZONE
TZID:America/Chicago
BEGIN:DAYLIGHT
TZOFFSETFROM:-0600
TZOFFSETTO:-0500
TZNAME:CDT
DTSTART:20250309T080000
END:DAYLIGHT
BEGIN:STANDARD
TZOFFSETFROM:-0500
TZOFFSETTO:-0600
TZNAME:CST
DTSTART:20251102T070000
END:STANDARD
BEGIN:DAYLIGHT
TZOFFSETFROM:-0600
TZOFFSETTO:-0500
TZNAME:CDT
DTSTART:20260308T080000
END:DAYLIGHT
BEGIN:STANDARD
TZOFFSETFROM:-0500
TZOFFSETTO:-0600
TZNAME:CST
DTSTART:20261101T070000
END:STANDARD
BEGIN:DAYLIGHT
TZOFFSETFROM:-0600
TZOFFSETTO:-0500
TZNAME:CDT
DTSTART:20270314T080000
END:DAYLIGHT
BEGIN:STANDARD
TZOFFSETFROM:-0500
TZOFFSETTO:-0600
TZNAME:CST
DTSTART:20271107T070000
END:STANDARD
END:VTIMEZONE
BEGIN:VEVENT
DTSTART;TZID=America/Chicago:20260610T173000
DTEND;TZID=America/Chicago:20260610T183000
DTSTAMP:20260423T001807
CREATED:20260122T203322Z
LAST-MODIFIED:20260122T203322Z
UID:10002352-1781112600-1781116200@www.fortatkinsonclub.org
SUMMARY:Narcotics Anonymous Meeting
DESCRIPTION:Narcotics Anonymous meets in the Lodge room weekly at 5:30.
URL:https://www.fortatkinsonclub.org/event/narcotics-anonymous-meeting/2026-06-10/
LOCATION:211 S Water St E\, 53538\, 211 South Water Street East\, Fort Atkinson\, WI\, 53538\, United States
CATEGORIES:Health & Wellness
ATTACH;FMTTYPE=image/png:https://www.fortatkinsonclub.org/wp-content/uploads/2026/01/NA-logo.png
END:VEVENT
BEGIN:VEVENT
DTSTART;TZID=America/Chicago:20260612T180000
DTEND;TZID=America/Chicago:20260612T210000
DTSTAMP:20260423T001807
CREATED:20260312T205631Z
LAST-MODIFIED:20260314T014759Z
UID:10002677-1781287200-1781298000@www.fortatkinsonclub.org
SUMMARY:The Big Cheese Ball
DESCRIPTION:You’ve brie-n waiting for this. As part of Fort Atkinson’s Cheese Louise event\, the FAC is throwing the most ex-swiss-ite party of the summer — The Big Cheese Ball. We’re talking live music\, dancing\, and a fierce competition for the most gloriously cheesy outfit in the room. \nDress as your favorite cheese\, your favorite dairy product\, or just commit fully to yellow. Cheddar? Classic. Brie? Sophisticated. A wheel of parmesan? Bold choice. We respect it. The cheesier the costume\, the better your chances of taking home the Best Dressed: Most Gouda award. \nWe’ll be serving cheese balls (obviously)\, and the dance floor will be open all night under the sparkling disco cheese ball for kids\, grownups\, and everyone in between. No one leaves un-feta-ed.\nThis is one event that’s too gouda to muens-ter! Don’t fondue to get those tickets — space is limited and tickets must be purchased in advance. \nTickets are $10 per person. Available soon!
URL:https://www.fortatkinsonclub.org/event/cheese-louise-cheese-ball/
LOCATION:211 S Water St E\, 53538\, 211 South Water Street East\, Fort Atkinson\, WI\, 53538\, United States
CATEGORIES:Community
ATTACH;FMTTYPE=image/png:https://www.fortatkinsonclub.org/wp-content/uploads/2026/03/CL-3.png
END:VEVENT
END:VCALENDAR