BEGIN:VCALENDAR
VERSION:2.0
PRODID:-//The Fort Atkinson Club - ECPv6.15.20//NONSGML v1.0//EN
CALSCALE:GREGORIAN
METHOD:PUBLISH
X-ORIGINAL-URL:https://www.fortatkinsonclub.org
X-WR-CALDESC:Events for The Fort Atkinson Club
REFRESH-INTERVAL;VALUE=DURATION:PT1H
X-Robots-Tag:noindex
X-PUBLISHED-TTL:PT1H
BEGIN:VTIMEZONE
TZID:America/Chicago
BEGIN:DAYLIGHT
TZOFFSETFROM:-0600
TZOFFSETTO:-0500
TZNAME:CDT
DTSTART:20250309T080000
END:DAYLIGHT
BEGIN:STANDARD
TZOFFSETFROM:-0500
TZOFFSETTO:-0600
TZNAME:CST
DTSTART:20251102T070000
END:STANDARD
BEGIN:DAYLIGHT
TZOFFSETFROM:-0600
TZOFFSETTO:-0500
TZNAME:CDT
DTSTART:20260308T080000
END:DAYLIGHT
BEGIN:STANDARD
TZOFFSETFROM:-0500
TZOFFSETTO:-0600
TZNAME:CST
DTSTART:20261101T070000
END:STANDARD
BEGIN:DAYLIGHT
TZOFFSETFROM:-0600
TZOFFSETTO:-0500
TZNAME:CDT
DTSTART:20270314T080000
END:DAYLIGHT
BEGIN:STANDARD
TZOFFSETFROM:-0500
TZOFFSETTO:-0600
TZNAME:CST
DTSTART:20271107T070000
END:STANDARD
END:VTIMEZONE
BEGIN:VEVENT
DTSTART;TZID=America/Chicago:20260406T183000
DTEND;TZID=America/Chicago:20260406T200000
DTSTAMP:20260422T223816
CREATED:20260326T144441Z
LAST-MODIFIED:20260402T002648Z
UID:10002683-1775500200-1775505600@www.fortatkinsonclub.org
SUMMARY:FREE MahJong Lessons
DESCRIPTION:Step into the world of American Mahjong\, a lively and modern twist on the classic Chinese tile game. With its bright tiles\, clever combinations\, and ever-changing annual card of hands\, American Mahjong blends strategy\, memory\, and a dash of luck into a game that’s as social as it is satisfying. In this class\, you’ll learn the game the way it’s meant to be enjoyed: friendly\, relaxed\, and full of laughter — no gambling\, no pressure\, just having fun. \nAmerican Mahjong is perfect for: \n\nPeople who enjoy puzzles and patterns\n Anyone looking for a new social hobby\nLearners who love games that are easy to start but endlessly interesting\nPlayers who enjoy a mix of creativity and strategy\n\nYou’ll explore the iconic National Mah Jongg League card\, discover how to build winning hands\, and practice the rhythm of drawing\, discarding\, and calling tiles. By the end\, you’ll be ready to sit down at any table and play with confidence. Whether you’re brand-new or simply curious\, this class opens the door to a warm\, welcoming community and a timeless game that brings people together. \nHello\, my name is Angela Nelson\, and I have been playing American Mahjong for more than 10 years. My enthusiasm for the game has only grown with time. What began as a filling-in position quickly became a passion — one I now love sharing with others. Over the years\, I have taught numerous new players who continue to enjoy the game today. \nMahjong has traveled with me far beyond the classroom. I have played on multiple vacations\, discovering how the game brings people together no matter where they are. These experiences have shaped my belief that Mahjong is more than a game — it’s a social connector\, a mental workout\, and a joyful tradition worth passing on. In my classes\, I focus on creating a relaxed\, supportive environment where beginners feel comfortable learning at their own pace. I look forward to welcoming new players and sharing the game that has brought me so much enjoyment over the years. \nThis is a FREE event but registration is required. Registration is for all three dates. Please contact FAC is you cannot attend of of the dates. Space is limited. \nRegister
URL:https://www.fortatkinsonclub.org/event/free-mahjong-lessons/
LOCATION:211 S Water St E\, 53538\, 211 South Water Street East\, Fort Atkinson\, WI\, 53538\, United States
CATEGORIES:Community
ATTACH;FMTTYPE=image/png:https://www.fortatkinsonclub.org/wp-content/uploads/2026/03/MahJong_covers.png
END:VEVENT
BEGIN:VEVENT
DTSTART;TZID=America/Chicago:20260408T173000
DTEND;TZID=America/Chicago:20260408T183000
DTSTAMP:20260422T223816
CREATED:20260122T203322Z
LAST-MODIFIED:20260122T203322Z
UID:10002343-1775669400-1775673000@www.fortatkinsonclub.org
SUMMARY:Narcotics Anonymous Meeting
DESCRIPTION:Narcotics Anonymous meets in the Lodge room weekly at 5:30.
URL:https://www.fortatkinsonclub.org/event/narcotics-anonymous-meeting/2026-04-08/
LOCATION:211 S Water St E\, 53538\, 211 South Water Street East\, Fort Atkinson\, WI\, 53538\, United States
CATEGORIES:Health & Wellness
ATTACH;FMTTYPE=image/png:https://www.fortatkinsonclub.org/wp-content/uploads/2026/01/NA-logo.png
END:VEVENT
BEGIN:VEVENT
DTSTART;TZID=America/Chicago:20260410T180000
DTEND;TZID=America/Chicago:20260410T200000
DTSTAMP:20260422T223816
CREATED:20260312T185646Z
LAST-MODIFIED:20260312T185646Z
UID:10002676-1775844000-1775851200@www.fortatkinsonclub.org
SUMMARY:Kids Night Out: Eggs-treme Racers
DESCRIPTION:Can you build a car fast enough to win and sturdy enough to keep your egg safe? Join us for Eggs-treme Racers\, a spring building challenge where kids design and decorate their own egg-carrying race car and send it down the track to compete for glory!\nBuild it. Decorate it. Race it.
URL:https://www.fortatkinsonclub.org/event/kids-night-out-eggs-treme-racers/
LOCATION:211 S Water St E\, 53538\, 211 South Water Street East\, Fort Atkinson\, WI\, 53538\, United States
CATEGORIES:Community,Kids
ATTACH;FMTTYPE=image/png:https://www.fortatkinsonclub.org/wp-content/uploads/2026/03/KNO_april-10_cover.png
END:VEVENT
END:VCALENDAR