BEGIN:VCALENDAR
VERSION:2.0
PRODID:-//The Fort Atkinson Club - ECPv6.15.20//NONSGML v1.0//EN
CALSCALE:GREGORIAN
METHOD:PUBLISH
X-ORIGINAL-URL:https://www.fortatkinsonclub.org
X-WR-CALDESC:Events for The Fort Atkinson Club
REFRESH-INTERVAL;VALUE=DURATION:PT1H
X-Robots-Tag:noindex
X-PUBLISHED-TTL:PT1H
BEGIN:VTIMEZONE
TZID:America/Chicago
BEGIN:DAYLIGHT
TZOFFSETFROM:-0600
TZOFFSETTO:-0500
TZNAME:CDT
DTSTART:20250309T080000
END:DAYLIGHT
BEGIN:STANDARD
TZOFFSETFROM:-0500
TZOFFSETTO:-0600
TZNAME:CST
DTSTART:20251102T070000
END:STANDARD
BEGIN:DAYLIGHT
TZOFFSETFROM:-0600
TZOFFSETTO:-0500
TZNAME:CDT
DTSTART:20260308T080000
END:DAYLIGHT
BEGIN:STANDARD
TZOFFSETFROM:-0500
TZOFFSETTO:-0600
TZNAME:CST
DTSTART:20261101T070000
END:STANDARD
BEGIN:DAYLIGHT
TZOFFSETFROM:-0600
TZOFFSETTO:-0500
TZNAME:CDT
DTSTART:20270314T080000
END:DAYLIGHT
BEGIN:STANDARD
TZOFFSETFROM:-0500
TZOFFSETTO:-0600
TZNAME:CST
DTSTART:20271107T070000
END:STANDARD
END:VTIMEZONE
BEGIN:VEVENT
DTSTART;VALUE=DATE:20260227
DTEND;VALUE=DATE:20260328
DTSTAMP:20260422T223114
CREATED:20260224T035013Z
LAST-MODIFIED:20260224T035013Z
UID:10002604-1772150400-1774655999@www.fortatkinsonclub.org
SUMMARY:Your Eye Close With My Dreams
DESCRIPTION:This evocative exhibition showcases the works of husband and wife Brian and Angela Szabo. \nThough Brian and Angela Szabo each bring their own distinct artistic voice to the gallery\, a shared through-line runs gently beneath the work: a reverence for what endures. Discarded bones are reclaimed; their beauty and dignity is celebrated. Forms emerge from beneath leaves and flowers. Beauty reveals itself slowly\, through attention. \nAt the heart of the exhibition is a pair of birds bearing a line from Pablo Neruda’s Sonnet XVII\, from which the exhibition takes its title. The poem speaks of a love that is steady\, unassuming\, deeply rooted and inextricably intertwined. \nIn many ways\, this exhibition reflects that same truth: that what appears simple may hold profound depth. That love\, carried faithfully over time\, is one of the most enduring and beautiful forces we know.
URL:https://www.fortatkinsonclub.org/event/your-eye-close-with-my-dreams/
LOCATION:211 S Water St E\, 53538\, 211 South Water Street East\, Fort Atkinson\, WI\, 53538\, United States
CATEGORIES:Visual Arts
ATTACH;FMTTYPE=image/png:https://www.fortatkinsonclub.org/wp-content/uploads/2026/02/Your-Eyes-Close-With-My-Dreams-The-Art-of-Brian-Angela-Szabo-Fort-Atkinson-Club-Community-Center.png
END:VEVENT
BEGIN:VEVENT
DTSTART;TZID=America/Chicago:20260309T180000
DTEND;TZID=America/Chicago:20260309T193000
DTSTAMP:20260422T223114
CREATED:20250925T173253Z
LAST-MODIFIED:20260210T180901Z
UID:10002317-1773079200-1773084600@www.fortatkinsonclub.org
SUMMARY:Full Spectrum Theatre
DESCRIPTION:Calling all storytellers!\nThe Fort Atkinson Club invites youth and adults with disabilities to join Full Spectrum Theatre — a fun\, welcoming\, and creative playwriting program starting this fall. This program takes place on Monday evenings starting on January 26\, 2026. \nParticipants will work with professional artists to explore storytelling\, build writing skills\, and create short plays based on their own experiences. The program includes weekly writing workshops\, opportunities to share and connect\, and will culminate in a public performance of original work. \nNo theatre or writing experience is needed — just a willingness to share your voice and be part of a creative community. \nFree to participate. \nRegister
URL:https://www.fortatkinsonclub.org/event/full-spectrum-theatre/2026-03-09/
LOCATION:211 S Water St E\, 53538\, 211 South Water Street East\, Fort Atkinson\, WI\, 53538\, United States
CATEGORIES:Community,Visual Arts
ATTACH;FMTTYPE=image/png:https://www.fortatkinsonclub.org/wp-content/uploads/2025/09/Full-Spectrum-Theatre.png
END:VEVENT
BEGIN:VEVENT
DTSTART;TZID=America/Chicago:20260310T173000
DTEND;TZID=America/Chicago:20260310T193000
DTSTAMP:20260422T223114
CREATED:20251120T191852Z
LAST-MODIFIED:20251120T191852Z
UID:10002271-1773163800-1773171000@www.fortatkinsonclub.org
SUMMARY:Community Art Class: Paper Folding Sculptures
DESCRIPTION:After exploring a series of folding and assembly techniques\, attendees will design and construct their own paper sculptures\, transforming simple sheets into expressive three-dimensional forms.
URL:https://www.fortatkinsonclub.org/event/community-art-class-paper-folding-sculptures/
LOCATION:211 S Water St E\, 53538\, 211 South Water Street East\, Fort Atkinson\, WI\, 53538\, United States
CATEGORIES:Community,Visual Arts
ATTACH;FMTTYPE=image/png:https://www.fortatkinsonclub.org/wp-content/uploads/2025/11/Paper-folding-sculptures-e1763661399220.png
END:VEVENT
BEGIN:VEVENT
DTSTART;TZID=America/Chicago:20260311T173000
DTEND;TZID=America/Chicago:20260311T183000
DTSTAMP:20260422T223114
CREATED:20260122T203322Z
LAST-MODIFIED:20260122T203322Z
UID:10002339-1773250200-1773253800@www.fortatkinsonclub.org
SUMMARY:Narcotics Anonymous Meeting
DESCRIPTION:Narcotics Anonymous meets in the Lodge room weekly at 5:30.
URL:https://www.fortatkinsonclub.org/event/narcotics-anonymous-meeting/2026-03-11/
LOCATION:211 S Water St E\, 53538\, 211 South Water Street East\, Fort Atkinson\, WI\, 53538\, United States
CATEGORIES:Health & Wellness
ATTACH;FMTTYPE=image/png:https://www.fortatkinsonclub.org/wp-content/uploads/2026/01/NA-logo.png
END:VEVENT
BEGIN:VEVENT
DTSTART;TZID=America/Chicago:20260313T080000
DTEND;TZID=America/Chicago:20260313T170000
DTSTAMP:20260422T223114
CREATED:20260314T013310Z
LAST-MODIFIED:20260314T013310Z
UID:10002679-1773388800-1773421200@www.fortatkinsonclub.org
SUMMARY:Mother's Day Tea
DESCRIPTION:Treat the special people in your life to a lovely Mother’s Day celebration right here in Fort Atkinson. \nJoin us for a relaxed\, elegant midday tea featuring a selection of brunch bites and sweet treats\, with tea\, coffee\, and juice to sip. It’s the perfect way to celebrate moms\, grandmas\, aunties\, and every kind of loving caregiver. \nBring your kids\, your mom\, your best friend\, or anyone who deserves a little extra appreciation this Mother’s Day. \nTickets are $10 per person and must be purchased in advance. Space is limited to 50 guests. \nRegistration Coming Soon!
URL:https://www.fortatkinsonclub.org/event/mothers-day-tea/
LOCATION:WI
ATTACH;FMTTYPE=image/png:https://www.fortatkinsonclub.org/wp-content/uploads/2026/03/Mothers-Day-Tea.png
END:VEVENT
BEGIN:VEVENT
DTSTART;TZID=America/Chicago:20260313T180000
DTEND;TZID=America/Chicago:20260313T200000
DTSTAMP:20260422T223114
CREATED:20260224T031505Z
LAST-MODIFIED:20260224T031505Z
UID:10002600-1773424800-1773432000@www.fortatkinsonclub.org
SUMMARY:Family Game Night
DESCRIPTION:Unplug\, connect\, and play together at the Fort Atkinson Club Community Center! \nBring the whole family for an evening of classic board games\, group games\, and friendly competition in a welcoming\, relaxed atmosphere. Whether you love strategy\, teamwork\, or just lots of laughs\, there’s something for everyone to enjoy. \nCome make memories\, meet new friends\, and enjoy the simple fun of playing together.
URL:https://www.fortatkinsonclub.org/event/family-game-night/
LOCATION:211 S Water St E\, 53538\, 211 South Water Street East\, Fort Atkinson\, WI\, 53538\, United States
CATEGORIES:Community,Kids
ATTACH;FMTTYPE=image/png:https://www.fortatkinsonclub.org/wp-content/uploads/2026/02/family-game-night.png
END:VEVENT
END:VCALENDAR