BEGIN:VCALENDAR
VERSION:2.0
PRODID:-//The Fort Atkinson Club - ECPv6.15.20//NONSGML v1.0//EN
CALSCALE:GREGORIAN
METHOD:PUBLISH
X-WR-CALNAME:The Fort Atkinson Club
X-ORIGINAL-URL:https://www.fortatkinsonclub.org
X-WR-CALDESC:Events for The Fort Atkinson Club
REFRESH-INTERVAL;VALUE=DURATION:PT1H
X-Robots-Tag:noindex
X-PUBLISHED-TTL:PT1H
BEGIN:VTIMEZONE
TZID:America/Chicago
BEGIN:DAYLIGHT
TZOFFSETFROM:-0600
TZOFFSETTO:-0500
TZNAME:CDT
DTSTART:20250309T080000
END:DAYLIGHT
BEGIN:STANDARD
TZOFFSETFROM:-0500
TZOFFSETTO:-0600
TZNAME:CST
DTSTART:20251102T070000
END:STANDARD
BEGIN:DAYLIGHT
TZOFFSETFROM:-0600
TZOFFSETTO:-0500
TZNAME:CDT
DTSTART:20260308T080000
END:DAYLIGHT
BEGIN:STANDARD
TZOFFSETFROM:-0500
TZOFFSETTO:-0600
TZNAME:CST
DTSTART:20261101T070000
END:STANDARD
BEGIN:DAYLIGHT
TZOFFSETFROM:-0600
TZOFFSETTO:-0500
TZNAME:CDT
DTSTART:20270314T080000
END:DAYLIGHT
BEGIN:STANDARD
TZOFFSETFROM:-0500
TZOFFSETTO:-0600
TZNAME:CST
DTSTART:20271107T070000
END:STANDARD
END:VTIMEZONE
BEGIN:VEVENT
DTSTART;TZID=America/Chicago:20260109T170000
DTEND;TZID=America/Chicago:20260109T200000
DTSTAMP:20260423T015810
CREATED:20260102T165743Z
LAST-MODIFIED:20260102T165743Z
UID:10002293-1767978000-1767988800@www.fortatkinsonclub.org
SUMMARY:Kids Community Night: Build a Fort Night
DESCRIPTION:Grab your friends and let your imagination take over! Kids and families are invited to transform the Fort Atkinson Club Community Center into a landscape of cozy blanket forts\, pillow hideaways\, and creative structures built from everyday materials. Working together\, participants will design and build their own forts\, then enjoy time inside them reading\, drawing\, watching a movie\, or just hanging out. \nBuild a Fort Night is a low-pressure\, collaborative evening that celebrates creativity\, teamwork\, and play. There’s no right way to build and no expectation to finish anything — just come ready to imagine\, experiment\, and have fun. \nAll materials provided. Families are welcome to build together.
URL:https://www.fortatkinsonclub.org/event/kids-community-night-build-a-fort-night/
LOCATION:211 S Water St E\, 53538\, 211 South Water Street East\, Fort Atkinson\, WI\, 53538\, United States
CATEGORIES:Community
ATTACH;FMTTYPE=image/png:https://www.fortatkinsonclub.org/wp-content/uploads/2026/01/KNO-General-Graphic-2.png
END:VEVENT
END:VCALENDAR