BEGIN:VCALENDAR
VERSION:2.0
PRODID:-//The Fort Atkinson Club - ECPv6.15.20//NONSGML v1.0//EN
CALSCALE:GREGORIAN
METHOD:PUBLISH
X-WR-CALNAME:The Fort Atkinson Club
X-ORIGINAL-URL:https://www.fortatkinsonclub.org
X-WR-CALDESC:Events for The Fort Atkinson Club
REFRESH-INTERVAL;VALUE=DURATION:PT1H
X-Robots-Tag:noindex
X-PUBLISHED-TTL:PT1H
BEGIN:VTIMEZONE
TZID:America/Chicago
BEGIN:DAYLIGHT
TZOFFSETFROM:-0600
TZOFFSETTO:-0500
TZNAME:CDT
DTSTART:20240310T080000
END:DAYLIGHT
BEGIN:STANDARD
TZOFFSETFROM:-0500
TZOFFSETTO:-0600
TZNAME:CST
DTSTART:20241103T070000
END:STANDARD
BEGIN:DAYLIGHT
TZOFFSETFROM:-0600
TZOFFSETTO:-0500
TZNAME:CDT
DTSTART:20250309T080000
END:DAYLIGHT
BEGIN:STANDARD
TZOFFSETFROM:-0500
TZOFFSETTO:-0600
TZNAME:CST
DTSTART:20251102T070000
END:STANDARD
BEGIN:DAYLIGHT
TZOFFSETFROM:-0600
TZOFFSETTO:-0500
TZNAME:CDT
DTSTART:20260308T080000
END:DAYLIGHT
BEGIN:STANDARD
TZOFFSETFROM:-0500
TZOFFSETTO:-0600
TZNAME:CST
DTSTART:20261101T070000
END:STANDARD
END:VTIMEZONE
BEGIN:VEVENT
DTSTART;VALUE=DATE:20250614
DTEND;VALUE=DATE:20250801
DTSTAMP:20260423T183151
CREATED:20250606T030301Z
LAST-MODIFIED:20250606T030301Z
UID:10002242-1749859200-1754006399@www.fortatkinsonclub.org
SUMMARY:Cattle Call Collection
DESCRIPTION:Art for All Wisconsin presents the Cattle Call Collection. This exhibition is made up of AFA artists’ interpretations of a cattle call for art\, this cow-tastic collection includes lots of Wisconsin farm-inspired works of art!  \nFAC staff is happy to assist with any questions or accommodation requests. Please call 920-568-1720 Monday through Friday between 10:00 am – 3:00 pm \nArt Credit from left to right: Jersey in the Peonies by Christy
URL:https://www.fortatkinsonclub.org/event/cattle-call-collection/
LOCATION:211 S Water St E\, 53538\, 211 South Water Street East\, Fort Atkinson\, WI\, 53538\, United States
CATEGORIES:Visual Arts
ATTACH;FMTTYPE=image/png:https://www.fortatkinsonclub.org/wp-content/uploads/2025/06/Screenshot-2025-06-05-at-9.55.13 PM.png
END:VEVENT
BEGIN:VEVENT
DTSTART;VALUE=DATE:20250614
DTEND;VALUE=DATE:20250802
DTSTAMP:20260423T183151
CREATED:20250519T235419Z
LAST-MODIFIED:20250519T235456Z
UID:10002233-1749859200-1754092799@www.fortatkinsonclub.org
SUMMARY:Made is Wisconsin: Art from America's Dairyland
DESCRIPTION:The Fort Atkinson Community Center invites artists of all backgrounds and mediums to submit work for Made in Wisconsin: Art from America’s Dairyland. \nThis exhibit will celebrate Wisconsin’s rich agricultural and dairy heritage—from its iconic cows\, barns\, and fields to the deep-rooted traditions and stories that shape life in the Dairy State. We welcome artwork in all media that explores Wisconsin’s farming legacy\, cheese culture\, rural life\, or personal connections to the land.
URL:https://www.fortatkinsonclub.org/event/made-is-wisconsin-art-from-americas-dairyland/
LOCATION:211 S Water St E\, 53538\, 211 South Water Street East\, Fort Atkinson\, WI\, 53538\, United States
CATEGORIES:Visual Arts
ATTACH;FMTTYPE=image/jpeg:https://www.fortatkinsonclub.org/wp-content/uploads/2025/04/cow_bell_1943.8.6710.jpg
END:VEVENT
BEGIN:VEVENT
DTSTART;TZID=America/Chicago:20250616T090000
DTEND;TZID=America/Chicago:20250616T140000
DTSTAMP:20260423T183152
CREATED:20250520T010815Z
LAST-MODIFIED:20250520T011757Z
UID:10002240-1750064400-1750082400@www.fortatkinsonclub.org
SUMMARY:Blood Drive
DESCRIPTION:Escape to somewhere nice: Feeling cooped up? After a long winter indoors\, it’s time for a change of scenery — and donating blood is the perfect excuse to get out! With our free air conditioning\, free refreshments\, and friendly atmosphere\, our blood drive could be the nicest escape for donors \nDid you know that shortages of all blood types most often occur during the summer and winter holidays? Take just one hour out of your summer plans and donate blood\, save lives\, and help prevent summer shortages. \nSchedule your donation
URL:https://www.fortatkinsonclub.org/event/blood-drive-6/
LOCATION:211 S Water St E\, 53538\, 211 South Water Street East\, Fort Atkinson\, WI\, 53538\, United States
CATEGORIES:Health & Wellness
ATTACH;FMTTYPE=image/png:https://www.fortatkinsonclub.org/wp-content/uploads/2025/05/June_July_Drive_1080x1080.png
END:VEVENT
BEGIN:VEVENT
DTSTART;TZID=America/Chicago:20250617T173000
DTEND;TZID=America/Chicago:20250617T183000
DTSTAMP:20260423T183152
CREATED:20230227T200833Z
LAST-MODIFIED:20250115T155450Z
UID:10002171-1750181400-1750185000@www.fortatkinsonclub.org
SUMMARY:Fort Club Board Meeting
DESCRIPTION:
URL:https://www.fortatkinsonclub.org/event/fort-club-board-meeting/2025-06-17/
LOCATION:211 S Water St E\, 53538\, 211 South Water Street East\, Fort Atkinson\, WI\, 53538\, United States
ATTACH;FMTTYPE=image/jpeg:https://www.fortatkinsonclub.org/wp-content/uploads/2023/02/Failte4-scaled.jpg
END:VEVENT
END:VCALENDAR