BEGIN:VCALENDAR
VERSION:2.0
PRODID:-//The Fort Atkinson Club - ECPv6.15.20//NONSGML v1.0//EN
CALSCALE:GREGORIAN
METHOD:PUBLISH
X-ORIGINAL-URL:https://www.fortatkinsonclub.org
X-WR-CALDESC:Events for The Fort Atkinson Club
REFRESH-INTERVAL;VALUE=DURATION:PT1H
X-Robots-Tag:noindex
X-PUBLISHED-TTL:PT1H
BEGIN:VTIMEZONE
TZID:America/Chicago
BEGIN:DAYLIGHT
TZOFFSETFROM:-0600
TZOFFSETTO:-0500
TZNAME:CDT
DTSTART:20230312T080000
END:DAYLIGHT
BEGIN:STANDARD
TZOFFSETFROM:-0500
TZOFFSETTO:-0600
TZNAME:CST
DTSTART:20231105T070000
END:STANDARD
BEGIN:DAYLIGHT
TZOFFSETFROM:-0600
TZOFFSETTO:-0500
TZNAME:CDT
DTSTART:20240310T080000
END:DAYLIGHT
BEGIN:STANDARD
TZOFFSETFROM:-0500
TZOFFSETTO:-0600
TZNAME:CST
DTSTART:20241103T070000
END:STANDARD
BEGIN:DAYLIGHT
TZOFFSETFROM:-0600
TZOFFSETTO:-0500
TZNAME:CDT
DTSTART:20250309T080000
END:DAYLIGHT
BEGIN:STANDARD
TZOFFSETFROM:-0500
TZOFFSETTO:-0600
TZNAME:CST
DTSTART:20251102T070000
END:STANDARD
END:VTIMEZONE
BEGIN:VEVENT
DTSTART;VALUE=DATE:20240615
DTEND;VALUE=DATE:20240901
DTSTAMP:20260425T100515
CREATED:20240522T145642Z
LAST-MODIFIED:20240710T170534Z
UID:10001858-1718409600-1725148799@www.fortatkinsonclub.org
SUMMARY:Ever Green Exhibition
DESCRIPTION:Amanda Langer and Barbara Lidfors are the showcased artists in the Ever Green exhibition this summer. Their works complement each other\, sharing interpretations of nature in different mediums.
URL:https://www.fortatkinsonclub.org/event/ever-green-exhibition/
LOCATION:211 S Water St E\, 53538\, 211 South Water Street East\, Fort Atkinson\, WI\, 53538\, United States
CATEGORIES:Visual Arts
ATTACH;FMTTYPE=image/webp:https://www.fortatkinsonclub.org/wp-content/uploads/2024/07/visual-arts_exhibition.webp
END:VEVENT
BEGIN:VEVENT
DTSTART;TZID=America/Chicago:20240701T120000
DTEND;TZID=America/Chicago:20240701T130000
DTSTAMP:20260425T100515
CREATED:20230227T193404Z
LAST-MODIFIED:20240710T171054Z
UID:10000300-1719835200-1719838800@www.fortatkinsonclub.org
SUMMARY:ROTARY GENERAL MEETINGS
DESCRIPTION:ROTARY is an organization of business and professional leaders united worldwide\, who provide humanitarian service\, encourage high ethical standards in all vocations\, and help build goodwill and peace in the world. ROTARY is the world’s first service club. The first Rotary club was founded in Chicago\, Illinois\, USA\, on February 23\, 1905. Rotary is some 1.2 million service-minded men and women belonging to over 32\, 000 Rotary clubs in virtually every nation in the world. Rotarians meet weekly for fellowship and interesting and informative programs dealing with topics of local and global importance. Membership is by invitation and reflects a wide cross-section of community representation. Rotarians plan and carry out a remarkable variety of humanitarian\, educational\, and cultural exchange programs that touch people’s lives in their local communities and our world community.
URL:https://www.fortatkinsonclub.org/event/rotary-general-meetings/2024-07-01/
LOCATION:211 S Water St E\, 53538\, 211 South Water Street East\, Fort Atkinson\, WI\, 53538\, United States
ATTACH;FMTTYPE=image/png:https://www.fortatkinsonclub.org/wp-content/uploads/2023/02/Rotary-Logo-5016.png
END:VEVENT
BEGIN:VEVENT
DTSTART;TZID=America/Chicago:20240703T173000
DTEND;TZID=America/Chicago:20240703T183000
DTSTAMP:20260425T100515
CREATED:20240118T215849Z
LAST-MODIFIED:20240201T211319Z
UID:10000930-1720027800-1720031400@www.fortatkinsonclub.org
SUMMARY:Yoga with Gina Elmore
DESCRIPTION:Day: Wednesdays\nTime: 5:30-6:15\nPlace: River Level (Indoors)\nCost: $25/5 classes\nRegister: Fort Healthcare website\nDevelop the fundamentals of connecting breath to yoga postures\, learn techniques to release tension and improve strength and flexibility. Prior experience not required.\nClass equipment needed: Yoga blocks or thick books\, blanket/towel/mat\, and a yoga strap/belt/bathrobe tie.\n*This class is held EVERY Wednesday\, unless noted on FHC website \n  \n 
URL:https://www.fortatkinsonclub.org/event/yoga-with-gina-elmore/2024-07-03/
LOCATION:211 S Water St E\, 53538\, 211 South Water Street East\, Fort Atkinson\, WI\, 53538\, United States
ATTACH;FMTTYPE=image/jpeg:https://www.fortatkinsonclub.org/wp-content/uploads/2021/09/yoga-group.jpg
END:VEVENT
BEGIN:VEVENT
DTSTART;VALUE=DATE:20240704
DTEND;VALUE=DATE:20240705
DTSTAMP:20260425T100515
CREATED:20230227T203816Z
LAST-MODIFIED:20230227T203816Z
UID:10000593-1720051200-1720137599@www.fortatkinsonclub.org
SUMMARY:Independence Day - Closed
DESCRIPTION:
URL:https://www.fortatkinsonclub.org/event/independence-day-closed/2024-07-04/
LOCATION:WI
END:VEVENT
END:VCALENDAR