BEGIN:VCALENDAR
VERSION:2.0
PRODID:-//The Fort Atkinson Club - ECPv6.15.20//NONSGML v1.0//EN
CALSCALE:GREGORIAN
METHOD:PUBLISH
X-WR-CALNAME:The Fort Atkinson Club
X-ORIGINAL-URL:https://www.fortatkinsonclub.org
X-WR-CALDESC:Events for The Fort Atkinson Club
REFRESH-INTERVAL;VALUE=DURATION:PT1H
X-Robots-Tag:noindex
X-PUBLISHED-TTL:PT1H
BEGIN:VTIMEZONE
TZID:America/Chicago
BEGIN:DAYLIGHT
TZOFFSETFROM:-0600
TZOFFSETTO:-0500
TZNAME:CDT
DTSTART:20270314T080000
END:DAYLIGHT
BEGIN:STANDARD
TZOFFSETFROM:-0500
TZOFFSETTO:-0600
TZNAME:CST
DTSTART:20271107T070000
END:STANDARD
BEGIN:DAYLIGHT
TZOFFSETFROM:-0600
TZOFFSETTO:-0500
TZNAME:CDT
DTSTART:20280312T080000
END:DAYLIGHT
BEGIN:STANDARD
TZOFFSETFROM:-0500
TZOFFSETTO:-0600
TZNAME:CST
DTSTART:20281105T070000
END:STANDARD
BEGIN:DAYLIGHT
TZOFFSETFROM:-0600
TZOFFSETTO:-0500
TZNAME:CDT
DTSTART:20290311T080000
END:DAYLIGHT
BEGIN:STANDARD
TZOFFSETFROM:-0500
TZOFFSETTO:-0600
TZNAME:CST
DTSTART:20291104T070000
END:STANDARD
BEGIN:DAYLIGHT
TZOFFSETFROM:-0600
TZOFFSETTO:-0500
TZNAME:CDT
DTSTART:20300310T080000
END:DAYLIGHT
BEGIN:STANDARD
TZOFFSETFROM:-0500
TZOFFSETTO:-0600
TZNAME:CST
DTSTART:20301103T070000
END:STANDARD
END:VTIMEZONE
BEGIN:VEVENT
DTSTART;TZID=America/Chicago:20281129T173000
DTEND;TZID=America/Chicago:20281129T183000
DTSTAMP:20260425T095950
CREATED:20260122T203322Z
LAST-MODIFIED:20260122T203322Z
UID:10002481-1859131800-1859135400@www.fortatkinsonclub.org
SUMMARY:Narcotics Anonymous Meeting
DESCRIPTION:Narcotics Anonymous meets in the Lodge room weekly at 5:30.
URL:https://www.fortatkinsonclub.org/event/narcotics-anonymous-meeting/2028-11-29/
LOCATION:211 S Water St E\, 53538\, 211 South Water Street East\, Fort Atkinson\, WI\, 53538\, United States
CATEGORIES:Health & Wellness
ATTACH;FMTTYPE=image/png:https://www.fortatkinsonclub.org/wp-content/uploads/2026/01/NA-logo.png
END:VEVENT
BEGIN:VEVENT
DTSTART;TZID=America/Chicago:20281201T180000
DTEND;TZID=America/Chicago:20281201T210000
DTSTAMP:20260425T095950
CREATED:20260312T184919Z
LAST-MODIFIED:20260313T012320Z
UID:10002647-1859306400-1859317200@www.fortatkinsonclub.org
SUMMARY:Social Dance
DESCRIPTION:Dance the night away — no partner\, no experience\, no problem. \nJoin us on the first Friday of every month for an evening of movement\, music\, and community. In partnership with Fred Astaire Dance Studios in Oconomowoc\, we’re bringing the joy of ballroom dance to Fort Atkinson in a way that’s welcoming\, fun\, and completely beginner-friendly. \nThe evening kicks off with an hour-long dance lesson from 6:00–7:00 PM\, led by professional ballroom dance instructors who will teach easy\, approachable steps you can actually use on the dance floor. From 7:00–9:00 PM\, the floor opens up for social dancing — put those new moves to work as we dance to modern hits you already know and love. \nWhether you’re a seasoned dancer or have never set foot on a dance floor\, you’ll feel right at home. Come solo\, bring a friend\, or make new ones here. \nFree. No partner necessary. All ages and abilities welcome.
URL:https://www.fortatkinsonclub.org/event/social-dance/2028-12-01/
LOCATION:211 S Water St E\, 53538\, 211 South Water Street East\, Fort Atkinson\, WI\, 53538\, United States
CATEGORIES:Community,Music
ATTACH;FMTTYPE=image/png:https://www.fortatkinsonclub.org/wp-content/uploads/2026/03/Social-Dance.png
END:VEVENT
BEGIN:VEVENT
DTSTART;TZID=America/Chicago:20281206T173000
DTEND;TZID=America/Chicago:20281206T183000
DTSTAMP:20260425T095950
CREATED:20260122T203322Z
LAST-MODIFIED:20260122T203322Z
UID:10002482-1859736600-1859740200@www.fortatkinsonclub.org
SUMMARY:Narcotics Anonymous Meeting
DESCRIPTION:Narcotics Anonymous meets in the Lodge room weekly at 5:30.
URL:https://www.fortatkinsonclub.org/event/narcotics-anonymous-meeting/2028-12-06/
LOCATION:211 S Water St E\, 53538\, 211 South Water Street East\, Fort Atkinson\, WI\, 53538\, United States
CATEGORIES:Health & Wellness
ATTACH;FMTTYPE=image/png:https://www.fortatkinsonclub.org/wp-content/uploads/2026/01/NA-logo.png
END:VEVENT
BEGIN:VEVENT
DTSTART;TZID=America/Chicago:20281213T173000
DTEND;TZID=America/Chicago:20281213T183000
DTSTAMP:20260425T095950
CREATED:20260122T203322Z
LAST-MODIFIED:20260122T203322Z
UID:10002483-1860341400-1860345000@www.fortatkinsonclub.org
SUMMARY:Narcotics Anonymous Meeting
DESCRIPTION:Narcotics Anonymous meets in the Lodge room weekly at 5:30.
URL:https://www.fortatkinsonclub.org/event/narcotics-anonymous-meeting/2028-12-13/
LOCATION:211 S Water St E\, 53538\, 211 South Water Street East\, Fort Atkinson\, WI\, 53538\, United States
CATEGORIES:Health & Wellness
ATTACH;FMTTYPE=image/png:https://www.fortatkinsonclub.org/wp-content/uploads/2026/01/NA-logo.png
END:VEVENT
BEGIN:VEVENT
DTSTART;TZID=America/Chicago:20281219T173000
DTEND;TZID=America/Chicago:20281219T183000
DTSTAMP:20260425T095950
CREATED:20230227T200833Z
LAST-MODIFIED:20250115T155450Z
UID:10002213-1860859800-1860863400@www.fortatkinsonclub.org
SUMMARY:Fort Club Board Meeting
DESCRIPTION:
URL:https://www.fortatkinsonclub.org/event/fort-club-board-meeting/2028-12-19/
LOCATION:211 S Water St E\, 53538\, 211 South Water Street East\, Fort Atkinson\, WI\, 53538\, United States
ATTACH;FMTTYPE=image/jpeg:https://www.fortatkinsonclub.org/wp-content/uploads/2023/02/Failte4-scaled.jpg
END:VEVENT
BEGIN:VEVENT
DTSTART;TZID=America/Chicago:20281220T173000
DTEND;TZID=America/Chicago:20281220T183000
DTSTAMP:20260425T095950
CREATED:20260122T203322Z
LAST-MODIFIED:20260122T203322Z
UID:10002484-1860946200-1860949800@www.fortatkinsonclub.org
SUMMARY:Narcotics Anonymous Meeting
DESCRIPTION:Narcotics Anonymous meets in the Lodge room weekly at 5:30.
URL:https://www.fortatkinsonclub.org/event/narcotics-anonymous-meeting/2028-12-20/
LOCATION:211 S Water St E\, 53538\, 211 South Water Street East\, Fort Atkinson\, WI\, 53538\, United States
CATEGORIES:Health & Wellness
ATTACH;FMTTYPE=image/png:https://www.fortatkinsonclub.org/wp-content/uploads/2026/01/NA-logo.png
END:VEVENT
BEGIN:VEVENT
DTSTART;TZID=America/Chicago:20281227T173000
DTEND;TZID=America/Chicago:20281227T183000
DTSTAMP:20260425T095950
CREATED:20260122T203322Z
LAST-MODIFIED:20260122T203322Z
UID:10002485-1861551000-1861554600@www.fortatkinsonclub.org
SUMMARY:Narcotics Anonymous Meeting
DESCRIPTION:Narcotics Anonymous meets in the Lodge room weekly at 5:30.
URL:https://www.fortatkinsonclub.org/event/narcotics-anonymous-meeting/2028-12-27/
LOCATION:211 S Water St E\, 53538\, 211 South Water Street East\, Fort Atkinson\, WI\, 53538\, United States
CATEGORIES:Health & Wellness
ATTACH;FMTTYPE=image/png:https://www.fortatkinsonclub.org/wp-content/uploads/2026/01/NA-logo.png
END:VEVENT
BEGIN:VEVENT
DTSTART;TZID=America/Chicago:20290103T173000
DTEND;TZID=America/Chicago:20290103T183000
DTSTAMP:20260425T095950
CREATED:20260122T203322Z
LAST-MODIFIED:20260122T203322Z
UID:10002486-1862155800-1862159400@www.fortatkinsonclub.org
SUMMARY:Narcotics Anonymous Meeting
DESCRIPTION:Narcotics Anonymous meets in the Lodge room weekly at 5:30.
URL:https://www.fortatkinsonclub.org/event/narcotics-anonymous-meeting/2029-01-03/
LOCATION:211 S Water St E\, 53538\, 211 South Water Street East\, Fort Atkinson\, WI\, 53538\, United States
CATEGORIES:Health & Wellness
ATTACH;FMTTYPE=image/png:https://www.fortatkinsonclub.org/wp-content/uploads/2026/01/NA-logo.png
END:VEVENT
BEGIN:VEVENT
DTSTART;TZID=America/Chicago:20290105T180000
DTEND;TZID=America/Chicago:20290105T210000
DTSTAMP:20260425T095950
CREATED:20260312T184919Z
LAST-MODIFIED:20260313T012320Z
UID:10002648-1862330400-1862341200@www.fortatkinsonclub.org
SUMMARY:Social Dance
DESCRIPTION:Dance the night away — no partner\, no experience\, no problem. \nJoin us on the first Friday of every month for an evening of movement\, music\, and community. In partnership with Fred Astaire Dance Studios in Oconomowoc\, we’re bringing the joy of ballroom dance to Fort Atkinson in a way that’s welcoming\, fun\, and completely beginner-friendly. \nThe evening kicks off with an hour-long dance lesson from 6:00–7:00 PM\, led by professional ballroom dance instructors who will teach easy\, approachable steps you can actually use on the dance floor. From 7:00–9:00 PM\, the floor opens up for social dancing — put those new moves to work as we dance to modern hits you already know and love. \nWhether you’re a seasoned dancer or have never set foot on a dance floor\, you’ll feel right at home. Come solo\, bring a friend\, or make new ones here. \nFree. No partner necessary. All ages and abilities welcome.
URL:https://www.fortatkinsonclub.org/event/social-dance/2029-01-05/
LOCATION:211 S Water St E\, 53538\, 211 South Water Street East\, Fort Atkinson\, WI\, 53538\, United States
CATEGORIES:Community,Music
ATTACH;FMTTYPE=image/png:https://www.fortatkinsonclub.org/wp-content/uploads/2026/03/Social-Dance.png
END:VEVENT
BEGIN:VEVENT
DTSTART;TZID=America/Chicago:20290110T173000
DTEND;TZID=America/Chicago:20290110T183000
DTSTAMP:20260425T095950
CREATED:20260122T203322Z
LAST-MODIFIED:20260122T203322Z
UID:10002487-1862760600-1862764200@www.fortatkinsonclub.org
SUMMARY:Narcotics Anonymous Meeting
DESCRIPTION:Narcotics Anonymous meets in the Lodge room weekly at 5:30.
URL:https://www.fortatkinsonclub.org/event/narcotics-anonymous-meeting/2029-01-10/
LOCATION:211 S Water St E\, 53538\, 211 South Water Street East\, Fort Atkinson\, WI\, 53538\, United States
CATEGORIES:Health & Wellness
ATTACH;FMTTYPE=image/png:https://www.fortatkinsonclub.org/wp-content/uploads/2026/01/NA-logo.png
END:VEVENT
BEGIN:VEVENT
DTSTART;TZID=America/Chicago:20290116T173000
DTEND;TZID=America/Chicago:20290116T183000
DTSTAMP:20260425T095950
CREATED:20230227T200833Z
LAST-MODIFIED:20250115T155450Z
UID:10002214-1863279000-1863282600@www.fortatkinsonclub.org
SUMMARY:Fort Club Board Meeting
DESCRIPTION:
URL:https://www.fortatkinsonclub.org/event/fort-club-board-meeting/2029-01-16/
LOCATION:211 S Water St E\, 53538\, 211 South Water Street East\, Fort Atkinson\, WI\, 53538\, United States
ATTACH;FMTTYPE=image/jpeg:https://www.fortatkinsonclub.org/wp-content/uploads/2023/02/Failte4-scaled.jpg
END:VEVENT
BEGIN:VEVENT
DTSTART;TZID=America/Chicago:20290117T173000
DTEND;TZID=America/Chicago:20290117T183000
DTSTAMP:20260425T095950
CREATED:20260122T203322Z
LAST-MODIFIED:20260122T203322Z
UID:10002488-1863365400-1863369000@www.fortatkinsonclub.org
SUMMARY:Narcotics Anonymous Meeting
DESCRIPTION:Narcotics Anonymous meets in the Lodge room weekly at 5:30.
URL:https://www.fortatkinsonclub.org/event/narcotics-anonymous-meeting/2029-01-17/
LOCATION:211 S Water St E\, 53538\, 211 South Water Street East\, Fort Atkinson\, WI\, 53538\, United States
CATEGORIES:Health & Wellness
ATTACH;FMTTYPE=image/png:https://www.fortatkinsonclub.org/wp-content/uploads/2026/01/NA-logo.png
END:VEVENT
BEGIN:VEVENT
DTSTART;TZID=America/Chicago:20290124T173000
DTEND;TZID=America/Chicago:20290124T183000
DTSTAMP:20260425T095950
CREATED:20260122T203322Z
LAST-MODIFIED:20260122T203322Z
UID:10002489-1863970200-1863973800@www.fortatkinsonclub.org
SUMMARY:Narcotics Anonymous Meeting
DESCRIPTION:Narcotics Anonymous meets in the Lodge room weekly at 5:30.
URL:https://www.fortatkinsonclub.org/event/narcotics-anonymous-meeting/2029-01-24/
LOCATION:211 S Water St E\, 53538\, 211 South Water Street East\, Fort Atkinson\, WI\, 53538\, United States
CATEGORIES:Health & Wellness
ATTACH;FMTTYPE=image/png:https://www.fortatkinsonclub.org/wp-content/uploads/2026/01/NA-logo.png
END:VEVENT
BEGIN:VEVENT
DTSTART;TZID=America/Chicago:20290131T173000
DTEND;TZID=America/Chicago:20290131T183000
DTSTAMP:20260425T095950
CREATED:20260122T203322Z
LAST-MODIFIED:20260122T203322Z
UID:10002490-1864575000-1864578600@www.fortatkinsonclub.org
SUMMARY:Narcotics Anonymous Meeting
DESCRIPTION:Narcotics Anonymous meets in the Lodge room weekly at 5:30.
URL:https://www.fortatkinsonclub.org/event/narcotics-anonymous-meeting/2029-01-31/
LOCATION:211 S Water St E\, 53538\, 211 South Water Street East\, Fort Atkinson\, WI\, 53538\, United States
CATEGORIES:Health & Wellness
ATTACH;FMTTYPE=image/png:https://www.fortatkinsonclub.org/wp-content/uploads/2026/01/NA-logo.png
END:VEVENT
BEGIN:VEVENT
DTSTART;TZID=America/Chicago:20290202T180000
DTEND;TZID=America/Chicago:20290202T210000
DTSTAMP:20260425T095950
CREATED:20260312T184919Z
LAST-MODIFIED:20260313T012320Z
UID:10002649-1864749600-1864760400@www.fortatkinsonclub.org
SUMMARY:Social Dance
DESCRIPTION:Dance the night away — no partner\, no experience\, no problem. \nJoin us on the first Friday of every month for an evening of movement\, music\, and community. In partnership with Fred Astaire Dance Studios in Oconomowoc\, we’re bringing the joy of ballroom dance to Fort Atkinson in a way that’s welcoming\, fun\, and completely beginner-friendly. \nThe evening kicks off with an hour-long dance lesson from 6:00–7:00 PM\, led by professional ballroom dance instructors who will teach easy\, approachable steps you can actually use on the dance floor. From 7:00–9:00 PM\, the floor opens up for social dancing — put those new moves to work as we dance to modern hits you already know and love. \nWhether you’re a seasoned dancer or have never set foot on a dance floor\, you’ll feel right at home. Come solo\, bring a friend\, or make new ones here. \nFree. No partner necessary. All ages and abilities welcome.
URL:https://www.fortatkinsonclub.org/event/social-dance/2029-02-02/
LOCATION:211 S Water St E\, 53538\, 211 South Water Street East\, Fort Atkinson\, WI\, 53538\, United States
CATEGORIES:Community,Music
ATTACH;FMTTYPE=image/png:https://www.fortatkinsonclub.org/wp-content/uploads/2026/03/Social-Dance.png
END:VEVENT
BEGIN:VEVENT
DTSTART;TZID=America/Chicago:20290207T173000
DTEND;TZID=America/Chicago:20290207T183000
DTSTAMP:20260425T095950
CREATED:20260122T203322Z
LAST-MODIFIED:20260122T203322Z
UID:10002491-1865179800-1865183400@www.fortatkinsonclub.org
SUMMARY:Narcotics Anonymous Meeting
DESCRIPTION:Narcotics Anonymous meets in the Lodge room weekly at 5:30.
URL:https://www.fortatkinsonclub.org/event/narcotics-anonymous-meeting/2029-02-07/
LOCATION:211 S Water St E\, 53538\, 211 South Water Street East\, Fort Atkinson\, WI\, 53538\, United States
CATEGORIES:Health & Wellness
ATTACH;FMTTYPE=image/png:https://www.fortatkinsonclub.org/wp-content/uploads/2026/01/NA-logo.png
END:VEVENT
BEGIN:VEVENT
DTSTART;TZID=America/Chicago:20290214T173000
DTEND;TZID=America/Chicago:20290214T183000
DTSTAMP:20260425T095950
CREATED:20260122T203322Z
LAST-MODIFIED:20260122T203322Z
UID:10002492-1865784600-1865788200@www.fortatkinsonclub.org
SUMMARY:Narcotics Anonymous Meeting
DESCRIPTION:Narcotics Anonymous meets in the Lodge room weekly at 5:30.
URL:https://www.fortatkinsonclub.org/event/narcotics-anonymous-meeting/2029-02-14/
LOCATION:211 S Water St E\, 53538\, 211 South Water Street East\, Fort Atkinson\, WI\, 53538\, United States
CATEGORIES:Health & Wellness
ATTACH;FMTTYPE=image/png:https://www.fortatkinsonclub.org/wp-content/uploads/2026/01/NA-logo.png
END:VEVENT
BEGIN:VEVENT
DTSTART;TZID=America/Chicago:20290220T173000
DTEND;TZID=America/Chicago:20290220T183000
DTSTAMP:20260425T095950
CREATED:20230227T200833Z
LAST-MODIFIED:20250115T155450Z
UID:10002215-1866303000-1866306600@www.fortatkinsonclub.org
SUMMARY:Fort Club Board Meeting
DESCRIPTION:
URL:https://www.fortatkinsonclub.org/event/fort-club-board-meeting/2029-02-20/
LOCATION:211 S Water St E\, 53538\, 211 South Water Street East\, Fort Atkinson\, WI\, 53538\, United States
ATTACH;FMTTYPE=image/jpeg:https://www.fortatkinsonclub.org/wp-content/uploads/2023/02/Failte4-scaled.jpg
END:VEVENT
BEGIN:VEVENT
DTSTART;TZID=America/Chicago:20290221T173000
DTEND;TZID=America/Chicago:20290221T183000
DTSTAMP:20260425T095950
CREATED:20260122T203322Z
LAST-MODIFIED:20260122T203322Z
UID:10002493-1866389400-1866393000@www.fortatkinsonclub.org
SUMMARY:Narcotics Anonymous Meeting
DESCRIPTION:Narcotics Anonymous meets in the Lodge room weekly at 5:30.
URL:https://www.fortatkinsonclub.org/event/narcotics-anonymous-meeting/2029-02-21/
LOCATION:211 S Water St E\, 53538\, 211 South Water Street East\, Fort Atkinson\, WI\, 53538\, United States
CATEGORIES:Health & Wellness
ATTACH;FMTTYPE=image/png:https://www.fortatkinsonclub.org/wp-content/uploads/2026/01/NA-logo.png
END:VEVENT
BEGIN:VEVENT
DTSTART;TZID=America/Chicago:20290228T173000
DTEND;TZID=America/Chicago:20290228T183000
DTSTAMP:20260425T095950
CREATED:20260122T203322Z
LAST-MODIFIED:20260122T203322Z
UID:10002494-1866994200-1866997800@www.fortatkinsonclub.org
SUMMARY:Narcotics Anonymous Meeting
DESCRIPTION:Narcotics Anonymous meets in the Lodge room weekly at 5:30.
URL:https://www.fortatkinsonclub.org/event/narcotics-anonymous-meeting/2029-02-28/
LOCATION:211 S Water St E\, 53538\, 211 South Water Street East\, Fort Atkinson\, WI\, 53538\, United States
CATEGORIES:Health & Wellness
ATTACH;FMTTYPE=image/png:https://www.fortatkinsonclub.org/wp-content/uploads/2026/01/NA-logo.png
END:VEVENT
BEGIN:VEVENT
DTSTART;TZID=America/Chicago:20290302T180000
DTEND;TZID=America/Chicago:20290302T210000
DTSTAMP:20260425T095950
CREATED:20260312T184919Z
LAST-MODIFIED:20260313T012320Z
UID:10002650-1867168800-1867179600@www.fortatkinsonclub.org
SUMMARY:Social Dance
DESCRIPTION:Dance the night away — no partner\, no experience\, no problem. \nJoin us on the first Friday of every month for an evening of movement\, music\, and community. In partnership with Fred Astaire Dance Studios in Oconomowoc\, we’re bringing the joy of ballroom dance to Fort Atkinson in a way that’s welcoming\, fun\, and completely beginner-friendly. \nThe evening kicks off with an hour-long dance lesson from 6:00–7:00 PM\, led by professional ballroom dance instructors who will teach easy\, approachable steps you can actually use on the dance floor. From 7:00–9:00 PM\, the floor opens up for social dancing — put those new moves to work as we dance to modern hits you already know and love. \nWhether you’re a seasoned dancer or have never set foot on a dance floor\, you’ll feel right at home. Come solo\, bring a friend\, or make new ones here. \nFree. No partner necessary. All ages and abilities welcome.
URL:https://www.fortatkinsonclub.org/event/social-dance/2029-03-02/
LOCATION:211 S Water St E\, 53538\, 211 South Water Street East\, Fort Atkinson\, WI\, 53538\, United States
CATEGORIES:Community,Music
ATTACH;FMTTYPE=image/png:https://www.fortatkinsonclub.org/wp-content/uploads/2026/03/Social-Dance.png
END:VEVENT
BEGIN:VEVENT
DTSTART;TZID=America/Chicago:20290307T173000
DTEND;TZID=America/Chicago:20290307T183000
DTSTAMP:20260425T095950
CREATED:20260122T203322Z
LAST-MODIFIED:20260122T203322Z
UID:10002495-1867599000-1867602600@www.fortatkinsonclub.org
SUMMARY:Narcotics Anonymous Meeting
DESCRIPTION:Narcotics Anonymous meets in the Lodge room weekly at 5:30.
URL:https://www.fortatkinsonclub.org/event/narcotics-anonymous-meeting/2029-03-07/
LOCATION:211 S Water St E\, 53538\, 211 South Water Street East\, Fort Atkinson\, WI\, 53538\, United States
CATEGORIES:Health & Wellness
ATTACH;FMTTYPE=image/png:https://www.fortatkinsonclub.org/wp-content/uploads/2026/01/NA-logo.png
END:VEVENT
BEGIN:VEVENT
DTSTART;TZID=America/Chicago:20290314T173000
DTEND;TZID=America/Chicago:20290314T183000
DTSTAMP:20260425T095950
CREATED:20260122T203322Z
LAST-MODIFIED:20260122T203322Z
UID:10002496-1868203800-1868207400@www.fortatkinsonclub.org
SUMMARY:Narcotics Anonymous Meeting
DESCRIPTION:Narcotics Anonymous meets in the Lodge room weekly at 5:30.
URL:https://www.fortatkinsonclub.org/event/narcotics-anonymous-meeting/2029-03-14/
LOCATION:211 S Water St E\, 53538\, 211 South Water Street East\, Fort Atkinson\, WI\, 53538\, United States
CATEGORIES:Health & Wellness
ATTACH;FMTTYPE=image/png:https://www.fortatkinsonclub.org/wp-content/uploads/2026/01/NA-logo.png
END:VEVENT
BEGIN:VEVENT
DTSTART;TZID=America/Chicago:20290320T173000
DTEND;TZID=America/Chicago:20290320T183000
DTSTAMP:20260425T095950
CREATED:20230227T200833Z
LAST-MODIFIED:20250115T155450Z
UID:10002216-1868722200-1868725800@www.fortatkinsonclub.org
SUMMARY:Fort Club Board Meeting
DESCRIPTION:
URL:https://www.fortatkinsonclub.org/event/fort-club-board-meeting/2029-03-20/
LOCATION:211 S Water St E\, 53538\, 211 South Water Street East\, Fort Atkinson\, WI\, 53538\, United States
ATTACH;FMTTYPE=image/jpeg:https://www.fortatkinsonclub.org/wp-content/uploads/2023/02/Failte4-scaled.jpg
END:VEVENT
BEGIN:VEVENT
DTSTART;TZID=America/Chicago:20290321T173000
DTEND;TZID=America/Chicago:20290321T183000
DTSTAMP:20260425T095950
CREATED:20260122T203322Z
LAST-MODIFIED:20260122T203322Z
UID:10002497-1868808600-1868812200@www.fortatkinsonclub.org
SUMMARY:Narcotics Anonymous Meeting
DESCRIPTION:Narcotics Anonymous meets in the Lodge room weekly at 5:30.
URL:https://www.fortatkinsonclub.org/event/narcotics-anonymous-meeting/2029-03-21/
LOCATION:211 S Water St E\, 53538\, 211 South Water Street East\, Fort Atkinson\, WI\, 53538\, United States
CATEGORIES:Health & Wellness
ATTACH;FMTTYPE=image/png:https://www.fortatkinsonclub.org/wp-content/uploads/2026/01/NA-logo.png
END:VEVENT
BEGIN:VEVENT
DTSTART;TZID=America/Chicago:20290328T173000
DTEND;TZID=America/Chicago:20290328T183000
DTSTAMP:20260425T095950
CREATED:20260122T203322Z
LAST-MODIFIED:20260122T203322Z
UID:10002498-1869413400-1869417000@www.fortatkinsonclub.org
SUMMARY:Narcotics Anonymous Meeting
DESCRIPTION:Narcotics Anonymous meets in the Lodge room weekly at 5:30.
URL:https://www.fortatkinsonclub.org/event/narcotics-anonymous-meeting/2029-03-28/
LOCATION:211 S Water St E\, 53538\, 211 South Water Street East\, Fort Atkinson\, WI\, 53538\, United States
CATEGORIES:Health & Wellness
ATTACH;FMTTYPE=image/png:https://www.fortatkinsonclub.org/wp-content/uploads/2026/01/NA-logo.png
END:VEVENT
BEGIN:VEVENT
DTSTART;TZID=America/Chicago:20290404T173000
DTEND;TZID=America/Chicago:20290404T183000
DTSTAMP:20260425T095950
CREATED:20260122T203322Z
LAST-MODIFIED:20260122T203322Z
UID:10002499-1870018200-1870021800@www.fortatkinsonclub.org
SUMMARY:Narcotics Anonymous Meeting
DESCRIPTION:Narcotics Anonymous meets in the Lodge room weekly at 5:30.
URL:https://www.fortatkinsonclub.org/event/narcotics-anonymous-meeting/2029-04-04/
LOCATION:211 S Water St E\, 53538\, 211 South Water Street East\, Fort Atkinson\, WI\, 53538\, United States
CATEGORIES:Health & Wellness
ATTACH;FMTTYPE=image/png:https://www.fortatkinsonclub.org/wp-content/uploads/2026/01/NA-logo.png
END:VEVENT
BEGIN:VEVENT
DTSTART;TZID=America/Chicago:20290406T180000
DTEND;TZID=America/Chicago:20290406T210000
DTSTAMP:20260425T095950
CREATED:20260312T184919Z
LAST-MODIFIED:20260313T012320Z
UID:10002651-1870192800-1870203600@www.fortatkinsonclub.org
SUMMARY:Social Dance
DESCRIPTION:Dance the night away — no partner\, no experience\, no problem. \nJoin us on the first Friday of every month for an evening of movement\, music\, and community. In partnership with Fred Astaire Dance Studios in Oconomowoc\, we’re bringing the joy of ballroom dance to Fort Atkinson in a way that’s welcoming\, fun\, and completely beginner-friendly. \nThe evening kicks off with an hour-long dance lesson from 6:00–7:00 PM\, led by professional ballroom dance instructors who will teach easy\, approachable steps you can actually use on the dance floor. From 7:00–9:00 PM\, the floor opens up for social dancing — put those new moves to work as we dance to modern hits you already know and love. \nWhether you’re a seasoned dancer or have never set foot on a dance floor\, you’ll feel right at home. Come solo\, bring a friend\, or make new ones here. \nFree. No partner necessary. All ages and abilities welcome.
URL:https://www.fortatkinsonclub.org/event/social-dance/2029-04-06/
LOCATION:211 S Water St E\, 53538\, 211 South Water Street East\, Fort Atkinson\, WI\, 53538\, United States
CATEGORIES:Community,Music
ATTACH;FMTTYPE=image/png:https://www.fortatkinsonclub.org/wp-content/uploads/2026/03/Social-Dance.png
END:VEVENT
BEGIN:VEVENT
DTSTART;TZID=America/Chicago:20290411T173000
DTEND;TZID=America/Chicago:20290411T183000
DTSTAMP:20260425T095950
CREATED:20260122T203322Z
LAST-MODIFIED:20260122T203322Z
UID:10002500-1870623000-1870626600@www.fortatkinsonclub.org
SUMMARY:Narcotics Anonymous Meeting
DESCRIPTION:Narcotics Anonymous meets in the Lodge room weekly at 5:30.
URL:https://www.fortatkinsonclub.org/event/narcotics-anonymous-meeting/2029-04-11/
LOCATION:211 S Water St E\, 53538\, 211 South Water Street East\, Fort Atkinson\, WI\, 53538\, United States
CATEGORIES:Health & Wellness
ATTACH;FMTTYPE=image/png:https://www.fortatkinsonclub.org/wp-content/uploads/2026/01/NA-logo.png
END:VEVENT
BEGIN:VEVENT
DTSTART;TZID=America/Chicago:20290417T173000
DTEND;TZID=America/Chicago:20290417T183000
DTSTAMP:20260425T095950
CREATED:20230227T200833Z
LAST-MODIFIED:20250115T155450Z
UID:10002217-1871141400-1871145000@www.fortatkinsonclub.org
SUMMARY:Fort Club Board Meeting
DESCRIPTION:
URL:https://www.fortatkinsonclub.org/event/fort-club-board-meeting/2029-04-17/
LOCATION:211 S Water St E\, 53538\, 211 South Water Street East\, Fort Atkinson\, WI\, 53538\, United States
ATTACH;FMTTYPE=image/jpeg:https://www.fortatkinsonclub.org/wp-content/uploads/2023/02/Failte4-scaled.jpg
END:VEVENT
END:VCALENDAR