BEGIN:VCALENDAR
VERSION:2.0
PRODID:-//The Fort Atkinson Club - ECPv6.15.20//NONSGML v1.0//EN
CALSCALE:GREGORIAN
METHOD:PUBLISH
X-ORIGINAL-URL:https://www.fortatkinsonclub.org
X-WR-CALDESC:Events for The Fort Atkinson Club
REFRESH-INTERVAL;VALUE=DURATION:PT1H
X-Robots-Tag:noindex
X-PUBLISHED-TTL:PT1H
BEGIN:VTIMEZONE
TZID:America/Chicago
BEGIN:DAYLIGHT
TZOFFSETFROM:-0600
TZOFFSETTO:-0500
TZNAME:CDT
DTSTART:20260308T080000
END:DAYLIGHT
BEGIN:STANDARD
TZOFFSETFROM:-0500
TZOFFSETTO:-0600
TZNAME:CST
DTSTART:20261101T070000
END:STANDARD
BEGIN:DAYLIGHT
TZOFFSETFROM:-0600
TZOFFSETTO:-0500
TZNAME:CDT
DTSTART:20270314T080000
END:DAYLIGHT
BEGIN:STANDARD
TZOFFSETFROM:-0500
TZOFFSETTO:-0600
TZNAME:CST
DTSTART:20271107T070000
END:STANDARD
BEGIN:DAYLIGHT
TZOFFSETFROM:-0600
TZOFFSETTO:-0500
TZNAME:CDT
DTSTART:20280312T080000
END:DAYLIGHT
BEGIN:STANDARD
TZOFFSETFROM:-0500
TZOFFSETTO:-0600
TZNAME:CST
DTSTART:20281105T070000
END:STANDARD
END:VTIMEZONE
BEGIN:VEVENT
DTSTART;TZID=America/Chicago:20270702T180000
DTEND;TZID=America/Chicago:20270702T210000
DTSTAMP:20260423T181047
CREATED:20260312T184919Z
LAST-MODIFIED:20260313T012320Z
UID:10002630-1814551200-1814562000@www.fortatkinsonclub.org
SUMMARY:Social Dance
DESCRIPTION:Dance the night away — no partner\, no experience\, no problem. \nJoin us on the first Friday of every month for an evening of movement\, music\, and community. In partnership with Fred Astaire Dance Studios in Oconomowoc\, we’re bringing the joy of ballroom dance to Fort Atkinson in a way that’s welcoming\, fun\, and completely beginner-friendly. \nThe evening kicks off with an hour-long dance lesson from 6:00–7:00 PM\, led by professional ballroom dance instructors who will teach easy\, approachable steps you can actually use on the dance floor. From 7:00–9:00 PM\, the floor opens up for social dancing — put those new moves to work as we dance to modern hits you already know and love. \nWhether you’re a seasoned dancer or have never set foot on a dance floor\, you’ll feel right at home. Come solo\, bring a friend\, or make new ones here. \nFree. No partner necessary. All ages and abilities welcome.
URL:https://www.fortatkinsonclub.org/event/social-dance/2027-07-02/
LOCATION:211 S Water St E\, 53538\, 211 South Water Street East\, Fort Atkinson\, WI\, 53538\, United States
CATEGORIES:Community,Music
ATTACH;FMTTYPE=image/png:https://www.fortatkinsonclub.org/wp-content/uploads/2026/03/Social-Dance.png
END:VEVENT
BEGIN:VEVENT
DTSTART;TZID=America/Chicago:20270707T173000
DTEND;TZID=America/Chicago:20270707T183000
DTSTAMP:20260423T181047
CREATED:20260122T203322Z
LAST-MODIFIED:20260122T203322Z
UID:10002408-1814981400-1814985000@www.fortatkinsonclub.org
SUMMARY:Narcotics Anonymous Meeting
DESCRIPTION:Narcotics Anonymous meets in the Lodge room weekly at 5:30.
URL:https://www.fortatkinsonclub.org/event/narcotics-anonymous-meeting/2027-07-07/
LOCATION:211 S Water St E\, 53538\, 211 South Water Street East\, Fort Atkinson\, WI\, 53538\, United States
CATEGORIES:Health & Wellness
ATTACH;FMTTYPE=image/png:https://www.fortatkinsonclub.org/wp-content/uploads/2026/01/NA-logo.png
END:VEVENT
BEGIN:VEVENT
DTSTART;TZID=America/Chicago:20270714T173000
DTEND;TZID=America/Chicago:20270714T183000
DTSTAMP:20260423T181047
CREATED:20260122T203322Z
LAST-MODIFIED:20260122T203322Z
UID:10002409-1815586200-1815589800@www.fortatkinsonclub.org
SUMMARY:Narcotics Anonymous Meeting
DESCRIPTION:Narcotics Anonymous meets in the Lodge room weekly at 5:30.
URL:https://www.fortatkinsonclub.org/event/narcotics-anonymous-meeting/2027-07-14/
LOCATION:211 S Water St E\, 53538\, 211 South Water Street East\, Fort Atkinson\, WI\, 53538\, United States
CATEGORIES:Health & Wellness
ATTACH;FMTTYPE=image/png:https://www.fortatkinsonclub.org/wp-content/uploads/2026/01/NA-logo.png
END:VEVENT
BEGIN:VEVENT
DTSTART;TZID=America/Chicago:20270720T173000
DTEND;TZID=America/Chicago:20270720T183000
DTSTAMP:20260423T181047
CREATED:20230227T200833Z
LAST-MODIFIED:20250115T155450Z
UID:10002196-1816104600-1816108200@www.fortatkinsonclub.org
SUMMARY:Fort Club Board Meeting
DESCRIPTION:
URL:https://www.fortatkinsonclub.org/event/fort-club-board-meeting/2027-07-20/
LOCATION:211 S Water St E\, 53538\, 211 South Water Street East\, Fort Atkinson\, WI\, 53538\, United States
ATTACH;FMTTYPE=image/jpeg:https://www.fortatkinsonclub.org/wp-content/uploads/2023/02/Failte4-scaled.jpg
END:VEVENT
BEGIN:VEVENT
DTSTART;TZID=America/Chicago:20270721T173000
DTEND;TZID=America/Chicago:20270721T183000
DTSTAMP:20260423T181047
CREATED:20260122T203322Z
LAST-MODIFIED:20260122T203322Z
UID:10002410-1816191000-1816194600@www.fortatkinsonclub.org
SUMMARY:Narcotics Anonymous Meeting
DESCRIPTION:Narcotics Anonymous meets in the Lodge room weekly at 5:30.
URL:https://www.fortatkinsonclub.org/event/narcotics-anonymous-meeting/2027-07-21/
LOCATION:211 S Water St E\, 53538\, 211 South Water Street East\, Fort Atkinson\, WI\, 53538\, United States
CATEGORIES:Health & Wellness
ATTACH;FMTTYPE=image/png:https://www.fortatkinsonclub.org/wp-content/uploads/2026/01/NA-logo.png
END:VEVENT
BEGIN:VEVENT
DTSTART;TZID=America/Chicago:20270728T173000
DTEND;TZID=America/Chicago:20270728T183000
DTSTAMP:20260423T181047
CREATED:20260122T203322Z
LAST-MODIFIED:20260122T203322Z
UID:10002411-1816795800-1816799400@www.fortatkinsonclub.org
SUMMARY:Narcotics Anonymous Meeting
DESCRIPTION:Narcotics Anonymous meets in the Lodge room weekly at 5:30.
URL:https://www.fortatkinsonclub.org/event/narcotics-anonymous-meeting/2027-07-28/
LOCATION:211 S Water St E\, 53538\, 211 South Water Street East\, Fort Atkinson\, WI\, 53538\, United States
CATEGORIES:Health & Wellness
ATTACH;FMTTYPE=image/png:https://www.fortatkinsonclub.org/wp-content/uploads/2026/01/NA-logo.png
END:VEVENT
BEGIN:VEVENT
DTSTART;TZID=America/Chicago:20270804T173000
DTEND;TZID=America/Chicago:20270804T183000
DTSTAMP:20260423T181047
CREATED:20260122T203322Z
LAST-MODIFIED:20260122T203322Z
UID:10002412-1817400600-1817404200@www.fortatkinsonclub.org
SUMMARY:Narcotics Anonymous Meeting
DESCRIPTION:Narcotics Anonymous meets in the Lodge room weekly at 5:30.
URL:https://www.fortatkinsonclub.org/event/narcotics-anonymous-meeting/2027-08-04/
LOCATION:211 S Water St E\, 53538\, 211 South Water Street East\, Fort Atkinson\, WI\, 53538\, United States
CATEGORIES:Health & Wellness
ATTACH;FMTTYPE=image/png:https://www.fortatkinsonclub.org/wp-content/uploads/2026/01/NA-logo.png
END:VEVENT
BEGIN:VEVENT
DTSTART;TZID=America/Chicago:20270806T180000
DTEND;TZID=America/Chicago:20270806T210000
DTSTAMP:20260423T181047
CREATED:20260312T184919Z
LAST-MODIFIED:20260313T012320Z
UID:10002631-1817575200-1817586000@www.fortatkinsonclub.org
SUMMARY:Social Dance
DESCRIPTION:Dance the night away — no partner\, no experience\, no problem. \nJoin us on the first Friday of every month for an evening of movement\, music\, and community. In partnership with Fred Astaire Dance Studios in Oconomowoc\, we’re bringing the joy of ballroom dance to Fort Atkinson in a way that’s welcoming\, fun\, and completely beginner-friendly. \nThe evening kicks off with an hour-long dance lesson from 6:00–7:00 PM\, led by professional ballroom dance instructors who will teach easy\, approachable steps you can actually use on the dance floor. From 7:00–9:00 PM\, the floor opens up for social dancing — put those new moves to work as we dance to modern hits you already know and love. \nWhether you’re a seasoned dancer or have never set foot on a dance floor\, you’ll feel right at home. Come solo\, bring a friend\, or make new ones here. \nFree. No partner necessary. All ages and abilities welcome.
URL:https://www.fortatkinsonclub.org/event/social-dance/2027-08-06/
LOCATION:211 S Water St E\, 53538\, 211 South Water Street East\, Fort Atkinson\, WI\, 53538\, United States
CATEGORIES:Community,Music
ATTACH;FMTTYPE=image/png:https://www.fortatkinsonclub.org/wp-content/uploads/2026/03/Social-Dance.png
END:VEVENT
BEGIN:VEVENT
DTSTART;TZID=America/Chicago:20270811T173000
DTEND;TZID=America/Chicago:20270811T183000
DTSTAMP:20260423T181047
CREATED:20260122T203322Z
LAST-MODIFIED:20260122T203322Z
UID:10002413-1818005400-1818009000@www.fortatkinsonclub.org
SUMMARY:Narcotics Anonymous Meeting
DESCRIPTION:Narcotics Anonymous meets in the Lodge room weekly at 5:30.
URL:https://www.fortatkinsonclub.org/event/narcotics-anonymous-meeting/2027-08-11/
LOCATION:211 S Water St E\, 53538\, 211 South Water Street East\, Fort Atkinson\, WI\, 53538\, United States
CATEGORIES:Health & Wellness
ATTACH;FMTTYPE=image/png:https://www.fortatkinsonclub.org/wp-content/uploads/2026/01/NA-logo.png
END:VEVENT
BEGIN:VEVENT
DTSTART;TZID=America/Chicago:20270817T173000
DTEND;TZID=America/Chicago:20270817T183000
DTSTAMP:20260423T181047
CREATED:20230227T200833Z
LAST-MODIFIED:20250115T155450Z
UID:10002197-1818523800-1818527400@www.fortatkinsonclub.org
SUMMARY:Fort Club Board Meeting
DESCRIPTION:
URL:https://www.fortatkinsonclub.org/event/fort-club-board-meeting/2027-08-17/
LOCATION:211 S Water St E\, 53538\, 211 South Water Street East\, Fort Atkinson\, WI\, 53538\, United States
ATTACH;FMTTYPE=image/jpeg:https://www.fortatkinsonclub.org/wp-content/uploads/2023/02/Failte4-scaled.jpg
END:VEVENT
BEGIN:VEVENT
DTSTART;TZID=America/Chicago:20270818T173000
DTEND;TZID=America/Chicago:20270818T183000
DTSTAMP:20260423T181047
CREATED:20260122T203322Z
LAST-MODIFIED:20260122T203322Z
UID:10002414-1818610200-1818613800@www.fortatkinsonclub.org
SUMMARY:Narcotics Anonymous Meeting
DESCRIPTION:Narcotics Anonymous meets in the Lodge room weekly at 5:30.
URL:https://www.fortatkinsonclub.org/event/narcotics-anonymous-meeting/2027-08-18/
LOCATION:211 S Water St E\, 53538\, 211 South Water Street East\, Fort Atkinson\, WI\, 53538\, United States
CATEGORIES:Health & Wellness
ATTACH;FMTTYPE=image/png:https://www.fortatkinsonclub.org/wp-content/uploads/2026/01/NA-logo.png
END:VEVENT
BEGIN:VEVENT
DTSTART;TZID=America/Chicago:20270825T173000
DTEND;TZID=America/Chicago:20270825T183000
DTSTAMP:20260423T181047
CREATED:20260122T203322Z
LAST-MODIFIED:20260122T203322Z
UID:10002415-1819215000-1819218600@www.fortatkinsonclub.org
SUMMARY:Narcotics Anonymous Meeting
DESCRIPTION:Narcotics Anonymous meets in the Lodge room weekly at 5:30.
URL:https://www.fortatkinsonclub.org/event/narcotics-anonymous-meeting/2027-08-25/
LOCATION:211 S Water St E\, 53538\, 211 South Water Street East\, Fort Atkinson\, WI\, 53538\, United States
CATEGORIES:Health & Wellness
ATTACH;FMTTYPE=image/png:https://www.fortatkinsonclub.org/wp-content/uploads/2026/01/NA-logo.png
END:VEVENT
BEGIN:VEVENT
DTSTART;TZID=America/Chicago:20270901T173000
DTEND;TZID=America/Chicago:20270901T183000
DTSTAMP:20260423T181047
CREATED:20260122T203322Z
LAST-MODIFIED:20260122T203322Z
UID:10002416-1819819800-1819823400@www.fortatkinsonclub.org
SUMMARY:Narcotics Anonymous Meeting
DESCRIPTION:Narcotics Anonymous meets in the Lodge room weekly at 5:30.
URL:https://www.fortatkinsonclub.org/event/narcotics-anonymous-meeting/2027-09-01/
LOCATION:211 S Water St E\, 53538\, 211 South Water Street East\, Fort Atkinson\, WI\, 53538\, United States
CATEGORIES:Health & Wellness
ATTACH;FMTTYPE=image/png:https://www.fortatkinsonclub.org/wp-content/uploads/2026/01/NA-logo.png
END:VEVENT
BEGIN:VEVENT
DTSTART;TZID=America/Chicago:20270903T180000
DTEND;TZID=America/Chicago:20270903T210000
DTSTAMP:20260423T181047
CREATED:20260312T184919Z
LAST-MODIFIED:20260313T012320Z
UID:10002632-1819994400-1820005200@www.fortatkinsonclub.org
SUMMARY:Social Dance
DESCRIPTION:Dance the night away — no partner\, no experience\, no problem. \nJoin us on the first Friday of every month for an evening of movement\, music\, and community. In partnership with Fred Astaire Dance Studios in Oconomowoc\, we’re bringing the joy of ballroom dance to Fort Atkinson in a way that’s welcoming\, fun\, and completely beginner-friendly. \nThe evening kicks off with an hour-long dance lesson from 6:00–7:00 PM\, led by professional ballroom dance instructors who will teach easy\, approachable steps you can actually use on the dance floor. From 7:00–9:00 PM\, the floor opens up for social dancing — put those new moves to work as we dance to modern hits you already know and love. \nWhether you’re a seasoned dancer or have never set foot on a dance floor\, you’ll feel right at home. Come solo\, bring a friend\, or make new ones here. \nFree. No partner necessary. All ages and abilities welcome.
URL:https://www.fortatkinsonclub.org/event/social-dance/2027-09-03/
LOCATION:211 S Water St E\, 53538\, 211 South Water Street East\, Fort Atkinson\, WI\, 53538\, United States
CATEGORIES:Community,Music
ATTACH;FMTTYPE=image/png:https://www.fortatkinsonclub.org/wp-content/uploads/2026/03/Social-Dance.png
END:VEVENT
BEGIN:VEVENT
DTSTART;TZID=America/Chicago:20270908T173000
DTEND;TZID=America/Chicago:20270908T183000
DTSTAMP:20260423T181047
CREATED:20260122T203322Z
LAST-MODIFIED:20260122T203322Z
UID:10002417-1820424600-1820428200@www.fortatkinsonclub.org
SUMMARY:Narcotics Anonymous Meeting
DESCRIPTION:Narcotics Anonymous meets in the Lodge room weekly at 5:30.
URL:https://www.fortatkinsonclub.org/event/narcotics-anonymous-meeting/2027-09-08/
LOCATION:211 S Water St E\, 53538\, 211 South Water Street East\, Fort Atkinson\, WI\, 53538\, United States
CATEGORIES:Health & Wellness
ATTACH;FMTTYPE=image/png:https://www.fortatkinsonclub.org/wp-content/uploads/2026/01/NA-logo.png
END:VEVENT
BEGIN:VEVENT
DTSTART;TZID=America/Chicago:20270915T173000
DTEND;TZID=America/Chicago:20270915T183000
DTSTAMP:20260423T181047
CREATED:20260122T203322Z
LAST-MODIFIED:20260122T203322Z
UID:10002418-1821029400-1821033000@www.fortatkinsonclub.org
SUMMARY:Narcotics Anonymous Meeting
DESCRIPTION:Narcotics Anonymous meets in the Lodge room weekly at 5:30.
URL:https://www.fortatkinsonclub.org/event/narcotics-anonymous-meeting/2027-09-15/
LOCATION:211 S Water St E\, 53538\, 211 South Water Street East\, Fort Atkinson\, WI\, 53538\, United States
CATEGORIES:Health & Wellness
ATTACH;FMTTYPE=image/png:https://www.fortatkinsonclub.org/wp-content/uploads/2026/01/NA-logo.png
END:VEVENT
BEGIN:VEVENT
DTSTART;TZID=America/Chicago:20270921T173000
DTEND;TZID=America/Chicago:20270921T183000
DTSTAMP:20260423T181047
CREATED:20230227T200833Z
LAST-MODIFIED:20250115T155450Z
UID:10002198-1821547800-1821551400@www.fortatkinsonclub.org
SUMMARY:Fort Club Board Meeting
DESCRIPTION:
URL:https://www.fortatkinsonclub.org/event/fort-club-board-meeting/2027-09-21/
LOCATION:211 S Water St E\, 53538\, 211 South Water Street East\, Fort Atkinson\, WI\, 53538\, United States
ATTACH;FMTTYPE=image/jpeg:https://www.fortatkinsonclub.org/wp-content/uploads/2023/02/Failte4-scaled.jpg
END:VEVENT
BEGIN:VEVENT
DTSTART;TZID=America/Chicago:20270922T173000
DTEND;TZID=America/Chicago:20270922T183000
DTSTAMP:20260423T181047
CREATED:20260122T203322Z
LAST-MODIFIED:20260122T203322Z
UID:10002419-1821634200-1821637800@www.fortatkinsonclub.org
SUMMARY:Narcotics Anonymous Meeting
DESCRIPTION:Narcotics Anonymous meets in the Lodge room weekly at 5:30.
URL:https://www.fortatkinsonclub.org/event/narcotics-anonymous-meeting/2027-09-22/
LOCATION:211 S Water St E\, 53538\, 211 South Water Street East\, Fort Atkinson\, WI\, 53538\, United States
CATEGORIES:Health & Wellness
ATTACH;FMTTYPE=image/png:https://www.fortatkinsonclub.org/wp-content/uploads/2026/01/NA-logo.png
END:VEVENT
BEGIN:VEVENT
DTSTART;TZID=America/Chicago:20270929T173000
DTEND;TZID=America/Chicago:20270929T183000
DTSTAMP:20260423T181047
CREATED:20260122T203322Z
LAST-MODIFIED:20260122T203322Z
UID:10002420-1822239000-1822242600@www.fortatkinsonclub.org
SUMMARY:Narcotics Anonymous Meeting
DESCRIPTION:Narcotics Anonymous meets in the Lodge room weekly at 5:30.
URL:https://www.fortatkinsonclub.org/event/narcotics-anonymous-meeting/2027-09-29/
LOCATION:211 S Water St E\, 53538\, 211 South Water Street East\, Fort Atkinson\, WI\, 53538\, United States
CATEGORIES:Health & Wellness
ATTACH;FMTTYPE=image/png:https://www.fortatkinsonclub.org/wp-content/uploads/2026/01/NA-logo.png
END:VEVENT
BEGIN:VEVENT
DTSTART;TZID=America/Chicago:20271001T180000
DTEND;TZID=America/Chicago:20271001T210000
DTSTAMP:20260423T181047
CREATED:20260312T184919Z
LAST-MODIFIED:20260313T012320Z
UID:10002633-1822413600-1822424400@www.fortatkinsonclub.org
SUMMARY:Social Dance
DESCRIPTION:Dance the night away — no partner\, no experience\, no problem. \nJoin us on the first Friday of every month for an evening of movement\, music\, and community. In partnership with Fred Astaire Dance Studios in Oconomowoc\, we’re bringing the joy of ballroom dance to Fort Atkinson in a way that’s welcoming\, fun\, and completely beginner-friendly. \nThe evening kicks off with an hour-long dance lesson from 6:00–7:00 PM\, led by professional ballroom dance instructors who will teach easy\, approachable steps you can actually use on the dance floor. From 7:00–9:00 PM\, the floor opens up for social dancing — put those new moves to work as we dance to modern hits you already know and love. \nWhether you’re a seasoned dancer or have never set foot on a dance floor\, you’ll feel right at home. Come solo\, bring a friend\, or make new ones here. \nFree. No partner necessary. All ages and abilities welcome.
URL:https://www.fortatkinsonclub.org/event/social-dance/2027-10-01/
LOCATION:211 S Water St E\, 53538\, 211 South Water Street East\, Fort Atkinson\, WI\, 53538\, United States
CATEGORIES:Community,Music
ATTACH;FMTTYPE=image/png:https://www.fortatkinsonclub.org/wp-content/uploads/2026/03/Social-Dance.png
END:VEVENT
BEGIN:VEVENT
DTSTART;TZID=America/Chicago:20271006T173000
DTEND;TZID=America/Chicago:20271006T183000
DTSTAMP:20260423T181047
CREATED:20260122T203322Z
LAST-MODIFIED:20260122T203322Z
UID:10002421-1822843800-1822847400@www.fortatkinsonclub.org
SUMMARY:Narcotics Anonymous Meeting
DESCRIPTION:Narcotics Anonymous meets in the Lodge room weekly at 5:30.
URL:https://www.fortatkinsonclub.org/event/narcotics-anonymous-meeting/2027-10-06/
LOCATION:211 S Water St E\, 53538\, 211 South Water Street East\, Fort Atkinson\, WI\, 53538\, United States
CATEGORIES:Health & Wellness
ATTACH;FMTTYPE=image/png:https://www.fortatkinsonclub.org/wp-content/uploads/2026/01/NA-logo.png
END:VEVENT
BEGIN:VEVENT
DTSTART;TZID=America/Chicago:20271013T173000
DTEND;TZID=America/Chicago:20271013T183000
DTSTAMP:20260423T181047
CREATED:20260122T203322Z
LAST-MODIFIED:20260122T203322Z
UID:10002422-1823448600-1823452200@www.fortatkinsonclub.org
SUMMARY:Narcotics Anonymous Meeting
DESCRIPTION:Narcotics Anonymous meets in the Lodge room weekly at 5:30.
URL:https://www.fortatkinsonclub.org/event/narcotics-anonymous-meeting/2027-10-13/
LOCATION:211 S Water St E\, 53538\, 211 South Water Street East\, Fort Atkinson\, WI\, 53538\, United States
CATEGORIES:Health & Wellness
ATTACH;FMTTYPE=image/png:https://www.fortatkinsonclub.org/wp-content/uploads/2026/01/NA-logo.png
END:VEVENT
BEGIN:VEVENT
DTSTART;TZID=America/Chicago:20271019T173000
DTEND;TZID=America/Chicago:20271019T183000
DTSTAMP:20260423T181047
CREATED:20230227T200833Z
LAST-MODIFIED:20250115T155450Z
UID:10002199-1823967000-1823970600@www.fortatkinsonclub.org
SUMMARY:Fort Club Board Meeting
DESCRIPTION:
URL:https://www.fortatkinsonclub.org/event/fort-club-board-meeting/2027-10-19/
LOCATION:211 S Water St E\, 53538\, 211 South Water Street East\, Fort Atkinson\, WI\, 53538\, United States
ATTACH;FMTTYPE=image/jpeg:https://www.fortatkinsonclub.org/wp-content/uploads/2023/02/Failte4-scaled.jpg
END:VEVENT
BEGIN:VEVENT
DTSTART;TZID=America/Chicago:20271020T173000
DTEND;TZID=America/Chicago:20271020T183000
DTSTAMP:20260423T181047
CREATED:20260122T203322Z
LAST-MODIFIED:20260122T203322Z
UID:10002423-1824053400-1824057000@www.fortatkinsonclub.org
SUMMARY:Narcotics Anonymous Meeting
DESCRIPTION:Narcotics Anonymous meets in the Lodge room weekly at 5:30.
URL:https://www.fortatkinsonclub.org/event/narcotics-anonymous-meeting/2027-10-20/
LOCATION:211 S Water St E\, 53538\, 211 South Water Street East\, Fort Atkinson\, WI\, 53538\, United States
CATEGORIES:Health & Wellness
ATTACH;FMTTYPE=image/png:https://www.fortatkinsonclub.org/wp-content/uploads/2026/01/NA-logo.png
END:VEVENT
BEGIN:VEVENT
DTSTART;TZID=America/Chicago:20271027T173000
DTEND;TZID=America/Chicago:20271027T183000
DTSTAMP:20260423T181047
CREATED:20260122T203322Z
LAST-MODIFIED:20260122T203322Z
UID:10002424-1824658200-1824661800@www.fortatkinsonclub.org
SUMMARY:Narcotics Anonymous Meeting
DESCRIPTION:Narcotics Anonymous meets in the Lodge room weekly at 5:30.
URL:https://www.fortatkinsonclub.org/event/narcotics-anonymous-meeting/2027-10-27/
LOCATION:211 S Water St E\, 53538\, 211 South Water Street East\, Fort Atkinson\, WI\, 53538\, United States
CATEGORIES:Health & Wellness
ATTACH;FMTTYPE=image/png:https://www.fortatkinsonclub.org/wp-content/uploads/2026/01/NA-logo.png
END:VEVENT
BEGIN:VEVENT
DTSTART;TZID=America/Chicago:20271103T173000
DTEND;TZID=America/Chicago:20271103T183000
DTSTAMP:20260423T181047
CREATED:20260122T203322Z
LAST-MODIFIED:20260122T203322Z
UID:10002425-1825263000-1825266600@www.fortatkinsonclub.org
SUMMARY:Narcotics Anonymous Meeting
DESCRIPTION:Narcotics Anonymous meets in the Lodge room weekly at 5:30.
URL:https://www.fortatkinsonclub.org/event/narcotics-anonymous-meeting/2027-11-03/
LOCATION:211 S Water St E\, 53538\, 211 South Water Street East\, Fort Atkinson\, WI\, 53538\, United States
CATEGORIES:Health & Wellness
ATTACH;FMTTYPE=image/png:https://www.fortatkinsonclub.org/wp-content/uploads/2026/01/NA-logo.png
END:VEVENT
BEGIN:VEVENT
DTSTART;TZID=America/Chicago:20271105T180000
DTEND;TZID=America/Chicago:20271105T210000
DTSTAMP:20260423T181047
CREATED:20260312T184919Z
LAST-MODIFIED:20260313T012320Z
UID:10002634-1825437600-1825448400@www.fortatkinsonclub.org
SUMMARY:Social Dance
DESCRIPTION:Dance the night away — no partner\, no experience\, no problem. \nJoin us on the first Friday of every month for an evening of movement\, music\, and community. In partnership with Fred Astaire Dance Studios in Oconomowoc\, we’re bringing the joy of ballroom dance to Fort Atkinson in a way that’s welcoming\, fun\, and completely beginner-friendly. \nThe evening kicks off with an hour-long dance lesson from 6:00–7:00 PM\, led by professional ballroom dance instructors who will teach easy\, approachable steps you can actually use on the dance floor. From 7:00–9:00 PM\, the floor opens up for social dancing — put those new moves to work as we dance to modern hits you already know and love. \nWhether you’re a seasoned dancer or have never set foot on a dance floor\, you’ll feel right at home. Come solo\, bring a friend\, or make new ones here. \nFree. No partner necessary. All ages and abilities welcome.
URL:https://www.fortatkinsonclub.org/event/social-dance/2027-11-05/
LOCATION:211 S Water St E\, 53538\, 211 South Water Street East\, Fort Atkinson\, WI\, 53538\, United States
CATEGORIES:Community,Music
ATTACH;FMTTYPE=image/png:https://www.fortatkinsonclub.org/wp-content/uploads/2026/03/Social-Dance.png
END:VEVENT
BEGIN:VEVENT
DTSTART;TZID=America/Chicago:20271110T173000
DTEND;TZID=America/Chicago:20271110T183000
DTSTAMP:20260423T181047
CREATED:20260122T203322Z
LAST-MODIFIED:20260122T203322Z
UID:10002426-1825867800-1825871400@www.fortatkinsonclub.org
SUMMARY:Narcotics Anonymous Meeting
DESCRIPTION:Narcotics Anonymous meets in the Lodge room weekly at 5:30.
URL:https://www.fortatkinsonclub.org/event/narcotics-anonymous-meeting/2027-11-10/
LOCATION:211 S Water St E\, 53538\, 211 South Water Street East\, Fort Atkinson\, WI\, 53538\, United States
CATEGORIES:Health & Wellness
ATTACH;FMTTYPE=image/png:https://www.fortatkinsonclub.org/wp-content/uploads/2026/01/NA-logo.png
END:VEVENT
BEGIN:VEVENT
DTSTART;TZID=America/Chicago:20271116T173000
DTEND;TZID=America/Chicago:20271116T183000
DTSTAMP:20260423T181047
CREATED:20230227T200833Z
LAST-MODIFIED:20250115T155450Z
UID:10002200-1826386200-1826389800@www.fortatkinsonclub.org
SUMMARY:Fort Club Board Meeting
DESCRIPTION:
URL:https://www.fortatkinsonclub.org/event/fort-club-board-meeting/2027-11-16/
LOCATION:211 S Water St E\, 53538\, 211 South Water Street East\, Fort Atkinson\, WI\, 53538\, United States
ATTACH;FMTTYPE=image/jpeg:https://www.fortatkinsonclub.org/wp-content/uploads/2023/02/Failte4-scaled.jpg
END:VEVENT
BEGIN:VEVENT
DTSTART;TZID=America/Chicago:20271117T173000
DTEND;TZID=America/Chicago:20271117T183000
DTSTAMP:20260423T181047
CREATED:20260122T203322Z
LAST-MODIFIED:20260122T203322Z
UID:10002427-1826472600-1826476200@www.fortatkinsonclub.org
SUMMARY:Narcotics Anonymous Meeting
DESCRIPTION:Narcotics Anonymous meets in the Lodge room weekly at 5:30.
URL:https://www.fortatkinsonclub.org/event/narcotics-anonymous-meeting/2027-11-17/
LOCATION:211 S Water St E\, 53538\, 211 South Water Street East\, Fort Atkinson\, WI\, 53538\, United States
CATEGORIES:Health & Wellness
ATTACH;FMTTYPE=image/png:https://www.fortatkinsonclub.org/wp-content/uploads/2026/01/NA-logo.png
END:VEVENT
END:VCALENDAR