BEGIN:VCALENDAR
VERSION:2.0
PRODID:-//The Fort Atkinson Club - ECPv6.15.20//NONSGML v1.0//EN
CALSCALE:GREGORIAN
METHOD:PUBLISH
X-ORIGINAL-URL:https://www.fortatkinsonclub.org
X-WR-CALDESC:Events for The Fort Atkinson Club
REFRESH-INTERVAL;VALUE=DURATION:PT1H
X-Robots-Tag:noindex
X-PUBLISHED-TTL:PT1H
BEGIN:VTIMEZONE
TZID:America/Chicago
BEGIN:DAYLIGHT
TZOFFSETFROM:-0600
TZOFFSETTO:-0500
TZNAME:CDT
DTSTART:20280312T080000
END:DAYLIGHT
BEGIN:STANDARD
TZOFFSETFROM:-0500
TZOFFSETTO:-0600
TZNAME:CST
DTSTART:20281105T070000
END:STANDARD
BEGIN:DAYLIGHT
TZOFFSETFROM:-0600
TZOFFSETTO:-0500
TZNAME:CDT
DTSTART:20290311T080000
END:DAYLIGHT
BEGIN:STANDARD
TZOFFSETFROM:-0500
TZOFFSETTO:-0600
TZNAME:CST
DTSTART:20291104T070000
END:STANDARD
BEGIN:DAYLIGHT
TZOFFSETFROM:-0600
TZOFFSETTO:-0500
TZNAME:CDT
DTSTART:20300310T080000
END:DAYLIGHT
BEGIN:STANDARD
TZOFFSETFROM:-0500
TZOFFSETTO:-0600
TZNAME:CST
DTSTART:20301103T070000
END:STANDARD
END:VTIMEZONE
BEGIN:VEVENT
DTSTART;TZID=America/Chicago:20290307T173000
DTEND;TZID=America/Chicago:20290307T183000
DTSTAMP:20260425T100108
CREATED:20260122T203322Z
LAST-MODIFIED:20260122T203322Z
UID:10002495-1867599000-1867602600@www.fortatkinsonclub.org
SUMMARY:Narcotics Anonymous Meeting
DESCRIPTION:Narcotics Anonymous meets in the Lodge room weekly at 5:30.
URL:https://www.fortatkinsonclub.org/event/narcotics-anonymous-meeting/2029-03-07/
LOCATION:211 S Water St E\, 53538\, 211 South Water Street East\, Fort Atkinson\, WI\, 53538\, United States
CATEGORIES:Health & Wellness
ATTACH;FMTTYPE=image/png:https://www.fortatkinsonclub.org/wp-content/uploads/2026/01/NA-logo.png
END:VEVENT
BEGIN:VEVENT
DTSTART;TZID=America/Chicago:20290314T173000
DTEND;TZID=America/Chicago:20290314T183000
DTSTAMP:20260425T100108
CREATED:20260122T203322Z
LAST-MODIFIED:20260122T203322Z
UID:10002496-1868203800-1868207400@www.fortatkinsonclub.org
SUMMARY:Narcotics Anonymous Meeting
DESCRIPTION:Narcotics Anonymous meets in the Lodge room weekly at 5:30.
URL:https://www.fortatkinsonclub.org/event/narcotics-anonymous-meeting/2029-03-14/
LOCATION:211 S Water St E\, 53538\, 211 South Water Street East\, Fort Atkinson\, WI\, 53538\, United States
CATEGORIES:Health & Wellness
ATTACH;FMTTYPE=image/png:https://www.fortatkinsonclub.org/wp-content/uploads/2026/01/NA-logo.png
END:VEVENT
BEGIN:VEVENT
DTSTART;TZID=America/Chicago:20290320T173000
DTEND;TZID=America/Chicago:20290320T183000
DTSTAMP:20260425T100108
CREATED:20230227T200833Z
LAST-MODIFIED:20250115T155450Z
UID:10002216-1868722200-1868725800@www.fortatkinsonclub.org
SUMMARY:Fort Club Board Meeting
DESCRIPTION:
URL:https://www.fortatkinsonclub.org/event/fort-club-board-meeting/2029-03-20/
LOCATION:211 S Water St E\, 53538\, 211 South Water Street East\, Fort Atkinson\, WI\, 53538\, United States
ATTACH;FMTTYPE=image/jpeg:https://www.fortatkinsonclub.org/wp-content/uploads/2023/02/Failte4-scaled.jpg
END:VEVENT
BEGIN:VEVENT
DTSTART;TZID=America/Chicago:20290321T173000
DTEND;TZID=America/Chicago:20290321T183000
DTSTAMP:20260425T100108
CREATED:20260122T203322Z
LAST-MODIFIED:20260122T203322Z
UID:10002497-1868808600-1868812200@www.fortatkinsonclub.org
SUMMARY:Narcotics Anonymous Meeting
DESCRIPTION:Narcotics Anonymous meets in the Lodge room weekly at 5:30.
URL:https://www.fortatkinsonclub.org/event/narcotics-anonymous-meeting/2029-03-21/
LOCATION:211 S Water St E\, 53538\, 211 South Water Street East\, Fort Atkinson\, WI\, 53538\, United States
CATEGORIES:Health & Wellness
ATTACH;FMTTYPE=image/png:https://www.fortatkinsonclub.org/wp-content/uploads/2026/01/NA-logo.png
END:VEVENT
BEGIN:VEVENT
DTSTART;TZID=America/Chicago:20290328T173000
DTEND;TZID=America/Chicago:20290328T183000
DTSTAMP:20260425T100108
CREATED:20260122T203322Z
LAST-MODIFIED:20260122T203322Z
UID:10002498-1869413400-1869417000@www.fortatkinsonclub.org
SUMMARY:Narcotics Anonymous Meeting
DESCRIPTION:Narcotics Anonymous meets in the Lodge room weekly at 5:30.
URL:https://www.fortatkinsonclub.org/event/narcotics-anonymous-meeting/2029-03-28/
LOCATION:211 S Water St E\, 53538\, 211 South Water Street East\, Fort Atkinson\, WI\, 53538\, United States
CATEGORIES:Health & Wellness
ATTACH;FMTTYPE=image/png:https://www.fortatkinsonclub.org/wp-content/uploads/2026/01/NA-logo.png
END:VEVENT
BEGIN:VEVENT
DTSTART;TZID=America/Chicago:20290404T173000
DTEND;TZID=America/Chicago:20290404T183000
DTSTAMP:20260425T100108
CREATED:20260122T203322Z
LAST-MODIFIED:20260122T203322Z
UID:10002499-1870018200-1870021800@www.fortatkinsonclub.org
SUMMARY:Narcotics Anonymous Meeting
DESCRIPTION:Narcotics Anonymous meets in the Lodge room weekly at 5:30.
URL:https://www.fortatkinsonclub.org/event/narcotics-anonymous-meeting/2029-04-04/
LOCATION:211 S Water St E\, 53538\, 211 South Water Street East\, Fort Atkinson\, WI\, 53538\, United States
CATEGORIES:Health & Wellness
ATTACH;FMTTYPE=image/png:https://www.fortatkinsonclub.org/wp-content/uploads/2026/01/NA-logo.png
END:VEVENT
BEGIN:VEVENT
DTSTART;TZID=America/Chicago:20290406T180000
DTEND;TZID=America/Chicago:20290406T210000
DTSTAMP:20260425T100108
CREATED:20260312T184919Z
LAST-MODIFIED:20260313T012320Z
UID:10002651-1870192800-1870203600@www.fortatkinsonclub.org
SUMMARY:Social Dance
DESCRIPTION:Dance the night away — no partner\, no experience\, no problem. \nJoin us on the first Friday of every month for an evening of movement\, music\, and community. In partnership with Fred Astaire Dance Studios in Oconomowoc\, we’re bringing the joy of ballroom dance to Fort Atkinson in a way that’s welcoming\, fun\, and completely beginner-friendly. \nThe evening kicks off with an hour-long dance lesson from 6:00–7:00 PM\, led by professional ballroom dance instructors who will teach easy\, approachable steps you can actually use on the dance floor. From 7:00–9:00 PM\, the floor opens up for social dancing — put those new moves to work as we dance to modern hits you already know and love. \nWhether you’re a seasoned dancer or have never set foot on a dance floor\, you’ll feel right at home. Come solo\, bring a friend\, or make new ones here. \nFree. No partner necessary. All ages and abilities welcome.
URL:https://www.fortatkinsonclub.org/event/social-dance/2029-04-06/
LOCATION:211 S Water St E\, 53538\, 211 South Water Street East\, Fort Atkinson\, WI\, 53538\, United States
CATEGORIES:Community,Music
ATTACH;FMTTYPE=image/png:https://www.fortatkinsonclub.org/wp-content/uploads/2026/03/Social-Dance.png
END:VEVENT
BEGIN:VEVENT
DTSTART;TZID=America/Chicago:20290411T173000
DTEND;TZID=America/Chicago:20290411T183000
DTSTAMP:20260425T100108
CREATED:20260122T203322Z
LAST-MODIFIED:20260122T203322Z
UID:10002500-1870623000-1870626600@www.fortatkinsonclub.org
SUMMARY:Narcotics Anonymous Meeting
DESCRIPTION:Narcotics Anonymous meets in the Lodge room weekly at 5:30.
URL:https://www.fortatkinsonclub.org/event/narcotics-anonymous-meeting/2029-04-11/
LOCATION:211 S Water St E\, 53538\, 211 South Water Street East\, Fort Atkinson\, WI\, 53538\, United States
CATEGORIES:Health & Wellness
ATTACH;FMTTYPE=image/png:https://www.fortatkinsonclub.org/wp-content/uploads/2026/01/NA-logo.png
END:VEVENT
BEGIN:VEVENT
DTSTART;TZID=America/Chicago:20290417T173000
DTEND;TZID=America/Chicago:20290417T183000
DTSTAMP:20260425T100108
CREATED:20230227T200833Z
LAST-MODIFIED:20250115T155450Z
UID:10002217-1871141400-1871145000@www.fortatkinsonclub.org
SUMMARY:Fort Club Board Meeting
DESCRIPTION:
URL:https://www.fortatkinsonclub.org/event/fort-club-board-meeting/2029-04-17/
LOCATION:211 S Water St E\, 53538\, 211 South Water Street East\, Fort Atkinson\, WI\, 53538\, United States
ATTACH;FMTTYPE=image/jpeg:https://www.fortatkinsonclub.org/wp-content/uploads/2023/02/Failte4-scaled.jpg
END:VEVENT
BEGIN:VEVENT
DTSTART;TZID=America/Chicago:20290418T173000
DTEND;TZID=America/Chicago:20290418T183000
DTSTAMP:20260425T100108
CREATED:20260122T203322Z
LAST-MODIFIED:20260122T203322Z
UID:10002501-1871227800-1871231400@www.fortatkinsonclub.org
SUMMARY:Narcotics Anonymous Meeting
DESCRIPTION:Narcotics Anonymous meets in the Lodge room weekly at 5:30.
URL:https://www.fortatkinsonclub.org/event/narcotics-anonymous-meeting/2029-04-18/
LOCATION:211 S Water St E\, 53538\, 211 South Water Street East\, Fort Atkinson\, WI\, 53538\, United States
CATEGORIES:Health & Wellness
ATTACH;FMTTYPE=image/png:https://www.fortatkinsonclub.org/wp-content/uploads/2026/01/NA-logo.png
END:VEVENT
BEGIN:VEVENT
DTSTART;TZID=America/Chicago:20290425T173000
DTEND;TZID=America/Chicago:20290425T183000
DTSTAMP:20260425T100108
CREATED:20260122T203322Z
LAST-MODIFIED:20260122T203322Z
UID:10002502-1871832600-1871836200@www.fortatkinsonclub.org
SUMMARY:Narcotics Anonymous Meeting
DESCRIPTION:Narcotics Anonymous meets in the Lodge room weekly at 5:30.
URL:https://www.fortatkinsonclub.org/event/narcotics-anonymous-meeting/2029-04-25/
LOCATION:211 S Water St E\, 53538\, 211 South Water Street East\, Fort Atkinson\, WI\, 53538\, United States
CATEGORIES:Health & Wellness
ATTACH;FMTTYPE=image/png:https://www.fortatkinsonclub.org/wp-content/uploads/2026/01/NA-logo.png
END:VEVENT
BEGIN:VEVENT
DTSTART;TZID=America/Chicago:20290502T173000
DTEND;TZID=America/Chicago:20290502T183000
DTSTAMP:20260425T100108
CREATED:20260122T203322Z
LAST-MODIFIED:20260122T203322Z
UID:10002503-1872437400-1872441000@www.fortatkinsonclub.org
SUMMARY:Narcotics Anonymous Meeting
DESCRIPTION:Narcotics Anonymous meets in the Lodge room weekly at 5:30.
URL:https://www.fortatkinsonclub.org/event/narcotics-anonymous-meeting/2029-05-02/
LOCATION:211 S Water St E\, 53538\, 211 South Water Street East\, Fort Atkinson\, WI\, 53538\, United States
CATEGORIES:Health & Wellness
ATTACH;FMTTYPE=image/png:https://www.fortatkinsonclub.org/wp-content/uploads/2026/01/NA-logo.png
END:VEVENT
BEGIN:VEVENT
DTSTART;TZID=America/Chicago:20290504T180000
DTEND;TZID=America/Chicago:20290504T210000
DTSTAMP:20260425T100109
CREATED:20260312T184919Z
LAST-MODIFIED:20260313T012320Z
UID:10002652-1872612000-1872622800@www.fortatkinsonclub.org
SUMMARY:Social Dance
DESCRIPTION:Dance the night away — no partner\, no experience\, no problem. \nJoin us on the first Friday of every month for an evening of movement\, music\, and community. In partnership with Fred Astaire Dance Studios in Oconomowoc\, we’re bringing the joy of ballroom dance to Fort Atkinson in a way that’s welcoming\, fun\, and completely beginner-friendly. \nThe evening kicks off with an hour-long dance lesson from 6:00–7:00 PM\, led by professional ballroom dance instructors who will teach easy\, approachable steps you can actually use on the dance floor. From 7:00–9:00 PM\, the floor opens up for social dancing — put those new moves to work as we dance to modern hits you already know and love. \nWhether you’re a seasoned dancer or have never set foot on a dance floor\, you’ll feel right at home. Come solo\, bring a friend\, or make new ones here. \nFree. No partner necessary. All ages and abilities welcome.
URL:https://www.fortatkinsonclub.org/event/social-dance/2029-05-04/
LOCATION:211 S Water St E\, 53538\, 211 South Water Street East\, Fort Atkinson\, WI\, 53538\, United States
CATEGORIES:Community,Music
ATTACH;FMTTYPE=image/png:https://www.fortatkinsonclub.org/wp-content/uploads/2026/03/Social-Dance.png
END:VEVENT
BEGIN:VEVENT
DTSTART;TZID=America/Chicago:20290509T173000
DTEND;TZID=America/Chicago:20290509T183000
DTSTAMP:20260425T100109
CREATED:20260122T203322Z
LAST-MODIFIED:20260122T203322Z
UID:10002504-1873042200-1873045800@www.fortatkinsonclub.org
SUMMARY:Narcotics Anonymous Meeting
DESCRIPTION:Narcotics Anonymous meets in the Lodge room weekly at 5:30.
URL:https://www.fortatkinsonclub.org/event/narcotics-anonymous-meeting/2029-05-09/
LOCATION:211 S Water St E\, 53538\, 211 South Water Street East\, Fort Atkinson\, WI\, 53538\, United States
CATEGORIES:Health & Wellness
ATTACH;FMTTYPE=image/png:https://www.fortatkinsonclub.org/wp-content/uploads/2026/01/NA-logo.png
END:VEVENT
BEGIN:VEVENT
DTSTART;TZID=America/Chicago:20290515T173000
DTEND;TZID=America/Chicago:20290515T183000
DTSTAMP:20260425T100109
CREATED:20230227T200833Z
LAST-MODIFIED:20250115T155450Z
UID:10002218-1873560600-1873564200@www.fortatkinsonclub.org
SUMMARY:Fort Club Board Meeting
DESCRIPTION:
URL:https://www.fortatkinsonclub.org/event/fort-club-board-meeting/2029-05-15/
LOCATION:211 S Water St E\, 53538\, 211 South Water Street East\, Fort Atkinson\, WI\, 53538\, United States
ATTACH;FMTTYPE=image/jpeg:https://www.fortatkinsonclub.org/wp-content/uploads/2023/02/Failte4-scaled.jpg
END:VEVENT
BEGIN:VEVENT
DTSTART;TZID=America/Chicago:20290516T173000
DTEND;TZID=America/Chicago:20290516T183000
DTSTAMP:20260425T100109
CREATED:20260122T203322Z
LAST-MODIFIED:20260122T203322Z
UID:10002505-1873647000-1873650600@www.fortatkinsonclub.org
SUMMARY:Narcotics Anonymous Meeting
DESCRIPTION:Narcotics Anonymous meets in the Lodge room weekly at 5:30.
URL:https://www.fortatkinsonclub.org/event/narcotics-anonymous-meeting/2029-05-16/
LOCATION:211 S Water St E\, 53538\, 211 South Water Street East\, Fort Atkinson\, WI\, 53538\, United States
CATEGORIES:Health & Wellness
ATTACH;FMTTYPE=image/png:https://www.fortatkinsonclub.org/wp-content/uploads/2026/01/NA-logo.png
END:VEVENT
BEGIN:VEVENT
DTSTART;TZID=America/Chicago:20290523T173000
DTEND;TZID=America/Chicago:20290523T183000
DTSTAMP:20260425T100109
CREATED:20260122T203322Z
LAST-MODIFIED:20260122T203322Z
UID:10002506-1874251800-1874255400@www.fortatkinsonclub.org
SUMMARY:Narcotics Anonymous Meeting
DESCRIPTION:Narcotics Anonymous meets in the Lodge room weekly at 5:30.
URL:https://www.fortatkinsonclub.org/event/narcotics-anonymous-meeting/2029-05-23/
LOCATION:211 S Water St E\, 53538\, 211 South Water Street East\, Fort Atkinson\, WI\, 53538\, United States
CATEGORIES:Health & Wellness
ATTACH;FMTTYPE=image/png:https://www.fortatkinsonclub.org/wp-content/uploads/2026/01/NA-logo.png
END:VEVENT
BEGIN:VEVENT
DTSTART;TZID=America/Chicago:20290530T173000
DTEND;TZID=America/Chicago:20290530T183000
DTSTAMP:20260425T100109
CREATED:20260122T203322Z
LAST-MODIFIED:20260122T203322Z
UID:10002507-1874856600-1874860200@www.fortatkinsonclub.org
SUMMARY:Narcotics Anonymous Meeting
DESCRIPTION:Narcotics Anonymous meets in the Lodge room weekly at 5:30.
URL:https://www.fortatkinsonclub.org/event/narcotics-anonymous-meeting/2029-05-30/
LOCATION:211 S Water St E\, 53538\, 211 South Water Street East\, Fort Atkinson\, WI\, 53538\, United States
CATEGORIES:Health & Wellness
ATTACH;FMTTYPE=image/png:https://www.fortatkinsonclub.org/wp-content/uploads/2026/01/NA-logo.png
END:VEVENT
BEGIN:VEVENT
DTSTART;TZID=America/Chicago:20290601T180000
DTEND;TZID=America/Chicago:20290601T210000
DTSTAMP:20260425T100109
CREATED:20260312T184919Z
LAST-MODIFIED:20260313T012320Z
UID:10002653-1875031200-1875042000@www.fortatkinsonclub.org
SUMMARY:Social Dance
DESCRIPTION:Dance the night away — no partner\, no experience\, no problem. \nJoin us on the first Friday of every month for an evening of movement\, music\, and community. In partnership with Fred Astaire Dance Studios in Oconomowoc\, we’re bringing the joy of ballroom dance to Fort Atkinson in a way that’s welcoming\, fun\, and completely beginner-friendly. \nThe evening kicks off with an hour-long dance lesson from 6:00–7:00 PM\, led by professional ballroom dance instructors who will teach easy\, approachable steps you can actually use on the dance floor. From 7:00–9:00 PM\, the floor opens up for social dancing — put those new moves to work as we dance to modern hits you already know and love. \nWhether you’re a seasoned dancer or have never set foot on a dance floor\, you’ll feel right at home. Come solo\, bring a friend\, or make new ones here. \nFree. No partner necessary. All ages and abilities welcome.
URL:https://www.fortatkinsonclub.org/event/social-dance/2029-06-01/
LOCATION:211 S Water St E\, 53538\, 211 South Water Street East\, Fort Atkinson\, WI\, 53538\, United States
CATEGORIES:Community,Music
ATTACH;FMTTYPE=image/png:https://www.fortatkinsonclub.org/wp-content/uploads/2026/03/Social-Dance.png
END:VEVENT
BEGIN:VEVENT
DTSTART;TZID=America/Chicago:20290606T173000
DTEND;TZID=America/Chicago:20290606T183000
DTSTAMP:20260425T100109
CREATED:20260122T203322Z
LAST-MODIFIED:20260122T203322Z
UID:10002508-1875461400-1875465000@www.fortatkinsonclub.org
SUMMARY:Narcotics Anonymous Meeting
DESCRIPTION:Narcotics Anonymous meets in the Lodge room weekly at 5:30.
URL:https://www.fortatkinsonclub.org/event/narcotics-anonymous-meeting/2029-06-06/
LOCATION:211 S Water St E\, 53538\, 211 South Water Street East\, Fort Atkinson\, WI\, 53538\, United States
CATEGORIES:Health & Wellness
ATTACH;FMTTYPE=image/png:https://www.fortatkinsonclub.org/wp-content/uploads/2026/01/NA-logo.png
END:VEVENT
BEGIN:VEVENT
DTSTART;TZID=America/Chicago:20290613T173000
DTEND;TZID=America/Chicago:20290613T183000
DTSTAMP:20260425T100109
CREATED:20260122T203322Z
LAST-MODIFIED:20260122T203322Z
UID:10002509-1876066200-1876069800@www.fortatkinsonclub.org
SUMMARY:Narcotics Anonymous Meeting
DESCRIPTION:Narcotics Anonymous meets in the Lodge room weekly at 5:30.
URL:https://www.fortatkinsonclub.org/event/narcotics-anonymous-meeting/2029-06-13/
LOCATION:211 S Water St E\, 53538\, 211 South Water Street East\, Fort Atkinson\, WI\, 53538\, United States
CATEGORIES:Health & Wellness
ATTACH;FMTTYPE=image/png:https://www.fortatkinsonclub.org/wp-content/uploads/2026/01/NA-logo.png
END:VEVENT
BEGIN:VEVENT
DTSTART;TZID=America/Chicago:20290619T173000
DTEND;TZID=America/Chicago:20290619T183000
DTSTAMP:20260425T100109
CREATED:20230227T200833Z
LAST-MODIFIED:20250115T155450Z
UID:10002219-1876584600-1876588200@www.fortatkinsonclub.org
SUMMARY:Fort Club Board Meeting
DESCRIPTION:
URL:https://www.fortatkinsonclub.org/event/fort-club-board-meeting/2029-06-19/
LOCATION:211 S Water St E\, 53538\, 211 South Water Street East\, Fort Atkinson\, WI\, 53538\, United States
ATTACH;FMTTYPE=image/jpeg:https://www.fortatkinsonclub.org/wp-content/uploads/2023/02/Failte4-scaled.jpg
END:VEVENT
BEGIN:VEVENT
DTSTART;TZID=America/Chicago:20290620T173000
DTEND;TZID=America/Chicago:20290620T183000
DTSTAMP:20260425T100109
CREATED:20260122T203322Z
LAST-MODIFIED:20260122T203322Z
UID:10002510-1876671000-1876674600@www.fortatkinsonclub.org
SUMMARY:Narcotics Anonymous Meeting
DESCRIPTION:Narcotics Anonymous meets in the Lodge room weekly at 5:30.
URL:https://www.fortatkinsonclub.org/event/narcotics-anonymous-meeting/2029-06-20/
LOCATION:211 S Water St E\, 53538\, 211 South Water Street East\, Fort Atkinson\, WI\, 53538\, United States
CATEGORIES:Health & Wellness
ATTACH;FMTTYPE=image/png:https://www.fortatkinsonclub.org/wp-content/uploads/2026/01/NA-logo.png
END:VEVENT
BEGIN:VEVENT
DTSTART;TZID=America/Chicago:20290627T173000
DTEND;TZID=America/Chicago:20290627T183000
DTSTAMP:20260425T100109
CREATED:20260122T203322Z
LAST-MODIFIED:20260122T203322Z
UID:10002511-1877275800-1877279400@www.fortatkinsonclub.org
SUMMARY:Narcotics Anonymous Meeting
DESCRIPTION:Narcotics Anonymous meets in the Lodge room weekly at 5:30.
URL:https://www.fortatkinsonclub.org/event/narcotics-anonymous-meeting/2029-06-27/
LOCATION:211 S Water St E\, 53538\, 211 South Water Street East\, Fort Atkinson\, WI\, 53538\, United States
CATEGORIES:Health & Wellness
ATTACH;FMTTYPE=image/png:https://www.fortatkinsonclub.org/wp-content/uploads/2026/01/NA-logo.png
END:VEVENT
BEGIN:VEVENT
DTSTART;TZID=America/Chicago:20290704T173000
DTEND;TZID=America/Chicago:20290704T183000
DTSTAMP:20260425T100109
CREATED:20260122T203322Z
LAST-MODIFIED:20260122T203322Z
UID:10002512-1877880600-1877884200@www.fortatkinsonclub.org
SUMMARY:Narcotics Anonymous Meeting
DESCRIPTION:Narcotics Anonymous meets in the Lodge room weekly at 5:30.
URL:https://www.fortatkinsonclub.org/event/narcotics-anonymous-meeting/2029-07-04/
LOCATION:211 S Water St E\, 53538\, 211 South Water Street East\, Fort Atkinson\, WI\, 53538\, United States
CATEGORIES:Health & Wellness
ATTACH;FMTTYPE=image/png:https://www.fortatkinsonclub.org/wp-content/uploads/2026/01/NA-logo.png
END:VEVENT
BEGIN:VEVENT
DTSTART;TZID=America/Chicago:20290706T180000
DTEND;TZID=America/Chicago:20290706T210000
DTSTAMP:20260425T100109
CREATED:20260312T184919Z
LAST-MODIFIED:20260313T012320Z
UID:10002654-1878055200-1878066000@www.fortatkinsonclub.org
SUMMARY:Social Dance
DESCRIPTION:Dance the night away — no partner\, no experience\, no problem. \nJoin us on the first Friday of every month for an evening of movement\, music\, and community. In partnership with Fred Astaire Dance Studios in Oconomowoc\, we’re bringing the joy of ballroom dance to Fort Atkinson in a way that’s welcoming\, fun\, and completely beginner-friendly. \nThe evening kicks off with an hour-long dance lesson from 6:00–7:00 PM\, led by professional ballroom dance instructors who will teach easy\, approachable steps you can actually use on the dance floor. From 7:00–9:00 PM\, the floor opens up for social dancing — put those new moves to work as we dance to modern hits you already know and love. \nWhether you’re a seasoned dancer or have never set foot on a dance floor\, you’ll feel right at home. Come solo\, bring a friend\, or make new ones here. \nFree. No partner necessary. All ages and abilities welcome.
URL:https://www.fortatkinsonclub.org/event/social-dance/2029-07-06/
LOCATION:211 S Water St E\, 53538\, 211 South Water Street East\, Fort Atkinson\, WI\, 53538\, United States
CATEGORIES:Community,Music
ATTACH;FMTTYPE=image/png:https://www.fortatkinsonclub.org/wp-content/uploads/2026/03/Social-Dance.png
END:VEVENT
BEGIN:VEVENT
DTSTART;TZID=America/Chicago:20290711T173000
DTEND;TZID=America/Chicago:20290711T183000
DTSTAMP:20260425T100109
CREATED:20260122T203322Z
LAST-MODIFIED:20260122T203322Z
UID:10002513-1878485400-1878489000@www.fortatkinsonclub.org
SUMMARY:Narcotics Anonymous Meeting
DESCRIPTION:Narcotics Anonymous meets in the Lodge room weekly at 5:30.
URL:https://www.fortatkinsonclub.org/event/narcotics-anonymous-meeting/2029-07-11/
LOCATION:211 S Water St E\, 53538\, 211 South Water Street East\, Fort Atkinson\, WI\, 53538\, United States
CATEGORIES:Health & Wellness
ATTACH;FMTTYPE=image/png:https://www.fortatkinsonclub.org/wp-content/uploads/2026/01/NA-logo.png
END:VEVENT
BEGIN:VEVENT
DTSTART;TZID=America/Chicago:20290717T173000
DTEND;TZID=America/Chicago:20290717T183000
DTSTAMP:20260425T100109
CREATED:20230227T200833Z
LAST-MODIFIED:20250115T155450Z
UID:10002220-1879003800-1879007400@www.fortatkinsonclub.org
SUMMARY:Fort Club Board Meeting
DESCRIPTION:
URL:https://www.fortatkinsonclub.org/event/fort-club-board-meeting/2029-07-17/
LOCATION:211 S Water St E\, 53538\, 211 South Water Street East\, Fort Atkinson\, WI\, 53538\, United States
ATTACH;FMTTYPE=image/jpeg:https://www.fortatkinsonclub.org/wp-content/uploads/2023/02/Failte4-scaled.jpg
END:VEVENT
BEGIN:VEVENT
DTSTART;TZID=America/Chicago:20290718T173000
DTEND;TZID=America/Chicago:20290718T183000
DTSTAMP:20260425T100109
CREATED:20260122T203322Z
LAST-MODIFIED:20260122T203322Z
UID:10002514-1879090200-1879093800@www.fortatkinsonclub.org
SUMMARY:Narcotics Anonymous Meeting
DESCRIPTION:Narcotics Anonymous meets in the Lodge room weekly at 5:30.
URL:https://www.fortatkinsonclub.org/event/narcotics-anonymous-meeting/2029-07-18/
LOCATION:211 S Water St E\, 53538\, 211 South Water Street East\, Fort Atkinson\, WI\, 53538\, United States
CATEGORIES:Health & Wellness
ATTACH;FMTTYPE=image/png:https://www.fortatkinsonclub.org/wp-content/uploads/2026/01/NA-logo.png
END:VEVENT
BEGIN:VEVENT
DTSTART;TZID=America/Chicago:20290725T173000
DTEND;TZID=America/Chicago:20290725T183000
DTSTAMP:20260425T100109
CREATED:20260122T203322Z
LAST-MODIFIED:20260122T203322Z
UID:10002515-1879695000-1879698600@www.fortatkinsonclub.org
SUMMARY:Narcotics Anonymous Meeting
DESCRIPTION:Narcotics Anonymous meets in the Lodge room weekly at 5:30.
URL:https://www.fortatkinsonclub.org/event/narcotics-anonymous-meeting/2029-07-25/
LOCATION:211 S Water St E\, 53538\, 211 South Water Street East\, Fort Atkinson\, WI\, 53538\, United States
CATEGORIES:Health & Wellness
ATTACH;FMTTYPE=image/png:https://www.fortatkinsonclub.org/wp-content/uploads/2026/01/NA-logo.png
END:VEVENT
END:VCALENDAR