BEGIN:VCALENDAR
VERSION:2.0
PRODID:-//The Fort Atkinson Club - ECPv6.15.20//NONSGML v1.0//EN
CALSCALE:GREGORIAN
METHOD:PUBLISH
X-WR-CALNAME:The Fort Atkinson Club
X-ORIGINAL-URL:https://www.fortatkinsonclub.org
X-WR-CALDESC:Events for The Fort Atkinson Club
REFRESH-INTERVAL;VALUE=DURATION:PT1H
X-Robots-Tag:noindex
X-PUBLISHED-TTL:PT1H
BEGIN:VTIMEZONE
TZID:America/Chicago
BEGIN:DAYLIGHT
TZOFFSETFROM:-0600
TZOFFSETTO:-0500
TZNAME:CDT
DTSTART:20220313T080000
END:DAYLIGHT
BEGIN:STANDARD
TZOFFSETFROM:-0500
TZOFFSETTO:-0600
TZNAME:CST
DTSTART:20221106T070000
END:STANDARD
BEGIN:DAYLIGHT
TZOFFSETFROM:-0600
TZOFFSETTO:-0500
TZNAME:CDT
DTSTART:20230312T080000
END:DAYLIGHT
BEGIN:STANDARD
TZOFFSETFROM:-0500
TZOFFSETTO:-0600
TZNAME:CST
DTSTART:20231105T070000
END:STANDARD
BEGIN:DAYLIGHT
TZOFFSETFROM:-0600
TZOFFSETTO:-0500
TZNAME:CDT
DTSTART:20240310T080000
END:DAYLIGHT
BEGIN:STANDARD
TZOFFSETFROM:-0500
TZOFFSETTO:-0600
TZNAME:CST
DTSTART:20241103T070000
END:STANDARD
END:VTIMEZONE
BEGIN:VEVENT
DTSTART;TZID=America/Chicago:20231025T160000
DTEND;TZID=America/Chicago:20231025T190000
DTSTAMP:20260425T111648
CREATED:20230227T194058Z
LAST-MODIFIED:20230227T194536Z
UID:10000467-1698249600-1698260400@www.fortatkinsonclub.org
SUMMARY:MUSIC LESSONS WITH ANGELA
DESCRIPTION:
URL:https://www.fortatkinsonclub.org/event/music-lessons-with-angela-3/2023-10-25/
LOCATION:211 S Water St E\, 53538\, 211 South Water Street East\, Fort Atkinson\, WI\, 53538\, United States
END:VEVENT
BEGIN:VEVENT
DTSTART;TZID=America/Chicago:20231024T160000
DTEND;TZID=America/Chicago:20231024T190000
DTSTAMP:20260425T111648
CREATED:20230227T193812Z
LAST-MODIFIED:20230227T193904Z
UID:10000362-1698163200-1698174000@www.fortatkinsonclub.org
SUMMARY:MUSIC LESSONS WITH ANGELA
DESCRIPTION:
URL:https://www.fortatkinsonclub.org/event/music-lessons-with-angela-2/2023-10-24/
LOCATION:211 S Water St E\, 53538\, 211 South Water Street East\, Fort Atkinson\, WI\, 53538\, United States
END:VEVENT
BEGIN:VEVENT
DTSTART;TZID=America/Chicago:20231023T120000
DTEND;TZID=America/Chicago:20231023T130000
DTSTAMP:20260425T111648
CREATED:20230227T193404Z
LAST-MODIFIED:20240710T171054Z
UID:10000273-1698062400-1698066000@www.fortatkinsonclub.org
SUMMARY:ROTARY GENERAL MEETINGS
DESCRIPTION:ROTARY is an organization of business and professional leaders united worldwide\, who provide humanitarian service\, encourage high ethical standards in all vocations\, and help build goodwill and peace in the world. ROTARY is the world’s first service club. The first Rotary club was founded in Chicago\, Illinois\, USA\, on February 23\, 1905. Rotary is some 1.2 million service-minded men and women belonging to over 32\, 000 Rotary clubs in virtually every nation in the world. Rotarians meet weekly for fellowship and interesting and informative programs dealing with topics of local and global importance. Membership is by invitation and reflects a wide cross-section of community representation. Rotarians plan and carry out a remarkable variety of humanitarian\, educational\, and cultural exchange programs that touch people’s lives in their local communities and our world community.
URL:https://www.fortatkinsonclub.org/event/rotary-general-meetings/2023-10-23/
LOCATION:211 S Water St E\, 53538\, 211 South Water Street East\, Fort Atkinson\, WI\, 53538\, United States
ATTACH;FMTTYPE=image/png:https://www.fortatkinsonclub.org/wp-content/uploads/2023/02/Rotary-Logo-5016.png
END:VEVENT
BEGIN:VEVENT
DTSTART;TZID=America/Chicago:20231022T160000
DTEND;TZID=America/Chicago:20231022T170000
DTSTAMP:20260425T111648
CREATED:20231011T152932Z
LAST-MODIFIED:20231011T152932Z
UID:10000919-1697990400-1697994000@www.fortatkinsonclub.org
SUMMARY:Chamber Series Concert - EStrella Piano Duo
DESCRIPTION:
URL:https://www.fortatkinsonclub.org/event/chamber-series-concert-estrella-piano-duo/
LOCATION:WI
END:VEVENT
BEGIN:VEVENT
DTSTART;TZID=America/Chicago:20231021T173000
DTEND;TZID=America/Chicago:20231021T230000
DTSTAMP:20260425T111648
CREATED:20230906T184035Z
LAST-MODIFIED:20230906T184723Z
UID:10000918-1697909400-1697929200@www.fortatkinsonclub.org
SUMMARY:110th Anniversary Gala
DESCRIPTION:
URL:https://www.fortatkinsonclub.org/event/110th-anniversary-gala/
LOCATION:211 S Water St E\, 53538\, 211 South Water Street East\, Fort Atkinson\, WI\, 53538\, United States
END:VEVENT
BEGIN:VEVENT
DTSTART;TZID=America/Chicago:20231020T180000
DTEND;TZID=America/Chicago:20231020T200000
DTSTAMP:20260425T111648
CREATED:20230301T164049Z
LAST-MODIFIED:20230301T164224Z
UID:10000626-1697824800-1697832000@www.fortatkinsonclub.org
SUMMARY:Patio Concert
DESCRIPTION:Kick up your heels and join us for our Patio Concerts. Held the third Friday in June\, July and August. \nWe look forward to  seeing you for an evening of singing\, laughter and dancing! \n 
URL:https://www.fortatkinsonclub.org/event/patio-concert/2023-10-20/
LOCATION:211 S Water St E\, 53538\, 211 South Water Street East\, Fort Atkinson\, WI\, 53538\, United States
END:VEVENT
BEGIN:VEVENT
DTSTART;TZID=America/Chicago:20231018T171500
DTEND;TZID=America/Chicago:20231018T180000
DTSTAMP:20260425T111648
CREATED:20230815T170314Z
LAST-MODIFIED:20230815T170314Z
UID:10000895-1697649300-1697652000@www.fortatkinsonclub.org
SUMMARY:Yoga with Gina
DESCRIPTION:
URL:https://www.fortatkinsonclub.org/event/yoga-with-gina-3/
LOCATION:211 S Water St E\, 53538\, 211 South Water Street East\, Fort Atkinson\, WI\, 53538\, United States
END:VEVENT
BEGIN:VEVENT
DTSTART;TZID=America/Chicago:20231018T163000
DTEND;TZID=America/Chicago:20231018T171000
DTSTAMP:20260425T111648
CREATED:20230815T165438Z
LAST-MODIFIED:20230815T165438Z
UID:10000884-1697646600-1697649000@www.fortatkinsonclub.org
SUMMARY:Body Blast with Tiffany
DESCRIPTION:
URL:https://www.fortatkinsonclub.org/event/body-blast-with-tiffany-3/
LOCATION:211 S Water St E\, 53538\, 211 South Water Street East\, Fort Atkinson\, WI\, 53538\, United States
END:VEVENT
BEGIN:VEVENT
DTSTART;TZID=America/Chicago:20231018T160000
DTEND;TZID=America/Chicago:20231018T190000
DTSTAMP:20260425T111648
CREATED:20230227T194058Z
LAST-MODIFIED:20230227T194536Z
UID:10000466-1697644800-1697655600@www.fortatkinsonclub.org
SUMMARY:MUSIC LESSONS WITH ANGELA
DESCRIPTION:
URL:https://www.fortatkinsonclub.org/event/music-lessons-with-angela-3/2023-10-18/
LOCATION:211 S Water St E\, 53538\, 211 South Water Street East\, Fort Atkinson\, WI\, 53538\, United States
END:VEVENT
BEGIN:VEVENT
DTSTART;TZID=America/Chicago:20231017T173000
DTEND;TZID=America/Chicago:20231017T183000
DTSTAMP:20260425T111648
CREATED:20230227T200833Z
LAST-MODIFIED:20250115T155450Z
UID:10002151-1697563800-1697567400@www.fortatkinsonclub.org
SUMMARY:Fort Club Board Meeting
DESCRIPTION:
URL:https://www.fortatkinsonclub.org/event/fort-club-board-meeting/2023-10-17/
LOCATION:211 S Water St E\, 53538\, 211 South Water Street East\, Fort Atkinson\, WI\, 53538\, United States
ATTACH;FMTTYPE=image/jpeg:https://www.fortatkinsonclub.org/wp-content/uploads/2023/02/Failte4-scaled.jpg
END:VEVENT
BEGIN:VEVENT
DTSTART;TZID=America/Chicago:20231017T160000
DTEND;TZID=America/Chicago:20231017T190000
DTSTAMP:20260425T111648
CREATED:20230227T193812Z
LAST-MODIFIED:20230227T193904Z
UID:10000361-1697558400-1697569200@www.fortatkinsonclub.org
SUMMARY:MUSIC LESSONS WITH ANGELA
DESCRIPTION:
URL:https://www.fortatkinsonclub.org/event/music-lessons-with-angela-2/2023-10-17/
LOCATION:211 S Water St E\, 53538\, 211 South Water Street East\, Fort Atkinson\, WI\, 53538\, United States
END:VEVENT
BEGIN:VEVENT
DTSTART;TZID=America/Chicago:20231016T170000
DTEND;TZID=America/Chicago:20231016T174500
DTSTAMP:20260425T111648
CREATED:20230815T164223Z
LAST-MODIFIED:20230815T164223Z
UID:10000872-1697475600-1697478300@www.fortatkinsonclub.org
SUMMARY:Werq with Gina
DESCRIPTION:
URL:https://www.fortatkinsonclub.org/event/werq-with-gina-3/
LOCATION:211 S Water St E\, 53538\, 211 South Water Street East\, Fort Atkinson\, WI\, 53538\, United States
END:VEVENT
BEGIN:VEVENT
DTSTART;TZID=America/Chicago:20231016T120000
DTEND;TZID=America/Chicago:20231016T130000
DTSTAMP:20260425T111648
CREATED:20230227T193404Z
LAST-MODIFIED:20240710T171054Z
UID:10000272-1697457600-1697461200@www.fortatkinsonclub.org
SUMMARY:ROTARY GENERAL MEETINGS
DESCRIPTION:ROTARY is an organization of business and professional leaders united worldwide\, who provide humanitarian service\, encourage high ethical standards in all vocations\, and help build goodwill and peace in the world. ROTARY is the world’s first service club. The first Rotary club was founded in Chicago\, Illinois\, USA\, on February 23\, 1905. Rotary is some 1.2 million service-minded men and women belonging to over 32\, 000 Rotary clubs in virtually every nation in the world. Rotarians meet weekly for fellowship and interesting and informative programs dealing with topics of local and global importance. Membership is by invitation and reflects a wide cross-section of community representation. Rotarians plan and carry out a remarkable variety of humanitarian\, educational\, and cultural exchange programs that touch people’s lives in their local communities and our world community.
URL:https://www.fortatkinsonclub.org/event/rotary-general-meetings/2023-10-16/
LOCATION:211 S Water St E\, 53538\, 211 South Water Street East\, Fort Atkinson\, WI\, 53538\, United States
ATTACH;FMTTYPE=image/png:https://www.fortatkinsonclub.org/wp-content/uploads/2023/02/Rotary-Logo-5016.png
END:VEVENT
BEGIN:VEVENT
DTSTART;TZID=America/Chicago:20231016T080000
DTEND;TZID=America/Chicago:20231016T170000
DTSTAMP:20260425T111648
CREATED:20230227T204159Z
LAST-MODIFIED:20230227T204159Z
UID:10000597-1697443200-1697475600@www.fortatkinsonclub.org
SUMMARY:Baumgart Wedding Closed to Public
DESCRIPTION:
URL:https://www.fortatkinsonclub.org/event/baumgart-wedding-closed-to-public/
LOCATION:WI
END:VEVENT
BEGIN:VEVENT
DTSTART;TZID=America/Chicago:20231011T171500
DTEND;TZID=America/Chicago:20231011T180000
DTSTAMP:20260425T111648
CREATED:20230815T170221Z
LAST-MODIFIED:20230815T170221Z
UID:10000894-1697044500-1697047200@www.fortatkinsonclub.org
SUMMARY:Yoga with Gina
DESCRIPTION:
URL:https://www.fortatkinsonclub.org/event/yoga-with-gina-2/
LOCATION:211 S Water St E\, 53538\, 211 South Water Street East\, Fort Atkinson\, WI\, 53538\, United States
END:VEVENT
BEGIN:VEVENT
DTSTART;TZID=America/Chicago:20231011T163000
DTEND;TZID=America/Chicago:20231011T171000
DTSTAMP:20260425T111648
CREATED:20230815T165326Z
LAST-MODIFIED:20230815T165326Z
UID:10000883-1697041800-1697044200@www.fortatkinsonclub.org
SUMMARY:Body Blast with Tiffany
DESCRIPTION:
URL:https://www.fortatkinsonclub.org/event/body-blast-with-tiffany-2/
LOCATION:211 S Water St E\, 53538\, 211 South Water Street East\, Fort Atkinson\, WI\, 53538\, United States
END:VEVENT
BEGIN:VEVENT
DTSTART;TZID=America/Chicago:20231011T160000
DTEND;TZID=America/Chicago:20231011T190000
DTSTAMP:20260425T111648
CREATED:20230227T194058Z
LAST-MODIFIED:20230227T194536Z
UID:10000465-1697040000-1697050800@www.fortatkinsonclub.org
SUMMARY:MUSIC LESSONS WITH ANGELA
DESCRIPTION:
URL:https://www.fortatkinsonclub.org/event/music-lessons-with-angela-3/2023-10-11/
LOCATION:211 S Water St E\, 53538\, 211 South Water Street East\, Fort Atkinson\, WI\, 53538\, United States
END:VEVENT
BEGIN:VEVENT
DTSTART;TZID=America/Chicago:20231011T080000
DTEND;TZID=America/Chicago:20231011T170000
DTSTAMP:20260425T111648
CREATED:20230901T163243Z
LAST-MODIFIED:20230906T184840Z
UID:10000916-1697011200-1697043600@www.fortatkinsonclub.org
SUMMARY:Fall FACTalk\, Elizabeth Hilton\, National Register Coordinator\, Wi. State Historic Preservation Office
DESCRIPTION:
URL:https://www.fortatkinsonclub.org/event/fall-factalk-elizabeth-hilton-national-register-coordinator-wi-state-historic-preservation-office/
LOCATION:WI
END:VEVENT
BEGIN:VEVENT
DTSTART;TZID=America/Chicago:20231010T160000
DTEND;TZID=America/Chicago:20231010T190000
DTSTAMP:20260425T111648
CREATED:20230227T193812Z
LAST-MODIFIED:20230227T193904Z
UID:10000360-1696953600-1696964400@www.fortatkinsonclub.org
SUMMARY:MUSIC LESSONS WITH ANGELA
DESCRIPTION:
URL:https://www.fortatkinsonclub.org/event/music-lessons-with-angela-2/2023-10-10/
LOCATION:211 S Water St E\, 53538\, 211 South Water Street East\, Fort Atkinson\, WI\, 53538\, United States
END:VEVENT
BEGIN:VEVENT
DTSTART;TZID=America/Chicago:20231009T170000
DTEND;TZID=America/Chicago:20231009T174500
DTSTAMP:20260425T111648
CREATED:20230815T164146Z
LAST-MODIFIED:20230815T164146Z
UID:10000871-1696870800-1696873500@www.fortatkinsonclub.org
SUMMARY:Werq with Gina
DESCRIPTION:
URL:https://www.fortatkinsonclub.org/event/werq-with-gina-2/
LOCATION:211 S Water St E\, 53538\, 211 South Water Street East\, Fort Atkinson\, WI\, 53538\, United States
END:VEVENT
BEGIN:VEVENT
DTSTART;TZID=America/Chicago:20231009T120000
DTEND;TZID=America/Chicago:20231009T130000
DTSTAMP:20260425T111648
CREATED:20230227T193404Z
LAST-MODIFIED:20240710T171054Z
UID:10000271-1696852800-1696856400@www.fortatkinsonclub.org
SUMMARY:ROTARY GENERAL MEETINGS
DESCRIPTION:ROTARY is an organization of business and professional leaders united worldwide\, who provide humanitarian service\, encourage high ethical standards in all vocations\, and help build goodwill and peace in the world. ROTARY is the world’s first service club. The first Rotary club was founded in Chicago\, Illinois\, USA\, on February 23\, 1905. Rotary is some 1.2 million service-minded men and women belonging to over 32\, 000 Rotary clubs in virtually every nation in the world. Rotarians meet weekly for fellowship and interesting and informative programs dealing with topics of local and global importance. Membership is by invitation and reflects a wide cross-section of community representation. Rotarians plan and carry out a remarkable variety of humanitarian\, educational\, and cultural exchange programs that touch people’s lives in their local communities and our world community.
URL:https://www.fortatkinsonclub.org/event/rotary-general-meetings/2023-10-09/
LOCATION:211 S Water St E\, 53538\, 211 South Water Street East\, Fort Atkinson\, WI\, 53538\, United States
ATTACH;FMTTYPE=image/png:https://www.fortatkinsonclub.org/wp-content/uploads/2023/02/Rotary-Logo-5016.png
END:VEVENT
BEGIN:VEVENT
DTSTART;TZID=America/Chicago:20231007T080000
DTEND;TZID=America/Chicago:20231007T170000
DTSTAMP:20260425T111648
CREATED:20230815T172634Z
LAST-MODIFIED:20230815T172634Z
UID:10000909-1696665600-1696698000@www.fortatkinsonclub.org
SUMMARY:Leija Shower
DESCRIPTION:
URL:https://www.fortatkinsonclub.org/event/leija-shower/
LOCATION:WI
END:VEVENT
BEGIN:VEVENT
DTSTART;TZID=America/Chicago:20231004T171500
DTEND;TZID=America/Chicago:20231004T180000
DTSTAMP:20260425T111648
CREATED:20230815T170128Z
LAST-MODIFIED:20230815T170128Z
UID:10000893-1696439700-1696442400@www.fortatkinsonclub.org
SUMMARY:Yoga with Gina
DESCRIPTION:
URL:https://www.fortatkinsonclub.org/event/yoga-with-gina/
LOCATION:211 S Water St E\, 53538\, 211 South Water Street East\, Fort Atkinson\, WI\, 53538\, United States
END:VEVENT
BEGIN:VEVENT
DTSTART;TZID=America/Chicago:20231004T163000
DTEND;TZID=America/Chicago:20231004T171000
DTSTAMP:20260425T111648
CREATED:20230815T165246Z
LAST-MODIFIED:20230815T165246Z
UID:10000882-1696437000-1696439400@www.fortatkinsonclub.org
SUMMARY:Body Blast with Tiffany
DESCRIPTION:
URL:https://www.fortatkinsonclub.org/event/body-blast-with-tiffany/
LOCATION:211 S Water St E\, 53538\, 211 South Water Street East\, Fort Atkinson\, WI\, 53538\, United States
END:VEVENT
BEGIN:VEVENT
DTSTART;TZID=America/Chicago:20231004T160000
DTEND;TZID=America/Chicago:20231004T190000
DTSTAMP:20260425T111648
CREATED:20230227T194058Z
LAST-MODIFIED:20230227T194536Z
UID:10000464-1696435200-1696446000@www.fortatkinsonclub.org
SUMMARY:MUSIC LESSONS WITH ANGELA
DESCRIPTION:
URL:https://www.fortatkinsonclub.org/event/music-lessons-with-angela-3/2023-10-04/
LOCATION:211 S Water St E\, 53538\, 211 South Water Street East\, Fort Atkinson\, WI\, 53538\, United States
END:VEVENT
BEGIN:VEVENT
DTSTART;TZID=America/Chicago:20231003T160000
DTEND;TZID=America/Chicago:20231003T190000
DTSTAMP:20260425T111648
CREATED:20230227T193812Z
LAST-MODIFIED:20230227T193904Z
UID:10000359-1696348800-1696359600@www.fortatkinsonclub.org
SUMMARY:MUSIC LESSONS WITH ANGELA
DESCRIPTION:
URL:https://www.fortatkinsonclub.org/event/music-lessons-with-angela-2/2023-10-03/
LOCATION:211 S Water St E\, 53538\, 211 South Water Street East\, Fort Atkinson\, WI\, 53538\, United States
END:VEVENT
BEGIN:VEVENT
DTSTART;TZID=America/Chicago:20231002T170000
DTEND;TZID=America/Chicago:20231002T174500
DTSTAMP:20260425T111648
CREATED:20230815T164056Z
LAST-MODIFIED:20230815T164056Z
UID:10000870-1696266000-1696268700@www.fortatkinsonclub.org
SUMMARY:Werq with Gina
DESCRIPTION:
URL:https://www.fortatkinsonclub.org/event/werq-with-gina/
LOCATION:211 S Water St E\, 53538\, 211 South Water Street East\, Fort Atkinson\, WI\, 53538\, United States
END:VEVENT
BEGIN:VEVENT
DTSTART;TZID=America/Chicago:20231002T120000
DTEND;TZID=America/Chicago:20231002T130000
DTSTAMP:20260425T111648
CREATED:20230227T193404Z
LAST-MODIFIED:20240710T171054Z
UID:10000270-1696248000-1696251600@www.fortatkinsonclub.org
SUMMARY:ROTARY GENERAL MEETINGS
DESCRIPTION:ROTARY is an organization of business and professional leaders united worldwide\, who provide humanitarian service\, encourage high ethical standards in all vocations\, and help build goodwill and peace in the world. ROTARY is the world’s first service club. The first Rotary club was founded in Chicago\, Illinois\, USA\, on February 23\, 1905. Rotary is some 1.2 million service-minded men and women belonging to over 32\, 000 Rotary clubs in virtually every nation in the world. Rotarians meet weekly for fellowship and interesting and informative programs dealing with topics of local and global importance. Membership is by invitation and reflects a wide cross-section of community representation. Rotarians plan and carry out a remarkable variety of humanitarian\, educational\, and cultural exchange programs that touch people’s lives in their local communities and our world community.
URL:https://www.fortatkinsonclub.org/event/rotary-general-meetings/2023-10-02/
LOCATION:211 S Water St E\, 53538\, 211 South Water Street East\, Fort Atkinson\, WI\, 53538\, United States
ATTACH;FMTTYPE=image/png:https://www.fortatkinsonclub.org/wp-content/uploads/2023/02/Rotary-Logo-5016.png
END:VEVENT
BEGIN:VEVENT
DTSTART;TZID=America/Chicago:20230930T110000
DTEND;TZID=America/Chicago:20230930T170000
DTSTAMP:20260425T111648
CREATED:20230815T172533Z
LAST-MODIFIED:20230815T172533Z
UID:10000908-1696071600-1696093200@www.fortatkinsonclub.org
SUMMARY:Marty Haroldson Birthday Party
DESCRIPTION:
URL:https://www.fortatkinsonclub.org/event/marty-haroldson-birthday-party/
LOCATION:WI
END:VEVENT
BEGIN:VEVENT
DTSTART;TZID=America/Chicago:20230928T080000
DTEND;TZID=America/Chicago:20230928T170000
DTSTAMP:20260425T111649
CREATED:20230815T172449Z
LAST-MODIFIED:20230815T172449Z
UID:10000907-1695888000-1695920400@www.fortatkinsonclub.org
SUMMARY:Susan Enlow
DESCRIPTION:
URL:https://www.fortatkinsonclub.org/event/susan-enlow/
LOCATION:WI
END:VEVENT
END:VCALENDAR