BEGIN:VCALENDAR
VERSION:2.0
PRODID:-//The Fort Atkinson Club - ECPv6.15.20//NONSGML v1.0//EN
CALSCALE:GREGORIAN
METHOD:PUBLISH
X-WR-CALNAME:The Fort Atkinson Club
X-ORIGINAL-URL:https://www.fortatkinsonclub.org
X-WR-CALDESC:Events for The Fort Atkinson Club
REFRESH-INTERVAL;VALUE=DURATION:PT1H
X-Robots-Tag:noindex
X-PUBLISHED-TTL:PT1H
BEGIN:VTIMEZONE
TZID:America/Chicago
BEGIN:DAYLIGHT
TZOFFSETFROM:-0600
TZOFFSETTO:-0500
TZNAME:CDT
DTSTART:20220313T080000
END:DAYLIGHT
BEGIN:STANDARD
TZOFFSETFROM:-0500
TZOFFSETTO:-0600
TZNAME:CST
DTSTART:20221106T070000
END:STANDARD
BEGIN:DAYLIGHT
TZOFFSETFROM:-0600
TZOFFSETTO:-0500
TZNAME:CDT
DTSTART:20230312T080000
END:DAYLIGHT
BEGIN:STANDARD
TZOFFSETFROM:-0500
TZOFFSETTO:-0600
TZNAME:CST
DTSTART:20231105T070000
END:STANDARD
BEGIN:DAYLIGHT
TZOFFSETFROM:-0600
TZOFFSETTO:-0500
TZNAME:CDT
DTSTART:20240310T080000
END:DAYLIGHT
BEGIN:STANDARD
TZOFFSETFROM:-0500
TZOFFSETTO:-0600
TZNAME:CST
DTSTART:20241103T070000
END:STANDARD
END:VTIMEZONE
BEGIN:VEVENT
DTSTART;TZID=America/Chicago:20230822T160000
DTEND;TZID=America/Chicago:20230822T190000
DTSTAMP:20260425T091218
CREATED:20230227T193812Z
LAST-MODIFIED:20230227T193904Z
UID:10000353-1692720000-1692730800@www.fortatkinsonclub.org
SUMMARY:MUSIC LESSONS WITH ANGELA
DESCRIPTION:
URL:https://www.fortatkinsonclub.org/event/music-lessons-with-angela-2/2023-08-22/
LOCATION:211 S Water St E\, 53538\, 211 South Water Street East\, Fort Atkinson\, WI\, 53538\, United States
END:VEVENT
BEGIN:VEVENT
DTSTART;TZID=America/Chicago:20230821T120000
DTEND;TZID=America/Chicago:20230821T130000
DTSTAMP:20260425T091218
CREATED:20230227T193404Z
LAST-MODIFIED:20240710T171054Z
UID:10000266-1692619200-1692622800@www.fortatkinsonclub.org
SUMMARY:ROTARY GENERAL MEETINGS
DESCRIPTION:ROTARY is an organization of business and professional leaders united worldwide\, who provide humanitarian service\, encourage high ethical standards in all vocations\, and help build goodwill and peace in the world. ROTARY is the world’s first service club. The first Rotary club was founded in Chicago\, Illinois\, USA\, on February 23\, 1905. Rotary is some 1.2 million service-minded men and women belonging to over 32\, 000 Rotary clubs in virtually every nation in the world. Rotarians meet weekly for fellowship and interesting and informative programs dealing with topics of local and global importance. Membership is by invitation and reflects a wide cross-section of community representation. Rotarians plan and carry out a remarkable variety of humanitarian\, educational\, and cultural exchange programs that touch people’s lives in their local communities and our world community.
URL:https://www.fortatkinsonclub.org/event/rotary-general-meetings/2023-08-21/
LOCATION:211 S Water St E\, 53538\, 211 South Water Street East\, Fort Atkinson\, WI\, 53538\, United States
ATTACH;FMTTYPE=image/png:https://www.fortatkinsonclub.org/wp-content/uploads/2023/02/Rotary-Logo-5016.png
END:VEVENT
BEGIN:VEVENT
DTSTART;TZID=America/Chicago:20230820T120000
DTEND;TZID=America/Chicago:20230820T170000
DTSTAMP:20260425T091218
CREATED:20230626T185410Z
LAST-MODIFIED:20230626T185410Z
UID:10000856-1692532800-1692550800@www.fortatkinsonclub.org
SUMMARY:Peck Wedding Shower
DESCRIPTION:
URL:https://www.fortatkinsonclub.org/event/peck-wedding-shower/
LOCATION:WI
END:VEVENT
BEGIN:VEVENT
DTSTART;TZID=America/Chicago:20230818T180000
DTEND;TZID=America/Chicago:20230818T200000
DTSTAMP:20260425T091218
CREATED:20230626T185234Z
LAST-MODIFIED:20230626T185234Z
UID:10000855-1692381600-1692388800@www.fortatkinsonclub.org
SUMMARY:Patio Concert
DESCRIPTION:
URL:https://www.fortatkinsonclub.org/event/patio-concert-2/
LOCATION:WI
END:VEVENT
BEGIN:VEVENT
DTSTART;TZID=America/Chicago:20230818T180000
DTEND;TZID=America/Chicago:20230818T200000
DTSTAMP:20260425T091218
CREATED:20230301T164049Z
LAST-MODIFIED:20230301T164224Z
UID:10000624-1692381600-1692388800@www.fortatkinsonclub.org
SUMMARY:Patio Concert
DESCRIPTION:Kick up your heels and join us for our Patio Concerts. Held the third Friday in June\, July and August. \nWe look forward to  seeing you for an evening of singing\, laughter and dancing! \n 
URL:https://www.fortatkinsonclub.org/event/patio-concert/2023-08-18/
LOCATION:211 S Water St E\, 53538\, 211 South Water Street East\, Fort Atkinson\, WI\, 53538\, United States
END:VEVENT
BEGIN:VEVENT
DTSTART;TZID=America/Chicago:20230818T153000
DTEND;TZID=America/Chicago:20230818T213000
DTSTAMP:20260425T091218
CREATED:20230626T185208Z
LAST-MODIFIED:20230626T185208Z
UID:10000854-1692372600-1692394200@www.fortatkinsonclub.org
SUMMARY:Spueck Rehersal
DESCRIPTION:
URL:https://www.fortatkinsonclub.org/event/spueck-rehersal/
LOCATION:WI
END:VEVENT
BEGIN:VEVENT
DTSTART;TZID=America/Chicago:20230816T160000
DTEND;TZID=America/Chicago:20230816T190000
DTSTAMP:20260425T091218
CREATED:20230227T194058Z
LAST-MODIFIED:20230227T194536Z
UID:10000457-1692201600-1692212400@www.fortatkinsonclub.org
SUMMARY:MUSIC LESSONS WITH ANGELA
DESCRIPTION:
URL:https://www.fortatkinsonclub.org/event/music-lessons-with-angela-3/2023-08-16/
LOCATION:211 S Water St E\, 53538\, 211 South Water Street East\, Fort Atkinson\, WI\, 53538\, United States
END:VEVENT
BEGIN:VEVENT
DTSTART;TZID=America/Chicago:20230816T080000
DTEND;TZID=America/Chicago:20230816T170000
DTSTAMP:20260425T091218
CREATED:20230712T172533Z
LAST-MODIFIED:20230712T172533Z
UID:10000868-1692172800-1692205200@www.fortatkinsonclub.org
SUMMARY:Blood Drive
DESCRIPTION:
URL:https://www.fortatkinsonclub.org/event/blood-drive-4/
LOCATION:WI
END:VEVENT
BEGIN:VEVENT
DTSTART;TZID=America/Chicago:20230815T173000
DTEND;TZID=America/Chicago:20230815T183000
DTSTAMP:20260425T091218
CREATED:20230227T200833Z
LAST-MODIFIED:20250115T155450Z
UID:10002149-1692120600-1692124200@www.fortatkinsonclub.org
SUMMARY:Fort Club Board Meeting
DESCRIPTION:
URL:https://www.fortatkinsonclub.org/event/fort-club-board-meeting/2023-08-15/
LOCATION:211 S Water St E\, 53538\, 211 South Water Street East\, Fort Atkinson\, WI\, 53538\, United States
ATTACH;FMTTYPE=image/jpeg:https://www.fortatkinsonclub.org/wp-content/uploads/2023/02/Failte4-scaled.jpg
END:VEVENT
BEGIN:VEVENT
DTSTART;TZID=America/Chicago:20230815T160000
DTEND;TZID=America/Chicago:20230815T190000
DTSTAMP:20260425T091218
CREATED:20230227T193812Z
LAST-MODIFIED:20230227T193904Z
UID:10000352-1692115200-1692126000@www.fortatkinsonclub.org
SUMMARY:MUSIC LESSONS WITH ANGELA
DESCRIPTION:
URL:https://www.fortatkinsonclub.org/event/music-lessons-with-angela-2/2023-08-15/
LOCATION:211 S Water St E\, 53538\, 211 South Water Street East\, Fort Atkinson\, WI\, 53538\, United States
END:VEVENT
BEGIN:VEVENT
DTSTART;TZID=America/Chicago:20230814T120000
DTEND;TZID=America/Chicago:20230814T130000
DTSTAMP:20260425T091218
CREATED:20230227T193404Z
LAST-MODIFIED:20240710T171054Z
UID:10000265-1692014400-1692018000@www.fortatkinsonclub.org
SUMMARY:ROTARY GENERAL MEETINGS
DESCRIPTION:ROTARY is an organization of business and professional leaders united worldwide\, who provide humanitarian service\, encourage high ethical standards in all vocations\, and help build goodwill and peace in the world. ROTARY is the world’s first service club. The first Rotary club was founded in Chicago\, Illinois\, USA\, on February 23\, 1905. Rotary is some 1.2 million service-minded men and women belonging to over 32\, 000 Rotary clubs in virtually every nation in the world. Rotarians meet weekly for fellowship and interesting and informative programs dealing with topics of local and global importance. Membership is by invitation and reflects a wide cross-section of community representation. Rotarians plan and carry out a remarkable variety of humanitarian\, educational\, and cultural exchange programs that touch people’s lives in their local communities and our world community.
URL:https://www.fortatkinsonclub.org/event/rotary-general-meetings/2023-08-14/
LOCATION:211 S Water St E\, 53538\, 211 South Water Street East\, Fort Atkinson\, WI\, 53538\, United States
ATTACH;FMTTYPE=image/png:https://www.fortatkinsonclub.org/wp-content/uploads/2023/02/Rotary-Logo-5016.png
END:VEVENT
BEGIN:VEVENT
DTSTART;TZID=America/Chicago:20230812T110000
DTEND;TZID=America/Chicago:20230812T160000
DTSTAMP:20260425T091218
CREATED:20230626T184853Z
LAST-MODIFIED:20230626T184853Z
UID:10000852-1691838000-1691856000@www.fortatkinsonclub.org
SUMMARY:Zahn Bridal Shower
DESCRIPTION:
URL:https://www.fortatkinsonclub.org/event/zahn-bridal-shower/
LOCATION:WI
END:VEVENT
BEGIN:VEVENT
DTSTART;TZID=America/Chicago:20230810T170000
DTEND;TZID=America/Chicago:20230810T203000
DTSTAMP:20260425T091218
CREATED:20230712T172234Z
LAST-MODIFIED:20230712T172234Z
UID:10000867-1691686800-1691699400@www.fortatkinsonclub.org
SUMMARY:Chamber after 5
DESCRIPTION:
URL:https://www.fortatkinsonclub.org/event/chamber-after-5/
LOCATION:WI
END:VEVENT
BEGIN:VEVENT
DTSTART;TZID=America/Chicago:20230809T160000
DTEND;TZID=America/Chicago:20230809T190000
DTSTAMP:20260425T091218
CREATED:20230227T194058Z
LAST-MODIFIED:20230227T194536Z
UID:10000456-1691596800-1691607600@www.fortatkinsonclub.org
SUMMARY:MUSIC LESSONS WITH ANGELA
DESCRIPTION:
URL:https://www.fortatkinsonclub.org/event/music-lessons-with-angela-3/2023-08-09/
LOCATION:211 S Water St E\, 53538\, 211 South Water Street East\, Fort Atkinson\, WI\, 53538\, United States
END:VEVENT
BEGIN:VEVENT
DTSTART;TZID=America/Chicago:20230808T160000
DTEND;TZID=America/Chicago:20230808T190000
DTSTAMP:20260425T091219
CREATED:20230227T193812Z
LAST-MODIFIED:20230227T193904Z
UID:10000351-1691510400-1691521200@www.fortatkinsonclub.org
SUMMARY:MUSIC LESSONS WITH ANGELA
DESCRIPTION:
URL:https://www.fortatkinsonclub.org/event/music-lessons-with-angela-2/2023-08-08/
LOCATION:211 S Water St E\, 53538\, 211 South Water Street East\, Fort Atkinson\, WI\, 53538\, United States
END:VEVENT
BEGIN:VEVENT
DTSTART;TZID=America/Chicago:20230807T120000
DTEND;TZID=America/Chicago:20230807T130000
DTSTAMP:20260425T091219
CREATED:20230227T193404Z
LAST-MODIFIED:20240710T171054Z
UID:10000264-1691409600-1691413200@www.fortatkinsonclub.org
SUMMARY:ROTARY GENERAL MEETINGS
DESCRIPTION:ROTARY is an organization of business and professional leaders united worldwide\, who provide humanitarian service\, encourage high ethical standards in all vocations\, and help build goodwill and peace in the world. ROTARY is the world’s first service club. The first Rotary club was founded in Chicago\, Illinois\, USA\, on February 23\, 1905. Rotary is some 1.2 million service-minded men and women belonging to over 32\, 000 Rotary clubs in virtually every nation in the world. Rotarians meet weekly for fellowship and interesting and informative programs dealing with topics of local and global importance. Membership is by invitation and reflects a wide cross-section of community representation. Rotarians plan and carry out a remarkable variety of humanitarian\, educational\, and cultural exchange programs that touch people’s lives in their local communities and our world community.
URL:https://www.fortatkinsonclub.org/event/rotary-general-meetings/2023-08-07/
LOCATION:211 S Water St E\, 53538\, 211 South Water Street East\, Fort Atkinson\, WI\, 53538\, United States
ATTACH;FMTTYPE=image/png:https://www.fortatkinsonclub.org/wp-content/uploads/2023/02/Rotary-Logo-5016.png
END:VEVENT
BEGIN:VEVENT
DTSTART;TZID=America/Chicago:20230802T160000
DTEND;TZID=America/Chicago:20230802T190000
DTSTAMP:20260425T091219
CREATED:20230227T194058Z
LAST-MODIFIED:20230227T194536Z
UID:10000455-1690992000-1691002800@www.fortatkinsonclub.org
SUMMARY:MUSIC LESSONS WITH ANGELA
DESCRIPTION:
URL:https://www.fortatkinsonclub.org/event/music-lessons-with-angela-3/2023-08-02/
LOCATION:211 S Water St E\, 53538\, 211 South Water Street East\, Fort Atkinson\, WI\, 53538\, United States
END:VEVENT
BEGIN:VEVENT
DTSTART;TZID=America/Chicago:20230801T160000
DTEND;TZID=America/Chicago:20230801T190000
DTSTAMP:20260425T091219
CREATED:20230227T193812Z
LAST-MODIFIED:20230227T193904Z
UID:10000350-1690905600-1690916400@www.fortatkinsonclub.org
SUMMARY:MUSIC LESSONS WITH ANGELA
DESCRIPTION:
URL:https://www.fortatkinsonclub.org/event/music-lessons-with-angela-2/2023-08-01/
LOCATION:211 S Water St E\, 53538\, 211 South Water Street East\, Fort Atkinson\, WI\, 53538\, United States
END:VEVENT
BEGIN:VEVENT
DTSTART;TZID=America/Chicago:20230801T070000
DTEND;TZID=America/Chicago:20230801T170000
DTSTAMP:20260425T091219
CREATED:20230626T184441Z
LAST-MODIFIED:20230626T184721Z
UID:10000850-1690873200-1690909200@www.fortatkinsonclub.org
SUMMARY:Lifetouch Photo Shoot
DESCRIPTION:
URL:https://www.fortatkinsonclub.org/event/lifetime-photography-class/
LOCATION:WI
END:VEVENT
BEGIN:VEVENT
DTSTART;TZID=America/Chicago:20230731T070000
DTEND;TZID=America/Chicago:20230731T170000
DTSTAMP:20260425T091219
CREATED:20230626T184751Z
LAST-MODIFIED:20230626T184751Z
UID:10000851-1690786800-1690822800@www.fortatkinsonclub.org
SUMMARY:Lifetouch Photography Shoot
DESCRIPTION:
URL:https://www.fortatkinsonclub.org/event/lifetouch-photography-shoot/
LOCATION:WI
END:VEVENT
BEGIN:VEVENT
DTSTART;TZID=America/Chicago:20230730T110000
DTEND;TZID=America/Chicago:20230730T170000
DTSTAMP:20260425T091219
CREATED:20230324T170058Z
LAST-MODIFIED:20230324T170058Z
UID:10000820-1690714800-1690736400@www.fortatkinsonclub.org
SUMMARY:Hannes 80th Birthday Party!
DESCRIPTION:
URL:https://www.fortatkinsonclub.org/event/hannes-80th-birthday-party/
LOCATION:WI
END:VEVENT
BEGIN:VEVENT
DTSTART;TZID=America/Chicago:20230729T080000
DTEND;TZID=America/Chicago:20230729T170000
DTSTAMP:20260425T091219
CREATED:20230324T170013Z
LAST-MODIFIED:20230324T170013Z
UID:10000819-1690617600-1690650000@www.fortatkinsonclub.org
SUMMARY:Gorman Bridal Shower
DESCRIPTION:
URL:https://www.fortatkinsonclub.org/event/gorman-bridal-shower/
LOCATION:WI
END:VEVENT
BEGIN:VEVENT
DTSTART;TZID=America/Chicago:20230726T160000
DTEND;TZID=America/Chicago:20230726T190000
DTSTAMP:20260425T091219
CREATED:20230227T194058Z
LAST-MODIFIED:20230227T194536Z
UID:10000454-1690387200-1690398000@www.fortatkinsonclub.org
SUMMARY:MUSIC LESSONS WITH ANGELA
DESCRIPTION:
URL:https://www.fortatkinsonclub.org/event/music-lessons-with-angela-3/2023-07-26/
LOCATION:211 S Water St E\, 53538\, 211 South Water Street East\, Fort Atkinson\, WI\, 53538\, United States
END:VEVENT
BEGIN:VEVENT
DTSTART;TZID=America/Chicago:20230725T160000
DTEND;TZID=America/Chicago:20230725T190000
DTSTAMP:20260425T091219
CREATED:20230227T193812Z
LAST-MODIFIED:20230227T193904Z
UID:10000349-1690300800-1690311600@www.fortatkinsonclub.org
SUMMARY:MUSIC LESSONS WITH ANGELA
DESCRIPTION:
URL:https://www.fortatkinsonclub.org/event/music-lessons-with-angela-2/2023-07-25/
LOCATION:211 S Water St E\, 53538\, 211 South Water Street East\, Fort Atkinson\, WI\, 53538\, United States
END:VEVENT
BEGIN:VEVENT
DTSTART;TZID=America/Chicago:20230724T173000
DTEND;TZID=America/Chicago:20230724T183000
DTSTAMP:20260425T091219
CREATED:20230531T160451Z
LAST-MODIFIED:20230605T152326Z
UID:10000840-1690219800-1690223400@www.fortatkinsonclub.org
SUMMARY:Yoga with Hannah
DESCRIPTION:
URL:https://www.fortatkinsonclub.org/event/yoga-with-hannah-6/
LOCATION:WI
END:VEVENT
BEGIN:VEVENT
DTSTART;TZID=America/Chicago:20230724T120000
DTEND;TZID=America/Chicago:20230724T130000
DTSTAMP:20260425T091219
CREATED:20230227T193404Z
LAST-MODIFIED:20240710T171054Z
UID:10000263-1690200000-1690203600@www.fortatkinsonclub.org
SUMMARY:ROTARY GENERAL MEETINGS
DESCRIPTION:ROTARY is an organization of business and professional leaders united worldwide\, who provide humanitarian service\, encourage high ethical standards in all vocations\, and help build goodwill and peace in the world. ROTARY is the world’s first service club. The first Rotary club was founded in Chicago\, Illinois\, USA\, on February 23\, 1905. Rotary is some 1.2 million service-minded men and women belonging to over 32\, 000 Rotary clubs in virtually every nation in the world. Rotarians meet weekly for fellowship and interesting and informative programs dealing with topics of local and global importance. Membership is by invitation and reflects a wide cross-section of community representation. Rotarians plan and carry out a remarkable variety of humanitarian\, educational\, and cultural exchange programs that touch people’s lives in their local communities and our world community.
URL:https://www.fortatkinsonclub.org/event/rotary-general-meetings/2023-07-24/
LOCATION:211 S Water St E\, 53538\, 211 South Water Street East\, Fort Atkinson\, WI\, 53538\, United States
ATTACH;FMTTYPE=image/png:https://www.fortatkinsonclub.org/wp-content/uploads/2023/02/Rotary-Logo-5016.png
END:VEVENT
BEGIN:VEVENT
DTSTART;TZID=America/Chicago:20230724T080000
DTEND;TZID=America/Chicago:20230727T170000
DTSTAMP:20260425T091219
CREATED:20230712T172057Z
LAST-MODIFIED:20230712T172057Z
UID:10000866-1690185600-1690477200@www.fortatkinsonclub.org
SUMMARY:Lifetouch Photography
DESCRIPTION:
URL:https://www.fortatkinsonclub.org/event/lifetouch-photography-2/
LOCATION:WI
END:VEVENT
BEGIN:VEVENT
DTSTART;TZID=America/Chicago:20230723T160000
DTEND;TZID=America/Chicago:20230723T173000
DTSTAMP:20260425T091219
CREATED:20230712T161931Z
LAST-MODIFIED:20230712T161931Z
UID:10000863-1690128000-1690133400@www.fortatkinsonclub.org
SUMMARY:CHAMBER CONCERT - MIDTOWN STRINGS
DESCRIPTION:
URL:https://www.fortatkinsonclub.org/event/chamber-concert-midtown-strings/
LOCATION:211 S Water St E\, 53538\, 211 South Water Street East\, Fort Atkinson\, WI\, 53538\, United States
END:VEVENT
BEGIN:VEVENT
DTSTART;TZID=America/Chicago:20230723T000000
DTEND;TZID=America/Chicago:20230723T000000
DTSTAMP:20260425T091219
CREATED:20230712T171912Z
LAST-MODIFIED:20230712T171912Z
UID:10000864-1690070400-1690070400@www.fortatkinsonclub.org
SUMMARY:Hoffman Baby Shower
DESCRIPTION:
URL:https://www.fortatkinsonclub.org/event/hoffman-baby-shower/
LOCATION:WI
END:VEVENT
BEGIN:VEVENT
DTSTART;TZID=America/Chicago:20230722T110000
DTEND;TZID=America/Chicago:20230722T170000
DTSTAMP:20260425T091219
CREATED:20230324T165839Z
LAST-MODIFIED:20230324T165839Z
UID:10000818-1690023600-1690045200@www.fortatkinsonclub.org
SUMMARY:Erdman Bridal Shower
DESCRIPTION:
URL:https://www.fortatkinsonclub.org/event/erdman-bridal-shower/
LOCATION:WI
END:VEVENT
END:VCALENDAR