BEGIN:VCALENDAR
VERSION:2.0
PRODID:-//The Fort Atkinson Club - ECPv6.15.20//NONSGML v1.0//EN
CALSCALE:GREGORIAN
METHOD:PUBLISH
X-ORIGINAL-URL:https://www.fortatkinsonclub.org
X-WR-CALDESC:Events for The Fort Atkinson Club
REFRESH-INTERVAL;VALUE=DURATION:PT1H
X-Robots-Tag:noindex
X-PUBLISHED-TTL:PT1H
BEGIN:VTIMEZONE
TZID:America/Chicago
BEGIN:DAYLIGHT
TZOFFSETFROM:-0600
TZOFFSETTO:-0500
TZNAME:CDT
DTSTART:20240310T080000
END:DAYLIGHT
BEGIN:STANDARD
TZOFFSETFROM:-0500
TZOFFSETTO:-0600
TZNAME:CST
DTSTART:20241103T070000
END:STANDARD
BEGIN:DAYLIGHT
TZOFFSETFROM:-0600
TZOFFSETTO:-0500
TZNAME:CDT
DTSTART:20250309T080000
END:DAYLIGHT
BEGIN:STANDARD
TZOFFSETFROM:-0500
TZOFFSETTO:-0600
TZNAME:CST
DTSTART:20251102T070000
END:STANDARD
BEGIN:DAYLIGHT
TZOFFSETFROM:-0600
TZOFFSETTO:-0500
TZNAME:CDT
DTSTART:20260308T080000
END:DAYLIGHT
BEGIN:STANDARD
TZOFFSETFROM:-0500
TZOFFSETTO:-0600
TZNAME:CST
DTSTART:20261101T070000
END:STANDARD
END:VTIMEZONE
BEGIN:VEVENT
DTSTART;VALUE=DATE:20251024
DTEND;VALUE=DATE:20251125
DTSTAMP:20260423T020006
CREATED:20250919T175645Z
LAST-MODIFIED:20251022T141627Z
UID:10002252-1761264000-1764028799@www.fortatkinsonclub.org
SUMMARY:Crafted Spirits: Solo Art Show by Ceci Tejeda
DESCRIPTION:This solo exhibition by papier-mâché artist Ceci Tejeda showcases vibrant\, handcrafted works inspired by rich Mexican traditions\, including Día de los Muertos. Through the art of cartonería (papier-mâché)\, Ceci brings to life symbolic figures\, folkloric elements\, and cultural expressions that honor memory\, celebrate ancestry\, and explore the beauty of life and death in Mexican folk art.
URL:https://www.fortatkinsonclub.org/event/art-exhibition-ceci-tejeda/
LOCATION:211 S Water St E\, 53538\, 211 South Water Street East\, Fort Atkinson\, WI\, 53538\, United States
CATEGORIES:Visual Arts
ATTACH;FMTTYPE=image/jpeg:https://www.fortatkinsonclub.org/wp-content/uploads/2025/09/WhatsApp-Image-2025-09-22-at-2.25.29-PM.jpeg
END:VEVENT
BEGIN:VEVENT
DTSTART;TZID=America/Chicago:20251102T160000
DTEND;TZID=America/Chicago:20251102T180000
DTSTAMP:20260423T020006
CREATED:20250919T174511Z
LAST-MODIFIED:20251006T191249Z
UID:10002251-1762099200-1762106400@www.fortatkinsonclub.org
SUMMARY:Chamber Concert Series: The Fulton Chamber Players
DESCRIPTION:The Fulton Chambers Players are presenting a violin-viola duo. This classical music ensemble unites world-class artists to present exceptional programs. Our members are passionate about bringing the highest quality performances to all audiences as well as inspiring the next generation of musicians \nRecent seasons have taken the members of FCP to audiences both in the US and abroad. The ensemble debuted in 2022 in a collaborative pop-up with Michelin-starred chefs in Chicago\, and they continue to cultivate partnerships across the globe. Recent seasons have featured tours to Taiwan\, Japan\, Portland\, Miami\, Hawai’i\, Canada\, and across the Midwest\, and have included their debut at Newport Classical in Rhode Island.  \nThis is a FREE concert and is open to the public. 
URL:https://www.fortatkinsonclub.org/event/chamber-concert-series-the-fulton-chamber-players/
LOCATION:211 S Water St E\, 53538\, 211 South Water Street East\, Fort Atkinson\, WI\, 53538\, United States
CATEGORIES:Music
ATTACH;FMTTYPE=image/jpeg:https://www.fortatkinsonclub.org/wp-content/uploads/2025/10/duo-photo-scaled.jpg
END:VEVENT
BEGIN:VEVENT
DTSTART;TZID=America/Chicago:20251111T173000
DTEND;TZID=America/Chicago:20251111T193000
DTSTAMP:20260423T020006
CREATED:20251029T134324Z
LAST-MODIFIED:20251106T162019Z
UID:10002247-1762882200-1762889400@www.fortatkinsonclub.org
SUMMARY:FREE Community Art Class -  Printmaking Techniques: Foam Stamping
DESCRIPTION:Explore the fun printing method of stamping with foam prints. Supported by friendly instruction by UW-Whitewater preservice Art teachers and ongoing encouragement\, attendees will learn how to experiment with colors\, space\, and textures while building confidence and creative skills. Join us for an inspiring session where imagination meets water soluble tempera paints.
URL:https://www.fortatkinsonclub.org/event/free-art-classes-2/
LOCATION:211 S Water St E\, 53538\, 211 South Water Street East\, Fort Atkinson\, WI\, 53538\, United States
CATEGORIES:Visual Arts
ATTACH;FMTTYPE=image/jpeg:https://www.fortatkinsonclub.org/wp-content/uploads/2025/10/printmaking-techniques.jpg
END:VEVENT
BEGIN:VEVENT
DTSTART;VALUE=DATE:20251112
DTEND;VALUE=DATE:20251118
DTSTAMP:20260423T020006
CREATED:20251113T164543Z
LAST-MODIFIED:20251118T013813Z
UID:10002268-1762905600-1763423999@www.fortatkinsonclub.org
SUMMARY:Pop-Up Food Pantry
DESCRIPTION:We have a small pop-up food pantry available daily at FAC. Take what you need. Leave what you can. We’re accepting food donations\, weekdays\, from 10-2 in the FAC office.  And donate anytime here: https://www.fortatkinsonclub.org/ways-to-give/ \nInterested in volunteering?  Text us at 920.397.9129
URL:https://www.fortatkinsonclub.org/event/pop-up-food-pantry/
LOCATION:211 S Water St E\, 53538\, 211 South Water Street East\, Fort Atkinson\, WI\, 53538\, United States
CATEGORIES:Community
ATTACH;FMTTYPE=image/png:https://www.fortatkinsonclub.org/wp-content/uploads/2025/11/Copy-of-Pop-up-Food-Pantry.png
END:VEVENT
BEGIN:VEVENT
DTSTART;TZID=America/Chicago:20251112T180000
DTEND;TZID=America/Chicago:20251112T193000
DTSTAMP:20260423T020006
CREATED:20251022T141009Z
LAST-MODIFIED:20251022T141009Z
UID:10002257-1762970400-1762975800@www.fortatkinsonclub.org
SUMMARY:Build Local: The Power of Purposeful Business
DESCRIPTION:Join us for the next Build Local community event where we explore how entrepreneurship can create real\, positive impact. Hear from the Enactus team at UW–Whitewater as they share their purpose-driven projects and their journey to represent the USA in Thailand. Whether you’re an aspiring entrepreneur or simply curious about social innovation\, this is a great space to connect\, learn\, and ask questions about building business with purpose.
URL:https://www.fortatkinsonclub.org/event/build-local-the-power-of-purposeful-business/
LOCATION:211 S Water St E\, 53538\, 211 South Water Street East\, Fort Atkinson\, WI\, 53538\, United States
CATEGORIES:Business Development,Community
ATTACH;FMTTYPE=image/jpeg:https://www.fortatkinsonclub.org/wp-content/uploads/2025/10/build-local-nov-12.jpg
END:VEVENT
BEGIN:VEVENT
DTSTART;TZID=America/Chicago:20251118T173000
DTEND;TZID=America/Chicago:20251118T183000
DTSTAMP:20260423T020006
CREATED:20230227T200833Z
LAST-MODIFIED:20250115T155450Z
UID:10002176-1763487000-1763490600@www.fortatkinsonclub.org
SUMMARY:Fort Club Board Meeting
DESCRIPTION:
URL:https://www.fortatkinsonclub.org/event/fort-club-board-meeting/2025-11-18/
LOCATION:211 S Water St E\, 53538\, 211 South Water Street East\, Fort Atkinson\, WI\, 53538\, United States
ATTACH;FMTTYPE=image/jpeg:https://www.fortatkinsonclub.org/wp-content/uploads/2023/02/Failte4-scaled.jpg
END:VEVENT
BEGIN:VEVENT
DTSTART;TZID=America/Chicago:20251119T163000
DTEND;TZID=America/Chicago:20251119T180000
DTSTAMP:20260423T020006
CREATED:20251113T153350Z
LAST-MODIFIED:20251125T133924Z
UID:10002261-1763569800-1763575200@www.fortatkinsonclub.org
SUMMARY:FREE Community Meals
DESCRIPTION:Join us for Free Community Meals\, Wednesdays from 4:30-6\, at the FAC.  Text 920-397-9129 to reserve your meal! Neighbors helping neighbors.  During this time of uncertainty with food benefits\, our hearts are full from seeing so many members of the community coming together to share what we have with each other.  We hope you’ll make yourself at home here at the FAC for a warm meal. \nInterested in volunteering?  Text us at 920.397.9129 \n 
URL:https://www.fortatkinsonclub.org/event/free-community-meals/2025-11-19/
LOCATION:211 S Water St E\, 53538\, 211 South Water Street East\, Fort Atkinson\, WI\, 53538\, United States
CATEGORIES:Community
ATTACH;FMTTYPE=image/png:https://www.fortatkinsonclub.org/wp-content/uploads/2025/11/Copy-of-Copy-of-Pop-up-Food-Pantry-4.25-x-5.5-in.png
END:VEVENT
BEGIN:VEVENT
DTSTART;TZID=America/Chicago:20251126T163000
DTEND;TZID=America/Chicago:20251126T180000
DTSTAMP:20260423T020006
CREATED:20251113T153350Z
LAST-MODIFIED:20251125T133924Z
UID:10002262-1764174600-1764180000@www.fortatkinsonclub.org
SUMMARY:FREE Community Meals
DESCRIPTION:Join us for Free Community Meals\, Wednesdays from 4:30-6\, at the FAC.  Text 920-397-9129 to reserve your meal! Neighbors helping neighbors.  During this time of uncertainty with food benefits\, our hearts are full from seeing so many members of the community coming together to share what we have with each other.  We hope you’ll make yourself at home here at the FAC for a warm meal. \nInterested in volunteering?  Text us at 920.397.9129 \n 
URL:https://www.fortatkinsonclub.org/event/free-community-meals/2025-11-26/
LOCATION:211 S Water St E\, 53538\, 211 South Water Street East\, Fort Atkinson\, WI\, 53538\, United States
CATEGORIES:Community
ATTACH;FMTTYPE=image/png:https://www.fortatkinsonclub.org/wp-content/uploads/2025/11/Copy-of-Copy-of-Pop-up-Food-Pantry-4.25-x-5.5-in.png
END:VEVENT
END:VCALENDAR