BEGIN:VCALENDAR
VERSION:2.0
PRODID:-//The Fort Atkinson Club - ECPv6.15.20//NONSGML v1.0//EN
CALSCALE:GREGORIAN
METHOD:PUBLISH
X-WR-CALNAME:The Fort Atkinson Club
X-ORIGINAL-URL:https://www.fortatkinsonclub.org
X-WR-CALDESC:Events for The Fort Atkinson Club
REFRESH-INTERVAL;VALUE=DURATION:PT1H
X-Robots-Tag:noindex
X-PUBLISHED-TTL:PT1H
BEGIN:VTIMEZONE
TZID:America/Chicago
BEGIN:DAYLIGHT
TZOFFSETFROM:-0600
TZOFFSETTO:-0500
TZNAME:CDT
DTSTART:20240310T080000
END:DAYLIGHT
BEGIN:STANDARD
TZOFFSETFROM:-0500
TZOFFSETTO:-0600
TZNAME:CST
DTSTART:20241103T070000
END:STANDARD
BEGIN:DAYLIGHT
TZOFFSETFROM:-0600
TZOFFSETTO:-0500
TZNAME:CDT
DTSTART:20250309T080000
END:DAYLIGHT
BEGIN:STANDARD
TZOFFSETFROM:-0500
TZOFFSETTO:-0600
TZNAME:CST
DTSTART:20251102T070000
END:STANDARD
BEGIN:DAYLIGHT
TZOFFSETFROM:-0600
TZOFFSETTO:-0500
TZNAME:CDT
DTSTART:20260308T080000
END:DAYLIGHT
BEGIN:STANDARD
TZOFFSETFROM:-0500
TZOFFSETTO:-0600
TZNAME:CST
DTSTART:20261101T070000
END:STANDARD
END:VTIMEZONE
BEGIN:VEVENT
DTSTART;TZID=America/Chicago:20251011T130000
DTEND;TZID=America/Chicago:20251011T170000
DTSTAMP:20260423T033637
CREATED:20251002T161044Z
LAST-MODIFIED:20251002T161044Z
UID:10002256-1760187600-1760202000@www.fortatkinsonclub.org
SUMMARY:Fort Atkinson Writing Festival
DESCRIPTION:
URL:https://www.fortatkinsonclub.org/event/fort-atkinson-writing-festival/
LOCATION:211 S Water St E\, 53538\, 211 South Water Street East\, Fort Atkinson\, WI\, 53538\, United States
CATEGORIES:Community
ATTACH;FMTTYPE=image/png:https://www.fortatkinsonclub.org/wp-content/uploads/2025/10/Writers-fest.png
END:VEVENT
BEGIN:VEVENT
DTSTART;TZID=America/Chicago:20251014T173000
DTEND;TZID=America/Chicago:20251014T193000
DTSTAMP:20260423T033637
CREATED:20250730T175403Z
LAST-MODIFIED:20250820T170003Z
UID:10002246-1760463000-1760470200@www.fortatkinsonclub.org
SUMMARY:FREE Community Art Classes
DESCRIPTION:UW-Whitewater’s Art Education graduating students are offering free art classes to the Fort Atkinson community! These classes will be led by talented students who will share their skills with participants of all ages. Everyone is welcome to join and explore their creativity. Classes will resume in the Fall.
URL:https://www.fortatkinsonclub.org/event/free-art-classes/2025-10-14/
LOCATION:211 S Water St E\, 53538\, 211 South Water Street East\, Fort Atkinson\, WI\, 53538\, United States
CATEGORIES:Visual Arts
ATTACH;FMTTYPE=image/png:https://www.fortatkinsonclub.org/wp-content/uploads/2024/09/art-event.png
END:VEVENT
BEGIN:VEVENT
DTSTART;TZID=America/Chicago:20251018T180000
DTEND;TZID=America/Chicago:20251018T220000
DTSTAMP:20260423T033637
CREATED:20250906T172447Z
LAST-MODIFIED:20250906T172531Z
UID:10002249-1760810400-1760824800@www.fortatkinsonclub.org
SUMMARY:A Roaring Good Time Fundraising Gala
DESCRIPTION:No need to knock three times – the password is “FAC”. Behind these doors\, the gin will be flowing\, the jazz will be jumpin’\, and the joint will be full of flappers and gents cutting a rug. Heavy appetizers\, sweet treats\, a silent auction\, and a paddle raise make it the bee’s knees. \nDust off your glad rags – 1920s attire encouraged! \n  \nThe Fort Atkinson Club Community Center is a beautifully restored building in downtown For Atkinson along the banks of the Rock River. This historic building was lovingly restored by Joan Jones and a host of other remarkable volunteers and donors to become the vital community gathering space it is today. The FAC offers a range of impactful FREE programs for the community including chamber concerts\, FacTalks\, wellness classes\, art programs and exhibitions\, summer patio concerts and much more. \nIn order to keep our programming free and open to everyone in the community we have a few fundraisers annually to support our community vision of “A vibrant Fort Atkinson area\, alive with cultural and learning experiences – music\, visual arts\, lectures\, drama\, wellness and celebrations – where our diverse population is actively engaged.”
URL:https://www.fortatkinsonclub.org/event/a-roaring-good-time-fundraising-gala/
LOCATION:211 S Water St E\, 53538\, 211 South Water Street East\, Fort Atkinson\, WI\, 53538\, United States
CATEGORIES:Community
ATTACH;FMTTYPE=image/png:https://www.fortatkinsonclub.org/wp-content/uploads/2025/09/a-roaring-good-time-fundraising-gala-Saturday-october-18-2025-6pm-10pm-The-fort-atkinson-club-community-center-211-S-water-st.-e-fort-atkinson-2.png
END:VEVENT
BEGIN:VEVENT
DTSTART;TZID=America/Chicago:20251020T140000
DTEND;TZID=America/Chicago:20251020T190000
DTSTAMP:20260423T033637
CREATED:20250919T171904Z
LAST-MODIFIED:20250925T160108Z
UID:10002250-1760968800-1760986800@www.fortatkinsonclub.org
SUMMARY:Blood Drive sponsored by Fort HealthCare
DESCRIPTION:Don’t ghost us this Halloween season —book your blood donation appointment today and save lives. \nOne donation can help save up to three lives! \nHelp those in need by donating blood. Schedule your donation today! Schedule
URL:https://www.fortatkinsonclub.org/event/blood-drive-sponsored-by-fort-healthcare/
LOCATION:211 S Water St E\, 53538\, 211 South Water Street East\, Fort Atkinson\, WI\, 53538\, United States
CATEGORIES:Health & Wellness
ATTACH;FMTTYPE=image/png:https://www.fortatkinsonclub.org/wp-content/uploads/2025/09/Dont_Ghost_Us.png
END:VEVENT
BEGIN:VEVENT
DTSTART;TZID=America/Chicago:20251021T173000
DTEND;TZID=America/Chicago:20251021T183000
DTSTAMP:20260423T033637
CREATED:20230227T200833Z
LAST-MODIFIED:20250115T155450Z
UID:10002175-1761067800-1761071400@www.fortatkinsonclub.org
SUMMARY:Fort Club Board Meeting
DESCRIPTION:
URL:https://www.fortatkinsonclub.org/event/fort-club-board-meeting/2025-10-21/
LOCATION:211 S Water St E\, 53538\, 211 South Water Street East\, Fort Atkinson\, WI\, 53538\, United States
ATTACH;FMTTYPE=image/jpeg:https://www.fortatkinsonclub.org/wp-content/uploads/2023/02/Failte4-scaled.jpg
END:VEVENT
BEGIN:VEVENT
DTSTART;VALUE=DATE:20251024
DTEND;VALUE=DATE:20251125
DTSTAMP:20260423T033637
CREATED:20250919T175645Z
LAST-MODIFIED:20251022T141627Z
UID:10002252-1761264000-1764028799@www.fortatkinsonclub.org
SUMMARY:Crafted Spirits: Solo Art Show by Ceci Tejeda
DESCRIPTION:This solo exhibition by papier-mâché artist Ceci Tejeda showcases vibrant\, handcrafted works inspired by rich Mexican traditions\, including Día de los Muertos. Through the art of cartonería (papier-mâché)\, Ceci brings to life symbolic figures\, folkloric elements\, and cultural expressions that honor memory\, celebrate ancestry\, and explore the beauty of life and death in Mexican folk art.
URL:https://www.fortatkinsonclub.org/event/art-exhibition-ceci-tejeda/
LOCATION:211 S Water St E\, 53538\, 211 South Water Street East\, Fort Atkinson\, WI\, 53538\, United States
CATEGORIES:Visual Arts
ATTACH;FMTTYPE=image/jpeg:https://www.fortatkinsonclub.org/wp-content/uploads/2025/09/WhatsApp-Image-2025-09-22-at-2.25.29-PM.jpeg
END:VEVENT
BEGIN:VEVENT
DTSTART;TZID=America/Chicago:20251025T110000
DTEND;TZID=America/Chicago:20251025T130000
DTSTAMP:20260423T033637
CREATED:20250925T172428Z
LAST-MODIFIED:20250925T172428Z
UID:10002253-1761390000-1761397200@www.fortatkinsonclub.org
SUMMARY:Mini Alebrije Art Workshop and Reception
DESCRIPTION:Join us for a fun and creative hands-on workshop where you’ll learn to make your very own alebrije with papier-mâché artist\, Ceci Tejeda. Alebrijes are a colorful\, fantastical creature that blends elements of various animals. Originating from Mexican folk art\, alebrijes are traditionally crafted from papier-mâché and painted in vibrant patterns and bold colors. Each one is a unique expression of imagination!\n\nIn this 2-hour session\, participants will choose one of two sample alebrije designs to recreate by following a step-by-step process. You’ll learn how to build the base using aluminum foil and papier-mâché\, then bring your creature to life through painting and decoration inspired by traditional Mexican styles. \n\n\n\n\nAges 12 and up: Participants will build their entire piece from start to finish.\nAges 5 to 11: We’ll provide a pre-made aluminum base so younger artists can focus on shaping\, decorating\, and painting their alebrije.\n\n\nFollowing the workshop\, at 1:00 PM\, all are invited to a Community Reception celebrating the opening of Crafted Spirits: Día de los Muertos\, a solo exhibition by Ceci Tejeda on view at the FAC from October 24 to November 24. The reception will feature light refreshments and offer an opportunity to engage with the artist\, explore her vibrant papier-mâché pieces\, and reflect on cultural expressions of memory\, life\, and death.
URL:https://www.fortatkinsonclub.org/event/mini-alebrije-art-workshop-and-reception/
LOCATION:211 S Water St E\, 53538\, 211 South Water Street East\, Fort Atkinson\, WI\, 53538\, United States
CATEGORIES:Visual Arts
ATTACH;FMTTYPE=image/png:https://www.fortatkinsonclub.org/wp-content/uploads/2025/09/Screenshot-2025-09-19-at-12.53.48-PM.png
END:VEVENT
BEGIN:VEVENT
DTSTART;TZID=America/Chicago:20251025T130000
DTEND;TZID=America/Chicago:20251025T140000
DTSTAMP:20260423T033637
CREATED:20250925T172733Z
LAST-MODIFIED:20251022T141458Z
UID:10002254-1761397200-1761400800@www.fortatkinsonclub.org
SUMMARY:Artist Reception - Crafted Spirits
DESCRIPTION:All are invited to a Community Reception celebrating the opening of Crafted Spirits a solo exhibition by Ceci Tejeda on view at the FAC from October 24 to November 24. The reception will feature light refreshments and offer an opportunity to engage with the artist\, explore her vibrant papier-mâché pieces\, and reflect on cultural expressions of memory\, life\, and death.
URL:https://www.fortatkinsonclub.org/event/artist-reception-crafted-spirits-dia-de-los-muertos/
LOCATION:211 S Water St E\, 53538\, 211 South Water Street East\, Fort Atkinson\, WI\, 53538\, United States
CATEGORIES:Visual Arts
ATTACH;FMTTYPE=image/jpeg:https://www.fortatkinsonclub.org/wp-content/uploads/2025/09/WhatsApp-Image-2025-09-22-at-2.25.29-PM.jpeg
END:VEVENT
END:VCALENDAR