BEGIN:VCALENDAR
VERSION:2.0
PRODID:-//The Fort Atkinson Club - ECPv6.15.20//NONSGML v1.0//EN
CALSCALE:GREGORIAN
METHOD:PUBLISH
X-WR-CALNAME:The Fort Atkinson Club
X-ORIGINAL-URL:https://www.fortatkinsonclub.org
X-WR-CALDESC:Events for The Fort Atkinson Club
REFRESH-INTERVAL;VALUE=DURATION:PT1H
X-Robots-Tag:noindex
X-PUBLISHED-TTL:PT1H
BEGIN:VTIMEZONE
TZID:America/Chicago
BEGIN:DAYLIGHT
TZOFFSETFROM:-0600
TZOFFSETTO:-0500
TZNAME:CDT
DTSTART:20240310T080000
END:DAYLIGHT
BEGIN:STANDARD
TZOFFSETFROM:-0500
TZOFFSETTO:-0600
TZNAME:CST
DTSTART:20241103T070000
END:STANDARD
BEGIN:DAYLIGHT
TZOFFSETFROM:-0600
TZOFFSETTO:-0500
TZNAME:CDT
DTSTART:20250309T080000
END:DAYLIGHT
BEGIN:STANDARD
TZOFFSETFROM:-0500
TZOFFSETTO:-0600
TZNAME:CST
DTSTART:20251102T070000
END:STANDARD
BEGIN:DAYLIGHT
TZOFFSETFROM:-0600
TZOFFSETTO:-0500
TZNAME:CDT
DTSTART:20260308T080000
END:DAYLIGHT
BEGIN:STANDARD
TZOFFSETFROM:-0500
TZOFFSETTO:-0600
TZNAME:CST
DTSTART:20261101T070000
END:STANDARD
END:VTIMEZONE
BEGIN:VEVENT
DTSTART;TZID=America/Chicago:20250916T173000
DTEND;TZID=America/Chicago:20250916T183000
DTSTAMP:20260423T051504
CREATED:20230227T200833Z
LAST-MODIFIED:20250115T155450Z
UID:10002174-1758043800-1758047400@www.fortatkinsonclub.org
SUMMARY:Fort Club Board Meeting
DESCRIPTION:
URL:https://www.fortatkinsonclub.org/event/fort-club-board-meeting/2025-09-16/
LOCATION:211 S Water St E\, 53538\, 211 South Water Street East\, Fort Atkinson\, WI\, 53538\, United States
ATTACH;FMTTYPE=image/jpeg:https://www.fortatkinsonclub.org/wp-content/uploads/2023/02/Failte4-scaled.jpg
END:VEVENT
BEGIN:VEVENT
DTSTART;TZID=America/Chicago:20250917T190000
DTEND;TZID=America/Chicago:20250917T203000
DTSTAMP:20260423T051504
CREATED:20250730T174920Z
LAST-MODIFIED:20250730T175011Z
UID:10002244-1758135600-1758141000@www.fortatkinsonclub.org
SUMMARY:Hispanic Culinary Traditions
DESCRIPTION:To celebrate Hispanic Heritage Month\, come taste and learn about traditional recipes from three Hispanic cultures. Discover how these dishes are made and the traditions behind them. Come learn how to make — and enjoy a taste of — delicious dishes from Venezuela\, Belice\, and Nicaragua\, all prepared by local home cooks! This is a FREE event and everyone is welcome!
URL:https://www.fortatkinsonclub.org/event/hispanic-culinary-traditions/
LOCATION:211 S Water St E\, 53538\, 211 South Water Street East\, Fort Atkinson\, WI\, 53538\, United States
CATEGORIES:Community
ATTACH;FMTTYPE=image/png:https://www.fortatkinsonclub.org/wp-content/uploads/2025/07/FAC-Taste-2025.png
END:VEVENT
BEGIN:VEVENT
DTSTART;TZID=America/Chicago:20250919T180000
DTEND;TZID=America/Chicago:20250919T210000
DTSTAMP:20260423T051504
CREATED:20250709T150754Z
LAST-MODIFIED:20250715T152122Z
UID:10002239-1758304800-1758315600@www.fortatkinsonclub.org
SUMMARY:Rhythms on the Rock: Latin Night
DESCRIPTION:Join us for our final patio concert of the season! Admission and all activities are FREE — food will be available for purchase. Everyone is welcome!\n\nLast year’s Latin Night was incredible — and this year promises to be even more amazing. Get ready for an evening full of dancing\, live music\, and delicious food as we celebrate the vibrant cultures of the Latino community!\n\nStarting at 6 PM on the river level inside\, we’ll kick things off with a Latin dance lesson where you’ll learn the moves for the night. Get ready to learn from Luis Armacanqui of Capitol Social in Madison! He’ll be teaching Latin dance classics like Merengue\, Bachata\, and Salsa\, along with a bit of background on each style. After this fun and engaging lesson\, you’ll be all set to dance the night away!\n\nExperience the unique sounds of Clave y Afinque\, featuring some of the greatest Latin musicians in Wisconsin. Founded by Jesus “Joey” Burgos\, hailed as the best Latin vocalist in Milwaukee and surrounding areas\, this musical group promises an unforgettable performance! \n\nBut that’s not all! Hosted by First United Methodist Church Hispanic Ministry (FUMC)\, we will be serving up mouthwatering dishes\, with proceeds benefiting youth activities. Support a good cause while indulging in a range of Latin foods! Menu coming soon! Don’t miss out on this unforgettable celebration of Latin culture!\n\n******************************************************************************************\nAcompáñenos a nuestro último concierto de la temporada. ¡La entrada y todas las actividades son GRATUITAS y todos son bienvenidos! La Noche Latina del año pasado fue increíble\, y este año promete ser aún mejor. ¡Prepárate para una noche llena de baile\, música en vivo y deliciosa comida mientras celebramos las vibrantes culturas de la comunidad latina!\n\nA las 6 p.m. comenzaremos con una clase de baile latino donde aprenderás los pasos de la noche. ¡Prepárate para aprender con Luis Armacanqui de Capitol Social en Madison! Enseñará clásicos del baile latino como merengue\, bachata y salsa\, junto con un poco de historia sobre cada estilo. Después de esta divertida clase\, ¡estarás listo para bailar toda la noche!\n\nExperimenta los sonidos únicos de Clave y Afinque\, con algunos de los mejores músicos latinos de Wisconsin. Fundado por Jesús “Joey” Burgos\, aclamado como el mejor vocalista latino de Milwaukee y sus alrededores\, ¡este grupo musical promete música inolvidable!\n\n¡Pero eso no es todo! Organizado por el Ministerio Hispano de la Primera Iglesia Metodista Unida (FUMC)\, serviremos platillos deliciosos\, y las ganancias se destinarán a actividades juveniles. ¡Apoya una buena causa y disfruta de una variedad de platillos latinos. ¡Menú disponible próximamente! ¡No te pierdas esta inolvidable celebración de la cultura latina!
URL:https://www.fortatkinsonclub.org/event/rhythms-on-the-rock-3/
LOCATION:WI
CATEGORIES:Music
ATTACH;FMTTYPE=image/png:https://www.fortatkinsonclub.org/wp-content/uploads/2025/05/Latin-Night-2025-2.png
END:VEVENT
BEGIN:VEVENT
DTSTART;TZID=America/Chicago:20250923T173000
DTEND;TZID=America/Chicago:20250923T193000
DTSTAMP:20260423T051504
CREATED:20250730T175403Z
LAST-MODIFIED:20250820T170003Z
UID:10002245-1758648600-1758655800@www.fortatkinsonclub.org
SUMMARY:FREE Community Art Classes
DESCRIPTION:UW-Whitewater’s Art Education graduating students are offering free art classes to the Fort Atkinson community! These classes will be led by talented students who will share their skills with participants of all ages. Everyone is welcome to join and explore their creativity. Classes will resume in the Fall.
URL:https://www.fortatkinsonclub.org/event/free-art-classes/2025-09-23/
LOCATION:211 S Water St E\, 53538\, 211 South Water Street East\, Fort Atkinson\, WI\, 53538\, United States
CATEGORIES:Visual Arts
ATTACH;FMTTYPE=image/png:https://www.fortatkinsonclub.org/wp-content/uploads/2024/09/art-event.png
END:VEVENT
END:VCALENDAR