BEGIN:VCALENDAR
VERSION:2.0
PRODID:-//The Fort Atkinson Club - ECPv6.15.20//NONSGML v1.0//EN
CALSCALE:GREGORIAN
METHOD:PUBLISH
X-WR-CALNAME:The Fort Atkinson Club
X-ORIGINAL-URL:https://www.fortatkinsonclub.org
X-WR-CALDESC:Events for The Fort Atkinson Club
REFRESH-INTERVAL;VALUE=DURATION:PT1H
X-Robots-Tag:noindex
X-PUBLISHED-TTL:PT1H
BEGIN:VTIMEZONE
TZID:America/Chicago
BEGIN:DAYLIGHT
TZOFFSETFROM:-0600
TZOFFSETTO:-0500
TZNAME:CDT
DTSTART:20240310T080000
END:DAYLIGHT
BEGIN:STANDARD
TZOFFSETFROM:-0500
TZOFFSETTO:-0600
TZNAME:CST
DTSTART:20241103T070000
END:STANDARD
BEGIN:DAYLIGHT
TZOFFSETFROM:-0600
TZOFFSETTO:-0500
TZNAME:CDT
DTSTART:20250309T080000
END:DAYLIGHT
BEGIN:STANDARD
TZOFFSETFROM:-0500
TZOFFSETTO:-0600
TZNAME:CST
DTSTART:20251102T070000
END:STANDARD
BEGIN:DAYLIGHT
TZOFFSETFROM:-0600
TZOFFSETTO:-0500
TZNAME:CDT
DTSTART:20260308T080000
END:DAYLIGHT
BEGIN:STANDARD
TZOFFSETFROM:-0500
TZOFFSETTO:-0600
TZNAME:CST
DTSTART:20261101T070000
END:STANDARD
END:VTIMEZONE
BEGIN:VEVENT
DTSTART;TZID=America/Chicago:20250201T100000
DTEND;TZID=America/Chicago:20250201T130000
DTSTAMP:20260424T025115
CREATED:20241115T191106Z
LAST-MODIFIED:20241115T191106Z
UID:10002139-1738404000-1738414800@www.fortatkinsonclub.org
SUMMARY:Wellness Day 2025
DESCRIPTION:
URL:https://www.fortatkinsonclub.org/event/wellness-day-2025/
LOCATION:211 S Water St E\, 53538\, 211 South Water Street East\, Fort Atkinson\, WI\, 53538\, United States
CATEGORIES:Health & Wellness
ATTACH;FMTTYPE=image/png:https://www.fortatkinsonclub.org/wp-content/uploads/2024/11/Wellness-Day_2025_Square.png
END:VEVENT
BEGIN:VEVENT
DTSTART;TZID=America/Chicago:20250206T190000
DTEND;TZID=America/Chicago:20250206T203000
DTSTAMP:20260424T025115
CREATED:20241211T201656Z
LAST-MODIFIED:20241211T201656Z
UID:10002141-1738868400-1738873800@www.fortatkinsonclub.org
SUMMARY:How to Advetsie on Social Media Platforms
DESCRIPTION:
URL:https://www.fortatkinsonclub.org/event/how-to-advetsie-on-social-media-platforms/
LOCATION:211 S Water St E\, 53538\, 211 South Water Street East\, Fort Atkinson\, WI\, 53538\, United States
ATTACH;FMTTYPE=image/png:https://www.fortatkinsonclub.org/wp-content/uploads/2024/12/Build-Local-1-Website-front-page.png
END:VEVENT
BEGIN:VEVENT
DTSTART;TZID=America/Chicago:20250211T170000
DTEND;TZID=America/Chicago:20250211T193000
DTSTAMP:20260424T025115
CREATED:20240904T163809Z
LAST-MODIFIED:20240913T022534Z
UID:10002115-1739293200-1739302200@www.fortatkinsonclub.org
SUMMARY:FREE Community Art Class
DESCRIPTION:UW-Whitewater’s Art Education graduating students are offering free art classes to the Fort Atkinson community! These classes will be led by talented students who will share their skills with participants of all ages. Everyone is welcome to join and explore their creativity. The class will meet on September 24\, October 22\, November 21\, February 11\, March 11\, and April 22 with a concluding class show in May. \n \n 
URL:https://www.fortatkinsonclub.org/event/free-community-art-class/2025-02-11/
LOCATION:211 S Water St E\, 53538\, 211 South Water Street East\, Fort Atkinson\, WI\, 53538\, United States
CATEGORIES:Community,Visual Arts
ATTACH;FMTTYPE=image/png:https://www.fortatkinsonclub.org/wp-content/uploads/2024/09/art-event.png
END:VEVENT
BEGIN:VEVENT
DTSTART;TZID=America/Chicago:20250217T090000
DTEND;TZID=America/Chicago:20250217T133000
DTSTAMP:20260424T025115
CREATED:20250205T214247Z
LAST-MODIFIED:20250205T214247Z
UID:10002228-1739782800-1739799000@www.fortatkinsonclub.org
SUMMARY:Blood Drive
DESCRIPTION:It’s American Heart Month! Celebrate by donating blood. Schedule your donation HERE.
URL:https://www.fortatkinsonclub.org/event/blood-drive-5/
LOCATION:211 S Water St E\, 53538\, 211 South Water Street East\, Fort Atkinson\, WI\, 53538\, United States
CATEGORIES:Health & Wellness
ATTACH;FMTTYPE=image/gif:https://www.fortatkinsonclub.org/wp-content/uploads/2025/02/AmericanHeartMonth1080x1080.gif
END:VEVENT
BEGIN:VEVENT
DTSTART;TZID=America/Chicago:20250218T173000
DTEND;TZID=America/Chicago:20250218T183000
DTSTAMP:20260424T025115
CREATED:20230227T200833Z
LAST-MODIFIED:20250115T155450Z
UID:10002167-1739899800-1739903400@www.fortatkinsonclub.org
SUMMARY:Fort Club Board Meeting
DESCRIPTION:
URL:https://www.fortatkinsonclub.org/event/fort-club-board-meeting/2025-02-18/
LOCATION:211 S Water St E\, 53538\, 211 South Water Street East\, Fort Atkinson\, WI\, 53538\, United States
ATTACH;FMTTYPE=image/jpeg:https://www.fortatkinsonclub.org/wp-content/uploads/2023/02/Failte4-scaled.jpg
END:VEVENT
BEGIN:VEVENT
DTSTART;VALUE=DATE:20250228
DTEND;VALUE=DATE:20250329
DTSTAMP:20260424T025115
CREATED:20250108T202917Z
LAST-MODIFIED:20250207T152556Z
UID:10002143-1740700800-1743206399@www.fortatkinsonclub.org
SUMMARY:Embracing Possibilities: The Power of Inclusion
DESCRIPTION:This unique showcase highlights the artistic achievements of individuals whose abilities often challenge conventional perspectives\, inspiring new ways of thinking about inclusion and creativity. Through this exhibit\, we aim to foster awareness about the talents of individuals with disabilities while sparking conversations on how we can increase inclusivity in our communities and workplaces. Join us in celebrating during a special artist reception on February 28\, 2025.
URL:https://www.fortatkinsonclub.org/event/embracing-possibilities-the-power-of-inclusion/
LOCATION:211 S Water St E\, 53538\, 211 South Water Street East\, Fort Atkinson\, WI\, 53538\, United States
CATEGORIES:Visual Arts
ATTACH;FMTTYPE=image/png:https://www.fortatkinsonclub.org/wp-content/uploads/2025/01/Project-Lead-Event-Logo.png
END:VEVENT
BEGIN:VEVENT
DTSTART;TZID=America/Chicago:20250228T180000
DTEND;TZID=America/Chicago:20250228T200000
DTSTAMP:20260424T025115
CREATED:20250108T202244Z
LAST-MODIFIED:20250207T152715Z
UID:10002142-1740765600-1740772800@www.fortatkinsonclub.org
SUMMARY:Artist Reception - Embracing Possibilities: The Power of Inclusion
DESCRIPTION:Join us in celebrating FAC’s most recent art exhibition. This unique showcase highlights the artistic achievements of individuals whose abilities often challenge conventional perspectives\, inspiring new ways of thinking about inclusion and creativity. Through this exhibit\, we aim to foster awareness about the talents of individuals with disabilities while sparking conversations on how we can increase inclusivity in our communities and workplaces.
URL:https://www.fortatkinsonclub.org/event/artist-reception-embracing-possibilities-the-power-of-inclusion/
LOCATION:211 S Water St E\, 53538\, 211 South Water Street East\, Fort Atkinson\, WI\, 53538\, United States
CATEGORIES:Community,Visual Arts
ATTACH;FMTTYPE=image/png:https://www.fortatkinsonclub.org/wp-content/uploads/2025/01/Project-Lead-Event-Banner-1.png
END:VEVENT
END:VCALENDAR