BEGIN:VCALENDAR
VERSION:2.0
PRODID:-//The Fort Atkinson Club - ECPv6.15.20//NONSGML v1.0//EN
CALSCALE:GREGORIAN
METHOD:PUBLISH
X-WR-CALNAME:The Fort Atkinson Club
X-ORIGINAL-URL:https://www.fortatkinsonclub.org
X-WR-CALDESC:Events for The Fort Atkinson Club
REFRESH-INTERVAL;VALUE=DURATION:PT1H
X-Robots-Tag:noindex
X-PUBLISHED-TTL:PT1H
BEGIN:VTIMEZONE
TZID:America/Chicago
BEGIN:DAYLIGHT
TZOFFSETFROM:-0600
TZOFFSETTO:-0500
TZNAME:CDT
DTSTART:20220313T080000
END:DAYLIGHT
BEGIN:STANDARD
TZOFFSETFROM:-0500
TZOFFSETTO:-0600
TZNAME:CST
DTSTART:20221106T070000
END:STANDARD
BEGIN:DAYLIGHT
TZOFFSETFROM:-0600
TZOFFSETTO:-0500
TZNAME:CDT
DTSTART:20230312T080000
END:DAYLIGHT
BEGIN:STANDARD
TZOFFSETFROM:-0500
TZOFFSETTO:-0600
TZNAME:CST
DTSTART:20231105T070000
END:STANDARD
BEGIN:DAYLIGHT
TZOFFSETFROM:-0600
TZOFFSETTO:-0500
TZNAME:CDT
DTSTART:20240310T080000
END:DAYLIGHT
BEGIN:STANDARD
TZOFFSETFROM:-0500
TZOFFSETTO:-0600
TZNAME:CST
DTSTART:20241103T070000
END:STANDARD
END:VTIMEZONE
BEGIN:VEVENT
DTSTART;TZID=America/Chicago:20231121T173000
DTEND;TZID=America/Chicago:20231121T183000
DTSTAMP:20260425T055844
CREATED:20230227T200833Z
LAST-MODIFIED:20250115T155450Z
UID:10002152-1700587800-1700591400@www.fortatkinsonclub.org
SUMMARY:Fort Club Board Meeting
DESCRIPTION:
URL:https://www.fortatkinsonclub.org/event/fort-club-board-meeting/2023-11-21/
LOCATION:211 S Water St E\, 53538\, 211 South Water Street East\, Fort Atkinson\, WI\, 53538\, United States
ATTACH;FMTTYPE=image/jpeg:https://www.fortatkinsonclub.org/wp-content/uploads/2023/02/Failte4-scaled.jpg
END:VEVENT
BEGIN:VEVENT
DTSTART;TZID=America/Chicago:20231121T160000
DTEND;TZID=America/Chicago:20231121T190000
DTSTAMP:20260425T055844
CREATED:20230227T193812Z
LAST-MODIFIED:20230227T193904Z
UID:10000366-1700582400-1700593200@www.fortatkinsonclub.org
SUMMARY:MUSIC LESSONS WITH ANGELA
DESCRIPTION:
URL:https://www.fortatkinsonclub.org/event/music-lessons-with-angela-2/2023-11-21/
LOCATION:211 S Water St E\, 53538\, 211 South Water Street East\, Fort Atkinson\, WI\, 53538\, United States
END:VEVENT
BEGIN:VEVENT
DTSTART;TZID=America/Chicago:20231120T170000
DTEND;TZID=America/Chicago:20231120T174500
DTSTAMP:20260425T055844
CREATED:20230815T164745Z
LAST-MODIFIED:20230815T164745Z
UID:10000878-1700499600-1700502300@www.fortatkinsonclub.org
SUMMARY:Werq with Gina
DESCRIPTION:
URL:https://www.fortatkinsonclub.org/event/werq-with-gina-9/
LOCATION:211 S Water St E\, 53538\, 211 South Water Street East\, Fort Atkinson\, WI\, 53538\, United States
END:VEVENT
BEGIN:VEVENT
DTSTART;TZID=America/Chicago:20231120T120000
DTEND;TZID=America/Chicago:20231120T130000
DTSTAMP:20260425T055844
CREATED:20230227T193404Z
LAST-MODIFIED:20240710T171054Z
UID:10000276-1700481600-1700485200@www.fortatkinsonclub.org
SUMMARY:ROTARY GENERAL MEETINGS
DESCRIPTION:ROTARY is an organization of business and professional leaders united worldwide\, who provide humanitarian service\, encourage high ethical standards in all vocations\, and help build goodwill and peace in the world. ROTARY is the world’s first service club. The first Rotary club was founded in Chicago\, Illinois\, USA\, on February 23\, 1905. Rotary is some 1.2 million service-minded men and women belonging to over 32\, 000 Rotary clubs in virtually every nation in the world. Rotarians meet weekly for fellowship and interesting and informative programs dealing with topics of local and global importance. Membership is by invitation and reflects a wide cross-section of community representation. Rotarians plan and carry out a remarkable variety of humanitarian\, educational\, and cultural exchange programs that touch people’s lives in their local communities and our world community.
URL:https://www.fortatkinsonclub.org/event/rotary-general-meetings/2023-11-20/
LOCATION:211 S Water St E\, 53538\, 211 South Water Street East\, Fort Atkinson\, WI\, 53538\, United States
ATTACH;FMTTYPE=image/png:https://www.fortatkinsonclub.org/wp-content/uploads/2023/02/Rotary-Logo-5016.png
END:VEVENT
BEGIN:VEVENT
DTSTART;TZID=America/Chicago:20231117T180000
DTEND;TZID=America/Chicago:20231117T200000
DTSTAMP:20260425T055844
CREATED:20230301T164049Z
LAST-MODIFIED:20230301T164224Z
UID:10000627-1700244000-1700251200@www.fortatkinsonclub.org
SUMMARY:Patio Concert
DESCRIPTION:Kick up your heels and join us for our Patio Concerts. Held the third Friday in June\, July and August. \nWe look forward to  seeing you for an evening of singing\, laughter and dancing! \n 
URL:https://www.fortatkinsonclub.org/event/patio-concert/2023-11-17/
LOCATION:211 S Water St E\, 53538\, 211 South Water Street East\, Fort Atkinson\, WI\, 53538\, United States
END:VEVENT
BEGIN:VEVENT
DTSTART;TZID=America/Chicago:20231115T171500
DTEND;TZID=America/Chicago:20231115T180000
DTSTAMP:20260425T055844
CREATED:20230815T170701Z
LAST-MODIFIED:20230815T170701Z
UID:10000899-1700068500-1700071200@www.fortatkinsonclub.org
SUMMARY:Yoga with Gina
DESCRIPTION:
URL:https://www.fortatkinsonclub.org/event/yoga-with-gina-7/
LOCATION:211 S Water St E\, 53538\, 211 South Water Street East\, Fort Atkinson\, WI\, 53538\, United States
END:VEVENT
BEGIN:VEVENT
DTSTART;TZID=America/Chicago:20231115T160000
DTEND;TZID=America/Chicago:20231115T190000
DTSTAMP:20260425T055844
CREATED:20230227T194058Z
LAST-MODIFIED:20230227T194536Z
UID:10000470-1700064000-1700074800@www.fortatkinsonclub.org
SUMMARY:MUSIC LESSONS WITH ANGELA
DESCRIPTION:
URL:https://www.fortatkinsonclub.org/event/music-lessons-with-angela-3/2023-11-15/
LOCATION:211 S Water St E\, 53538\, 211 South Water Street East\, Fort Atkinson\, WI\, 53538\, United States
END:VEVENT
BEGIN:VEVENT
DTSTART;TZID=America/Chicago:20231114T160000
DTEND;TZID=America/Chicago:20231114T190000
DTSTAMP:20260425T055844
CREATED:20230227T193812Z
LAST-MODIFIED:20230227T193904Z
UID:10000365-1699977600-1699988400@www.fortatkinsonclub.org
SUMMARY:MUSIC LESSONS WITH ANGELA
DESCRIPTION:
URL:https://www.fortatkinsonclub.org/event/music-lessons-with-angela-2/2023-11-14/
LOCATION:211 S Water St E\, 53538\, 211 South Water Street East\, Fort Atkinson\, WI\, 53538\, United States
END:VEVENT
BEGIN:VEVENT
DTSTART;TZID=America/Chicago:20231113T170000
DTEND;TZID=America/Chicago:20231113T174500
DTSTAMP:20260425T055844
CREATED:20230815T164611Z
LAST-MODIFIED:20230815T164611Z
UID:10000876-1699894800-1699897500@www.fortatkinsonclub.org
SUMMARY:Werq with Gina
DESCRIPTION:
URL:https://www.fortatkinsonclub.org/event/werq-with-gina-7/
LOCATION:WI
END:VEVENT
BEGIN:VEVENT
DTSTART;TZID=America/Chicago:20231113T120000
DTEND;TZID=America/Chicago:20231113T130000
DTSTAMP:20260425T055844
CREATED:20230227T193404Z
LAST-MODIFIED:20240710T171054Z
UID:10000275-1699876800-1699880400@www.fortatkinsonclub.org
SUMMARY:ROTARY GENERAL MEETINGS
DESCRIPTION:ROTARY is an organization of business and professional leaders united worldwide\, who provide humanitarian service\, encourage high ethical standards in all vocations\, and help build goodwill and peace in the world. ROTARY is the world’s first service club. The first Rotary club was founded in Chicago\, Illinois\, USA\, on February 23\, 1905. Rotary is some 1.2 million service-minded men and women belonging to over 32\, 000 Rotary clubs in virtually every nation in the world. Rotarians meet weekly for fellowship and interesting and informative programs dealing with topics of local and global importance. Membership is by invitation and reflects a wide cross-section of community representation. Rotarians plan and carry out a remarkable variety of humanitarian\, educational\, and cultural exchange programs that touch people’s lives in their local communities and our world community.
URL:https://www.fortatkinsonclub.org/event/rotary-general-meetings/2023-11-13/
LOCATION:211 S Water St E\, 53538\, 211 South Water Street East\, Fort Atkinson\, WI\, 53538\, United States
ATTACH;FMTTYPE=image/png:https://www.fortatkinsonclub.org/wp-content/uploads/2023/02/Rotary-Logo-5016.png
END:VEVENT
BEGIN:VEVENT
DTSTART;TZID=America/Chicago:20231108T171500
DTEND;TZID=America/Chicago:20231108T180000
DTSTAMP:20260425T055844
CREATED:20230815T170551Z
LAST-MODIFIED:20230815T170551Z
UID:10000898-1699463700-1699466400@www.fortatkinsonclub.org
SUMMARY:Yoga with Gina
DESCRIPTION:
URL:https://www.fortatkinsonclub.org/event/yoga-with-gina-6/
LOCATION:211 S Water St E\, 53538\, 211 South Water Street East\, Fort Atkinson\, WI\, 53538\, United States
END:VEVENT
BEGIN:VEVENT
DTSTART;TZID=America/Chicago:20231108T163000
DTEND;TZID=America/Chicago:20231108T171500
DTSTAMP:20260425T055844
CREATED:20230815T165707Z
LAST-MODIFIED:20230815T165707Z
UID:10000887-1699461000-1699463700@www.fortatkinsonclub.org
SUMMARY:Body Blast with Tiffany
DESCRIPTION:
URL:https://www.fortatkinsonclub.org/event/body-blast-with-tiffany-6/
LOCATION:WI
END:VEVENT
BEGIN:VEVENT
DTSTART;TZID=America/Chicago:20231108T160000
DTEND;TZID=America/Chicago:20231108T190000
DTSTAMP:20260425T055844
CREATED:20230227T194058Z
LAST-MODIFIED:20230227T194536Z
UID:10000469-1699459200-1699470000@www.fortatkinsonclub.org
SUMMARY:MUSIC LESSONS WITH ANGELA
DESCRIPTION:
URL:https://www.fortatkinsonclub.org/event/music-lessons-with-angela-3/2023-11-08/
LOCATION:211 S Water St E\, 53538\, 211 South Water Street East\, Fort Atkinson\, WI\, 53538\, United States
END:VEVENT
BEGIN:VEVENT
DTSTART;TZID=America/Chicago:20231107T160000
DTEND;TZID=America/Chicago:20231107T190000
DTSTAMP:20260425T055844
CREATED:20230227T193812Z
LAST-MODIFIED:20230227T193904Z
UID:10000364-1699372800-1699383600@www.fortatkinsonclub.org
SUMMARY:MUSIC LESSONS WITH ANGELA
DESCRIPTION:
URL:https://www.fortatkinsonclub.org/event/music-lessons-with-angela-2/2023-11-07/
LOCATION:211 S Water St E\, 53538\, 211 South Water Street East\, Fort Atkinson\, WI\, 53538\, United States
END:VEVENT
BEGIN:VEVENT
DTSTART;TZID=America/Chicago:20231106T170000
DTEND;TZID=America/Chicago:20231106T174500
DTSTAMP:20260425T055844
CREATED:20230815T164531Z
LAST-MODIFIED:20230815T164531Z
UID:10000875-1699290000-1699292700@www.fortatkinsonclub.org
SUMMARY:Werq with Gina
DESCRIPTION:
URL:https://www.fortatkinsonclub.org/event/werq-with-gina-6/
LOCATION:WI
END:VEVENT
BEGIN:VEVENT
DTSTART;TZID=America/Chicago:20231106T120000
DTEND;TZID=America/Chicago:20231106T130000
DTSTAMP:20260425T055844
CREATED:20230227T193404Z
LAST-MODIFIED:20240710T171054Z
UID:10000274-1699272000-1699275600@www.fortatkinsonclub.org
SUMMARY:ROTARY GENERAL MEETINGS
DESCRIPTION:ROTARY is an organization of business and professional leaders united worldwide\, who provide humanitarian service\, encourage high ethical standards in all vocations\, and help build goodwill and peace in the world. ROTARY is the world’s first service club. The first Rotary club was founded in Chicago\, Illinois\, USA\, on February 23\, 1905. Rotary is some 1.2 million service-minded men and women belonging to over 32\, 000 Rotary clubs in virtually every nation in the world. Rotarians meet weekly for fellowship and interesting and informative programs dealing with topics of local and global importance. Membership is by invitation and reflects a wide cross-section of community representation. Rotarians plan and carry out a remarkable variety of humanitarian\, educational\, and cultural exchange programs that touch people’s lives in their local communities and our world community.
URL:https://www.fortatkinsonclub.org/event/rotary-general-meetings/2023-11-06/
LOCATION:211 S Water St E\, 53538\, 211 South Water Street East\, Fort Atkinson\, WI\, 53538\, United States
ATTACH;FMTTYPE=image/png:https://www.fortatkinsonclub.org/wp-content/uploads/2023/02/Rotary-Logo-5016.png
END:VEVENT
BEGIN:VEVENT
DTSTART;TZID=America/Chicago:20231105T080000
DTEND;TZID=America/Chicago:20231105T170000
DTSTAMP:20260425T055844
CREATED:20230227T204242Z
LAST-MODIFIED:20230227T204242Z
UID:10000598-1699171200-1699203600@www.fortatkinsonclub.org
SUMMARY:Gehred Brunch
DESCRIPTION:
URL:https://www.fortatkinsonclub.org/event/gehred-brunch/
LOCATION:WI
END:VEVENT
BEGIN:VEVENT
DTSTART;TZID=America/Chicago:20231101T171500
DTEND;TZID=America/Chicago:20231101T180000
DTSTAMP:20260425T055844
CREATED:20230815T170434Z
LAST-MODIFIED:20230815T170434Z
UID:10000897-1698858900-1698861600@www.fortatkinsonclub.org
SUMMARY:Yoga with Gina
DESCRIPTION:
URL:https://www.fortatkinsonclub.org/event/yoga-with-gina-5/
LOCATION:211 S Water St E\, 53538\, 211 South Water Street East\, Fort Atkinson\, WI\, 53538\, United States
END:VEVENT
BEGIN:VEVENT
DTSTART;TZID=America/Chicago:20231101T163000
DTEND;TZID=America/Chicago:20231101T171500
DTSTAMP:20260425T055844
CREATED:20230815T165629Z
LAST-MODIFIED:20230815T165629Z
UID:10000886-1698856200-1698858900@www.fortatkinsonclub.org
SUMMARY:Body Blast with Tiffany
DESCRIPTION:
URL:https://www.fortatkinsonclub.org/event/body-blast-with-tiffany-5/
LOCATION:211 S Water St E\, 53538\, 211 South Water Street East\, Fort Atkinson\, WI\, 53538\, United States
END:VEVENT
BEGIN:VEVENT
DTSTART;TZID=America/Chicago:20231101T160000
DTEND;TZID=America/Chicago:20231101T190000
DTSTAMP:20260425T055844
CREATED:20230227T194058Z
LAST-MODIFIED:20230227T194536Z
UID:10000468-1698854400-1698865200@www.fortatkinsonclub.org
SUMMARY:MUSIC LESSONS WITH ANGELA
DESCRIPTION:
URL:https://www.fortatkinsonclub.org/event/music-lessons-with-angela-3/2023-11-01/
LOCATION:211 S Water St E\, 53538\, 211 South Water Street East\, Fort Atkinson\, WI\, 53538\, United States
END:VEVENT
BEGIN:VEVENT
DTSTART;TZID=America/Chicago:20231031T160000
DTEND;TZID=America/Chicago:20231031T190000
DTSTAMP:20260425T055844
CREATED:20230227T193812Z
LAST-MODIFIED:20230227T193904Z
UID:10000363-1698768000-1698778800@www.fortatkinsonclub.org
SUMMARY:MUSIC LESSONS WITH ANGELA
DESCRIPTION:
URL:https://www.fortatkinsonclub.org/event/music-lessons-with-angela-2/2023-10-31/
LOCATION:211 S Water St E\, 53538\, 211 South Water Street East\, Fort Atkinson\, WI\, 53538\, United States
END:VEVENT
BEGIN:VEVENT
DTSTART;TZID=America/Chicago:20231030T170000
DTEND;TZID=America/Chicago:20231030T174500
DTSTAMP:20260425T055844
CREATED:20230815T164440Z
LAST-MODIFIED:20230815T164440Z
UID:10000874-1698685200-1698687900@www.fortatkinsonclub.org
SUMMARY:Werq with Gina
DESCRIPTION:
URL:https://www.fortatkinsonclub.org/event/werq-with-gina-5/
LOCATION:WI
END:VEVENT
BEGIN:VEVENT
DTSTART;TZID=America/Chicago:20231025T190000
DTEND;TZID=America/Chicago:20231025T200000
DTSTAMP:20260425T055844
CREATED:20230901T163414Z
LAST-MODIFIED:20230901T163414Z
UID:10000917-1698260400-1698264000@www.fortatkinsonclub.org
SUMMARY:Fall FACTalk\, Cole Jones\, History of Jones Dairy Farm
DESCRIPTION:
URL:https://www.fortatkinsonclub.org/event/fall-factalk-cole-jones-history-of-jones-dairy-farm/
LOCATION:WI
END:VEVENT
BEGIN:VEVENT
DTSTART;TZID=America/Chicago:20231025T163000
DTEND;TZID=America/Chicago:20231025T171500
DTSTAMP:20260425T055844
CREATED:20230815T165545Z
LAST-MODIFIED:20230815T165545Z
UID:10000885-1698251400-1698254100@www.fortatkinsonclub.org
SUMMARY:Body Blast with Tiffany
DESCRIPTION:
URL:https://www.fortatkinsonclub.org/event/body-blast-with-tiffany-4/
LOCATION:211 S Water St E\, 53538\, 211 South Water Street East\, Fort Atkinson\, WI\, 53538\, United States
END:VEVENT
BEGIN:VEVENT
DTSTART;TZID=America/Chicago:20231025T160000
DTEND;TZID=America/Chicago:20231025T190000
DTSTAMP:20260425T055844
CREATED:20230227T194058Z
LAST-MODIFIED:20230227T194536Z
UID:10000467-1698249600-1698260400@www.fortatkinsonclub.org
SUMMARY:MUSIC LESSONS WITH ANGELA
DESCRIPTION:
URL:https://www.fortatkinsonclub.org/event/music-lessons-with-angela-3/2023-10-25/
LOCATION:211 S Water St E\, 53538\, 211 South Water Street East\, Fort Atkinson\, WI\, 53538\, United States
END:VEVENT
BEGIN:VEVENT
DTSTART;TZID=America/Chicago:20231024T160000
DTEND;TZID=America/Chicago:20231024T190000
DTSTAMP:20260425T055844
CREATED:20230227T193812Z
LAST-MODIFIED:20230227T193904Z
UID:10000362-1698163200-1698174000@www.fortatkinsonclub.org
SUMMARY:MUSIC LESSONS WITH ANGELA
DESCRIPTION:
URL:https://www.fortatkinsonclub.org/event/music-lessons-with-angela-2/2023-10-24/
LOCATION:211 S Water St E\, 53538\, 211 South Water Street East\, Fort Atkinson\, WI\, 53538\, United States
END:VEVENT
BEGIN:VEVENT
DTSTART;TZID=America/Chicago:20231023T120000
DTEND;TZID=America/Chicago:20231023T130000
DTSTAMP:20260425T055844
CREATED:20230227T193404Z
LAST-MODIFIED:20240710T171054Z
UID:10000273-1698062400-1698066000@www.fortatkinsonclub.org
SUMMARY:ROTARY GENERAL MEETINGS
DESCRIPTION:ROTARY is an organization of business and professional leaders united worldwide\, who provide humanitarian service\, encourage high ethical standards in all vocations\, and help build goodwill and peace in the world. ROTARY is the world’s first service club. The first Rotary club was founded in Chicago\, Illinois\, USA\, on February 23\, 1905. Rotary is some 1.2 million service-minded men and women belonging to over 32\, 000 Rotary clubs in virtually every nation in the world. Rotarians meet weekly for fellowship and interesting and informative programs dealing with topics of local and global importance. Membership is by invitation and reflects a wide cross-section of community representation. Rotarians plan and carry out a remarkable variety of humanitarian\, educational\, and cultural exchange programs that touch people’s lives in their local communities and our world community.
URL:https://www.fortatkinsonclub.org/event/rotary-general-meetings/2023-10-23/
LOCATION:211 S Water St E\, 53538\, 211 South Water Street East\, Fort Atkinson\, WI\, 53538\, United States
ATTACH;FMTTYPE=image/png:https://www.fortatkinsonclub.org/wp-content/uploads/2023/02/Rotary-Logo-5016.png
END:VEVENT
BEGIN:VEVENT
DTSTART;TZID=America/Chicago:20231022T160000
DTEND;TZID=America/Chicago:20231022T170000
DTSTAMP:20260425T055844
CREATED:20231011T152932Z
LAST-MODIFIED:20231011T152932Z
UID:10000919-1697990400-1697994000@www.fortatkinsonclub.org
SUMMARY:Chamber Series Concert - EStrella Piano Duo
DESCRIPTION:
URL:https://www.fortatkinsonclub.org/event/chamber-series-concert-estrella-piano-duo/
LOCATION:WI
END:VEVENT
BEGIN:VEVENT
DTSTART;TZID=America/Chicago:20231021T173000
DTEND;TZID=America/Chicago:20231021T230000
DTSTAMP:20260425T055844
CREATED:20230906T184035Z
LAST-MODIFIED:20230906T184723Z
UID:10000918-1697909400-1697929200@www.fortatkinsonclub.org
SUMMARY:110th Anniversary Gala
DESCRIPTION:
URL:https://www.fortatkinsonclub.org/event/110th-anniversary-gala/
LOCATION:211 S Water St E\, 53538\, 211 South Water Street East\, Fort Atkinson\, WI\, 53538\, United States
END:VEVENT
BEGIN:VEVENT
DTSTART;TZID=America/Chicago:20231020T180000
DTEND;TZID=America/Chicago:20231020T200000
DTSTAMP:20260425T055845
CREATED:20230301T164049Z
LAST-MODIFIED:20230301T164224Z
UID:10000626-1697824800-1697832000@www.fortatkinsonclub.org
SUMMARY:Patio Concert
DESCRIPTION:Kick up your heels and join us for our Patio Concerts. Held the third Friday in June\, July and August. \nWe look forward to  seeing you for an evening of singing\, laughter and dancing! \n 
URL:https://www.fortatkinsonclub.org/event/patio-concert/2023-10-20/
LOCATION:211 S Water St E\, 53538\, 211 South Water Street East\, Fort Atkinson\, WI\, 53538\, United States
END:VEVENT
END:VCALENDAR