BEGIN:VCALENDAR
VERSION:2.0
PRODID:-//The Fort Atkinson Club - ECPv6.15.20//NONSGML v1.0//EN
CALSCALE:GREGORIAN
METHOD:PUBLISH
X-ORIGINAL-URL:https://www.fortatkinsonclub.org
X-WR-CALDESC:Events for The Fort Atkinson Club
REFRESH-INTERVAL;VALUE=DURATION:PT1H
X-Robots-Tag:noindex
X-PUBLISHED-TTL:PT1H
BEGIN:VTIMEZONE
TZID:America/Chicago
BEGIN:DAYLIGHT
TZOFFSETFROM:-0600
TZOFFSETTO:-0500
TZNAME:CDT
DTSTART:20260308T080000
END:DAYLIGHT
BEGIN:STANDARD
TZOFFSETFROM:-0500
TZOFFSETTO:-0600
TZNAME:CST
DTSTART:20261101T070000
END:STANDARD
BEGIN:DAYLIGHT
TZOFFSETFROM:-0600
TZOFFSETTO:-0500
TZNAME:CDT
DTSTART:20270314T080000
END:DAYLIGHT
BEGIN:STANDARD
TZOFFSETFROM:-0500
TZOFFSETTO:-0600
TZNAME:CST
DTSTART:20271107T070000
END:STANDARD
BEGIN:DAYLIGHT
TZOFFSETFROM:-0600
TZOFFSETTO:-0500
TZNAME:CDT
DTSTART:20280312T080000
END:DAYLIGHT
BEGIN:STANDARD
TZOFFSETFROM:-0500
TZOFFSETTO:-0600
TZNAME:CST
DTSTART:20281105T070000
END:STANDARD
BEGIN:DAYLIGHT
TZOFFSETFROM:-0600
TZOFFSETTO:-0500
TZNAME:CDT
DTSTART:20290311T080000
END:DAYLIGHT
BEGIN:STANDARD
TZOFFSETFROM:-0500
TZOFFSETTO:-0600
TZNAME:CST
DTSTART:20291104T070000
END:STANDARD
END:VTIMEZONE
BEGIN:VEVENT
DTSTART;TZID=America/Chicago:20270922T173000
DTEND;TZID=America/Chicago:20270922T183000
DTSTAMP:20260423T183330
CREATED:20260122T203322Z
LAST-MODIFIED:20260122T203322Z
UID:10002419-1821634200-1821637800@www.fortatkinsonclub.org
SUMMARY:Narcotics Anonymous Meeting
DESCRIPTION:Narcotics Anonymous meets in the Lodge room weekly at 5:30.
URL:https://www.fortatkinsonclub.org/event/narcotics-anonymous-meeting/2027-09-22/
LOCATION:211 S Water St E\, 53538\, 211 South Water Street East\, Fort Atkinson\, WI\, 53538\, United States
CATEGORIES:Health & Wellness
ATTACH;FMTTYPE=image/png:https://www.fortatkinsonclub.org/wp-content/uploads/2026/01/NA-logo.png
END:VEVENT
BEGIN:VEVENT
DTSTART;TZID=America/Chicago:20270929T173000
DTEND;TZID=America/Chicago:20270929T183000
DTSTAMP:20260423T183330
CREATED:20260122T203322Z
LAST-MODIFIED:20260122T203322Z
UID:10002420-1822239000-1822242600@www.fortatkinsonclub.org
SUMMARY:Narcotics Anonymous Meeting
DESCRIPTION:Narcotics Anonymous meets in the Lodge room weekly at 5:30.
URL:https://www.fortatkinsonclub.org/event/narcotics-anonymous-meeting/2027-09-29/
LOCATION:211 S Water St E\, 53538\, 211 South Water Street East\, Fort Atkinson\, WI\, 53538\, United States
CATEGORIES:Health & Wellness
ATTACH;FMTTYPE=image/png:https://www.fortatkinsonclub.org/wp-content/uploads/2026/01/NA-logo.png
END:VEVENT
BEGIN:VEVENT
DTSTART;TZID=America/Chicago:20271001T180000
DTEND;TZID=America/Chicago:20271001T210000
DTSTAMP:20260423T183330
CREATED:20260312T184919Z
LAST-MODIFIED:20260313T012320Z
UID:10002633-1822413600-1822424400@www.fortatkinsonclub.org
SUMMARY:Social Dance
DESCRIPTION:Dance the night away — no partner\, no experience\, no problem. \nJoin us on the first Friday of every month for an evening of movement\, music\, and community. In partnership with Fred Astaire Dance Studios in Oconomowoc\, we’re bringing the joy of ballroom dance to Fort Atkinson in a way that’s welcoming\, fun\, and completely beginner-friendly. \nThe evening kicks off with an hour-long dance lesson from 6:00–7:00 PM\, led by professional ballroom dance instructors who will teach easy\, approachable steps you can actually use on the dance floor. From 7:00–9:00 PM\, the floor opens up for social dancing — put those new moves to work as we dance to modern hits you already know and love. \nWhether you’re a seasoned dancer or have never set foot on a dance floor\, you’ll feel right at home. Come solo\, bring a friend\, or make new ones here. \nFree. No partner necessary. All ages and abilities welcome.
URL:https://www.fortatkinsonclub.org/event/social-dance/2027-10-01/
LOCATION:211 S Water St E\, 53538\, 211 South Water Street East\, Fort Atkinson\, WI\, 53538\, United States
CATEGORIES:Community,Music
ATTACH;FMTTYPE=image/png:https://www.fortatkinsonclub.org/wp-content/uploads/2026/03/Social-Dance.png
END:VEVENT
BEGIN:VEVENT
DTSTART;TZID=America/Chicago:20271006T173000
DTEND;TZID=America/Chicago:20271006T183000
DTSTAMP:20260423T183330
CREATED:20260122T203322Z
LAST-MODIFIED:20260122T203322Z
UID:10002421-1822843800-1822847400@www.fortatkinsonclub.org
SUMMARY:Narcotics Anonymous Meeting
DESCRIPTION:Narcotics Anonymous meets in the Lodge room weekly at 5:30.
URL:https://www.fortatkinsonclub.org/event/narcotics-anonymous-meeting/2027-10-06/
LOCATION:211 S Water St E\, 53538\, 211 South Water Street East\, Fort Atkinson\, WI\, 53538\, United States
CATEGORIES:Health & Wellness
ATTACH;FMTTYPE=image/png:https://www.fortatkinsonclub.org/wp-content/uploads/2026/01/NA-logo.png
END:VEVENT
BEGIN:VEVENT
DTSTART;TZID=America/Chicago:20271013T173000
DTEND;TZID=America/Chicago:20271013T183000
DTSTAMP:20260423T183330
CREATED:20260122T203322Z
LAST-MODIFIED:20260122T203322Z
UID:10002422-1823448600-1823452200@www.fortatkinsonclub.org
SUMMARY:Narcotics Anonymous Meeting
DESCRIPTION:Narcotics Anonymous meets in the Lodge room weekly at 5:30.
URL:https://www.fortatkinsonclub.org/event/narcotics-anonymous-meeting/2027-10-13/
LOCATION:211 S Water St E\, 53538\, 211 South Water Street East\, Fort Atkinson\, WI\, 53538\, United States
CATEGORIES:Health & Wellness
ATTACH;FMTTYPE=image/png:https://www.fortatkinsonclub.org/wp-content/uploads/2026/01/NA-logo.png
END:VEVENT
BEGIN:VEVENT
DTSTART;TZID=America/Chicago:20271019T173000
DTEND;TZID=America/Chicago:20271019T183000
DTSTAMP:20260423T183330
CREATED:20230227T200833Z
LAST-MODIFIED:20250115T155450Z
UID:10002199-1823967000-1823970600@www.fortatkinsonclub.org
SUMMARY:Fort Club Board Meeting
DESCRIPTION:
URL:https://www.fortatkinsonclub.org/event/fort-club-board-meeting/2027-10-19/
LOCATION:211 S Water St E\, 53538\, 211 South Water Street East\, Fort Atkinson\, WI\, 53538\, United States
ATTACH;FMTTYPE=image/jpeg:https://www.fortatkinsonclub.org/wp-content/uploads/2023/02/Failte4-scaled.jpg
END:VEVENT
BEGIN:VEVENT
DTSTART;TZID=America/Chicago:20271020T173000
DTEND;TZID=America/Chicago:20271020T183000
DTSTAMP:20260423T183330
CREATED:20260122T203322Z
LAST-MODIFIED:20260122T203322Z
UID:10002423-1824053400-1824057000@www.fortatkinsonclub.org
SUMMARY:Narcotics Anonymous Meeting
DESCRIPTION:Narcotics Anonymous meets in the Lodge room weekly at 5:30.
URL:https://www.fortatkinsonclub.org/event/narcotics-anonymous-meeting/2027-10-20/
LOCATION:211 S Water St E\, 53538\, 211 South Water Street East\, Fort Atkinson\, WI\, 53538\, United States
CATEGORIES:Health & Wellness
ATTACH;FMTTYPE=image/png:https://www.fortatkinsonclub.org/wp-content/uploads/2026/01/NA-logo.png
END:VEVENT
BEGIN:VEVENT
DTSTART;TZID=America/Chicago:20271027T173000
DTEND;TZID=America/Chicago:20271027T183000
DTSTAMP:20260423T183330
CREATED:20260122T203322Z
LAST-MODIFIED:20260122T203322Z
UID:10002424-1824658200-1824661800@www.fortatkinsonclub.org
SUMMARY:Narcotics Anonymous Meeting
DESCRIPTION:Narcotics Anonymous meets in the Lodge room weekly at 5:30.
URL:https://www.fortatkinsonclub.org/event/narcotics-anonymous-meeting/2027-10-27/
LOCATION:211 S Water St E\, 53538\, 211 South Water Street East\, Fort Atkinson\, WI\, 53538\, United States
CATEGORIES:Health & Wellness
ATTACH;FMTTYPE=image/png:https://www.fortatkinsonclub.org/wp-content/uploads/2026/01/NA-logo.png
END:VEVENT
BEGIN:VEVENT
DTSTART;TZID=America/Chicago:20271103T173000
DTEND;TZID=America/Chicago:20271103T183000
DTSTAMP:20260423T183330
CREATED:20260122T203322Z
LAST-MODIFIED:20260122T203322Z
UID:10002425-1825263000-1825266600@www.fortatkinsonclub.org
SUMMARY:Narcotics Anonymous Meeting
DESCRIPTION:Narcotics Anonymous meets in the Lodge room weekly at 5:30.
URL:https://www.fortatkinsonclub.org/event/narcotics-anonymous-meeting/2027-11-03/
LOCATION:211 S Water St E\, 53538\, 211 South Water Street East\, Fort Atkinson\, WI\, 53538\, United States
CATEGORIES:Health & Wellness
ATTACH;FMTTYPE=image/png:https://www.fortatkinsonclub.org/wp-content/uploads/2026/01/NA-logo.png
END:VEVENT
BEGIN:VEVENT
DTSTART;TZID=America/Chicago:20271105T180000
DTEND;TZID=America/Chicago:20271105T210000
DTSTAMP:20260423T183330
CREATED:20260312T184919Z
LAST-MODIFIED:20260313T012320Z
UID:10002634-1825437600-1825448400@www.fortatkinsonclub.org
SUMMARY:Social Dance
DESCRIPTION:Dance the night away — no partner\, no experience\, no problem. \nJoin us on the first Friday of every month for an evening of movement\, music\, and community. In partnership with Fred Astaire Dance Studios in Oconomowoc\, we’re bringing the joy of ballroom dance to Fort Atkinson in a way that’s welcoming\, fun\, and completely beginner-friendly. \nThe evening kicks off with an hour-long dance lesson from 6:00–7:00 PM\, led by professional ballroom dance instructors who will teach easy\, approachable steps you can actually use on the dance floor. From 7:00–9:00 PM\, the floor opens up for social dancing — put those new moves to work as we dance to modern hits you already know and love. \nWhether you’re a seasoned dancer or have never set foot on a dance floor\, you’ll feel right at home. Come solo\, bring a friend\, or make new ones here. \nFree. No partner necessary. All ages and abilities welcome.
URL:https://www.fortatkinsonclub.org/event/social-dance/2027-11-05/
LOCATION:211 S Water St E\, 53538\, 211 South Water Street East\, Fort Atkinson\, WI\, 53538\, United States
CATEGORIES:Community,Music
ATTACH;FMTTYPE=image/png:https://www.fortatkinsonclub.org/wp-content/uploads/2026/03/Social-Dance.png
END:VEVENT
BEGIN:VEVENT
DTSTART;TZID=America/Chicago:20271110T173000
DTEND;TZID=America/Chicago:20271110T183000
DTSTAMP:20260423T183330
CREATED:20260122T203322Z
LAST-MODIFIED:20260122T203322Z
UID:10002426-1825867800-1825871400@www.fortatkinsonclub.org
SUMMARY:Narcotics Anonymous Meeting
DESCRIPTION:Narcotics Anonymous meets in the Lodge room weekly at 5:30.
URL:https://www.fortatkinsonclub.org/event/narcotics-anonymous-meeting/2027-11-10/
LOCATION:211 S Water St E\, 53538\, 211 South Water Street East\, Fort Atkinson\, WI\, 53538\, United States
CATEGORIES:Health & Wellness
ATTACH;FMTTYPE=image/png:https://www.fortatkinsonclub.org/wp-content/uploads/2026/01/NA-logo.png
END:VEVENT
BEGIN:VEVENT
DTSTART;TZID=America/Chicago:20271116T173000
DTEND;TZID=America/Chicago:20271116T183000
DTSTAMP:20260423T183330
CREATED:20230227T200833Z
LAST-MODIFIED:20250115T155450Z
UID:10002200-1826386200-1826389800@www.fortatkinsonclub.org
SUMMARY:Fort Club Board Meeting
DESCRIPTION:
URL:https://www.fortatkinsonclub.org/event/fort-club-board-meeting/2027-11-16/
LOCATION:211 S Water St E\, 53538\, 211 South Water Street East\, Fort Atkinson\, WI\, 53538\, United States
ATTACH;FMTTYPE=image/jpeg:https://www.fortatkinsonclub.org/wp-content/uploads/2023/02/Failte4-scaled.jpg
END:VEVENT
BEGIN:VEVENT
DTSTART;TZID=America/Chicago:20271117T173000
DTEND;TZID=America/Chicago:20271117T183000
DTSTAMP:20260423T183330
CREATED:20260122T203322Z
LAST-MODIFIED:20260122T203322Z
UID:10002427-1826472600-1826476200@www.fortatkinsonclub.org
SUMMARY:Narcotics Anonymous Meeting
DESCRIPTION:Narcotics Anonymous meets in the Lodge room weekly at 5:30.
URL:https://www.fortatkinsonclub.org/event/narcotics-anonymous-meeting/2027-11-17/
LOCATION:211 S Water St E\, 53538\, 211 South Water Street East\, Fort Atkinson\, WI\, 53538\, United States
CATEGORIES:Health & Wellness
ATTACH;FMTTYPE=image/png:https://www.fortatkinsonclub.org/wp-content/uploads/2026/01/NA-logo.png
END:VEVENT
BEGIN:VEVENT
DTSTART;TZID=America/Chicago:20271124T173000
DTEND;TZID=America/Chicago:20271124T183000
DTSTAMP:20260423T183330
CREATED:20260122T203322Z
LAST-MODIFIED:20260122T203322Z
UID:10002428-1827077400-1827081000@www.fortatkinsonclub.org
SUMMARY:Narcotics Anonymous Meeting
DESCRIPTION:Narcotics Anonymous meets in the Lodge room weekly at 5:30.
URL:https://www.fortatkinsonclub.org/event/narcotics-anonymous-meeting/2027-11-24/
LOCATION:211 S Water St E\, 53538\, 211 South Water Street East\, Fort Atkinson\, WI\, 53538\, United States
CATEGORIES:Health & Wellness
ATTACH;FMTTYPE=image/png:https://www.fortatkinsonclub.org/wp-content/uploads/2026/01/NA-logo.png
END:VEVENT
BEGIN:VEVENT
DTSTART;TZID=America/Chicago:20271201T173000
DTEND;TZID=America/Chicago:20271201T183000
DTSTAMP:20260423T183330
CREATED:20260122T203322Z
LAST-MODIFIED:20260122T203322Z
UID:10002429-1827682200-1827685800@www.fortatkinsonclub.org
SUMMARY:Narcotics Anonymous Meeting
DESCRIPTION:Narcotics Anonymous meets in the Lodge room weekly at 5:30.
URL:https://www.fortatkinsonclub.org/event/narcotics-anonymous-meeting/2027-12-01/
LOCATION:211 S Water St E\, 53538\, 211 South Water Street East\, Fort Atkinson\, WI\, 53538\, United States
CATEGORIES:Health & Wellness
ATTACH;FMTTYPE=image/png:https://www.fortatkinsonclub.org/wp-content/uploads/2026/01/NA-logo.png
END:VEVENT
BEGIN:VEVENT
DTSTART;TZID=America/Chicago:20271203T180000
DTEND;TZID=America/Chicago:20271203T210000
DTSTAMP:20260423T183330
CREATED:20260312T184919Z
LAST-MODIFIED:20260313T012320Z
UID:10002635-1827856800-1827867600@www.fortatkinsonclub.org
SUMMARY:Social Dance
DESCRIPTION:Dance the night away — no partner\, no experience\, no problem. \nJoin us on the first Friday of every month for an evening of movement\, music\, and community. In partnership with Fred Astaire Dance Studios in Oconomowoc\, we’re bringing the joy of ballroom dance to Fort Atkinson in a way that’s welcoming\, fun\, and completely beginner-friendly. \nThe evening kicks off with an hour-long dance lesson from 6:00–7:00 PM\, led by professional ballroom dance instructors who will teach easy\, approachable steps you can actually use on the dance floor. From 7:00–9:00 PM\, the floor opens up for social dancing — put those new moves to work as we dance to modern hits you already know and love. \nWhether you’re a seasoned dancer or have never set foot on a dance floor\, you’ll feel right at home. Come solo\, bring a friend\, or make new ones here. \nFree. No partner necessary. All ages and abilities welcome.
URL:https://www.fortatkinsonclub.org/event/social-dance/2027-12-03/
LOCATION:211 S Water St E\, 53538\, 211 South Water Street East\, Fort Atkinson\, WI\, 53538\, United States
CATEGORIES:Community,Music
ATTACH;FMTTYPE=image/png:https://www.fortatkinsonclub.org/wp-content/uploads/2026/03/Social-Dance.png
END:VEVENT
BEGIN:VEVENT
DTSTART;TZID=America/Chicago:20271208T173000
DTEND;TZID=America/Chicago:20271208T183000
DTSTAMP:20260423T183330
CREATED:20260122T203322Z
LAST-MODIFIED:20260122T203322Z
UID:10002430-1828287000-1828290600@www.fortatkinsonclub.org
SUMMARY:Narcotics Anonymous Meeting
DESCRIPTION:Narcotics Anonymous meets in the Lodge room weekly at 5:30.
URL:https://www.fortatkinsonclub.org/event/narcotics-anonymous-meeting/2027-12-08/
LOCATION:211 S Water St E\, 53538\, 211 South Water Street East\, Fort Atkinson\, WI\, 53538\, United States
CATEGORIES:Health & Wellness
ATTACH;FMTTYPE=image/png:https://www.fortatkinsonclub.org/wp-content/uploads/2026/01/NA-logo.png
END:VEVENT
BEGIN:VEVENT
DTSTART;TZID=America/Chicago:20271215T173000
DTEND;TZID=America/Chicago:20271215T183000
DTSTAMP:20260423T183330
CREATED:20260122T203322Z
LAST-MODIFIED:20260122T203322Z
UID:10002431-1828891800-1828895400@www.fortatkinsonclub.org
SUMMARY:Narcotics Anonymous Meeting
DESCRIPTION:Narcotics Anonymous meets in the Lodge room weekly at 5:30.
URL:https://www.fortatkinsonclub.org/event/narcotics-anonymous-meeting/2027-12-15/
LOCATION:211 S Water St E\, 53538\, 211 South Water Street East\, Fort Atkinson\, WI\, 53538\, United States
CATEGORIES:Health & Wellness
ATTACH;FMTTYPE=image/png:https://www.fortatkinsonclub.org/wp-content/uploads/2026/01/NA-logo.png
END:VEVENT
BEGIN:VEVENT
DTSTART;TZID=America/Chicago:20271221T173000
DTEND;TZID=America/Chicago:20271221T183000
DTSTAMP:20260423T183330
CREATED:20230227T200833Z
LAST-MODIFIED:20250115T155450Z
UID:10002201-1829410200-1829413800@www.fortatkinsonclub.org
SUMMARY:Fort Club Board Meeting
DESCRIPTION:
URL:https://www.fortatkinsonclub.org/event/fort-club-board-meeting/2027-12-21/
LOCATION:211 S Water St E\, 53538\, 211 South Water Street East\, Fort Atkinson\, WI\, 53538\, United States
ATTACH;FMTTYPE=image/jpeg:https://www.fortatkinsonclub.org/wp-content/uploads/2023/02/Failte4-scaled.jpg
END:VEVENT
BEGIN:VEVENT
DTSTART;TZID=America/Chicago:20271222T173000
DTEND;TZID=America/Chicago:20271222T183000
DTSTAMP:20260423T183330
CREATED:20260122T203322Z
LAST-MODIFIED:20260122T203322Z
UID:10002432-1829496600-1829500200@www.fortatkinsonclub.org
SUMMARY:Narcotics Anonymous Meeting
DESCRIPTION:Narcotics Anonymous meets in the Lodge room weekly at 5:30.
URL:https://www.fortatkinsonclub.org/event/narcotics-anonymous-meeting/2027-12-22/
LOCATION:211 S Water St E\, 53538\, 211 South Water Street East\, Fort Atkinson\, WI\, 53538\, United States
CATEGORIES:Health & Wellness
ATTACH;FMTTYPE=image/png:https://www.fortatkinsonclub.org/wp-content/uploads/2026/01/NA-logo.png
END:VEVENT
BEGIN:VEVENT
DTSTART;TZID=America/Chicago:20271229T173000
DTEND;TZID=America/Chicago:20271229T183000
DTSTAMP:20260423T183330
CREATED:20260122T203322Z
LAST-MODIFIED:20260122T203322Z
UID:10002433-1830101400-1830105000@www.fortatkinsonclub.org
SUMMARY:Narcotics Anonymous Meeting
DESCRIPTION:Narcotics Anonymous meets in the Lodge room weekly at 5:30.
URL:https://www.fortatkinsonclub.org/event/narcotics-anonymous-meeting/2027-12-29/
LOCATION:211 S Water St E\, 53538\, 211 South Water Street East\, Fort Atkinson\, WI\, 53538\, United States
CATEGORIES:Health & Wellness
ATTACH;FMTTYPE=image/png:https://www.fortatkinsonclub.org/wp-content/uploads/2026/01/NA-logo.png
END:VEVENT
BEGIN:VEVENT
DTSTART;TZID=America/Chicago:20280105T173000
DTEND;TZID=America/Chicago:20280105T183000
DTSTAMP:20260423T183330
CREATED:20260122T203322Z
LAST-MODIFIED:20260122T203322Z
UID:10002434-1830706200-1830709800@www.fortatkinsonclub.org
SUMMARY:Narcotics Anonymous Meeting
DESCRIPTION:Narcotics Anonymous meets in the Lodge room weekly at 5:30.
URL:https://www.fortatkinsonclub.org/event/narcotics-anonymous-meeting/2028-01-05/
LOCATION:211 S Water St E\, 53538\, 211 South Water Street East\, Fort Atkinson\, WI\, 53538\, United States
CATEGORIES:Health & Wellness
ATTACH;FMTTYPE=image/png:https://www.fortatkinsonclub.org/wp-content/uploads/2026/01/NA-logo.png
END:VEVENT
BEGIN:VEVENT
DTSTART;TZID=America/Chicago:20280107T180000
DTEND;TZID=America/Chicago:20280107T210000
DTSTAMP:20260423T183330
CREATED:20260312T184919Z
LAST-MODIFIED:20260313T012320Z
UID:10002636-1830880800-1830891600@www.fortatkinsonclub.org
SUMMARY:Social Dance
DESCRIPTION:Dance the night away — no partner\, no experience\, no problem. \nJoin us on the first Friday of every month for an evening of movement\, music\, and community. In partnership with Fred Astaire Dance Studios in Oconomowoc\, we’re bringing the joy of ballroom dance to Fort Atkinson in a way that’s welcoming\, fun\, and completely beginner-friendly. \nThe evening kicks off with an hour-long dance lesson from 6:00–7:00 PM\, led by professional ballroom dance instructors who will teach easy\, approachable steps you can actually use on the dance floor. From 7:00–9:00 PM\, the floor opens up for social dancing — put those new moves to work as we dance to modern hits you already know and love. \nWhether you’re a seasoned dancer or have never set foot on a dance floor\, you’ll feel right at home. Come solo\, bring a friend\, or make new ones here. \nFree. No partner necessary. All ages and abilities welcome.
URL:https://www.fortatkinsonclub.org/event/social-dance/2028-01-07/
LOCATION:211 S Water St E\, 53538\, 211 South Water Street East\, Fort Atkinson\, WI\, 53538\, United States
CATEGORIES:Community,Music
ATTACH;FMTTYPE=image/png:https://www.fortatkinsonclub.org/wp-content/uploads/2026/03/Social-Dance.png
END:VEVENT
BEGIN:VEVENT
DTSTART;TZID=America/Chicago:20280112T173000
DTEND;TZID=America/Chicago:20280112T183000
DTSTAMP:20260423T183330
CREATED:20260122T203322Z
LAST-MODIFIED:20260122T203322Z
UID:10002435-1831311000-1831314600@www.fortatkinsonclub.org
SUMMARY:Narcotics Anonymous Meeting
DESCRIPTION:Narcotics Anonymous meets in the Lodge room weekly at 5:30.
URL:https://www.fortatkinsonclub.org/event/narcotics-anonymous-meeting/2028-01-12/
LOCATION:211 S Water St E\, 53538\, 211 South Water Street East\, Fort Atkinson\, WI\, 53538\, United States
CATEGORIES:Health & Wellness
ATTACH;FMTTYPE=image/png:https://www.fortatkinsonclub.org/wp-content/uploads/2026/01/NA-logo.png
END:VEVENT
BEGIN:VEVENT
DTSTART;TZID=America/Chicago:20280118T173000
DTEND;TZID=America/Chicago:20280118T183000
DTSTAMP:20260423T183330
CREATED:20230227T200833Z
LAST-MODIFIED:20250115T155450Z
UID:10002202-1831829400-1831833000@www.fortatkinsonclub.org
SUMMARY:Fort Club Board Meeting
DESCRIPTION:
URL:https://www.fortatkinsonclub.org/event/fort-club-board-meeting/2028-01-18/
LOCATION:211 S Water St E\, 53538\, 211 South Water Street East\, Fort Atkinson\, WI\, 53538\, United States
ATTACH;FMTTYPE=image/jpeg:https://www.fortatkinsonclub.org/wp-content/uploads/2023/02/Failte4-scaled.jpg
END:VEVENT
BEGIN:VEVENT
DTSTART;TZID=America/Chicago:20280119T173000
DTEND;TZID=America/Chicago:20280119T183000
DTSTAMP:20260423T183330
CREATED:20260122T203322Z
LAST-MODIFIED:20260122T203322Z
UID:10002436-1831915800-1831919400@www.fortatkinsonclub.org
SUMMARY:Narcotics Anonymous Meeting
DESCRIPTION:Narcotics Anonymous meets in the Lodge room weekly at 5:30.
URL:https://www.fortatkinsonclub.org/event/narcotics-anonymous-meeting/2028-01-19/
LOCATION:211 S Water St E\, 53538\, 211 South Water Street East\, Fort Atkinson\, WI\, 53538\, United States
CATEGORIES:Health & Wellness
ATTACH;FMTTYPE=image/png:https://www.fortatkinsonclub.org/wp-content/uploads/2026/01/NA-logo.png
END:VEVENT
BEGIN:VEVENT
DTSTART;TZID=America/Chicago:20280126T173000
DTEND;TZID=America/Chicago:20280126T183000
DTSTAMP:20260423T183330
CREATED:20260122T203322Z
LAST-MODIFIED:20260122T203322Z
UID:10002437-1832520600-1832524200@www.fortatkinsonclub.org
SUMMARY:Narcotics Anonymous Meeting
DESCRIPTION:Narcotics Anonymous meets in the Lodge room weekly at 5:30.
URL:https://www.fortatkinsonclub.org/event/narcotics-anonymous-meeting/2028-01-26/
LOCATION:211 S Water St E\, 53538\, 211 South Water Street East\, Fort Atkinson\, WI\, 53538\, United States
CATEGORIES:Health & Wellness
ATTACH;FMTTYPE=image/png:https://www.fortatkinsonclub.org/wp-content/uploads/2026/01/NA-logo.png
END:VEVENT
BEGIN:VEVENT
DTSTART;TZID=America/Chicago:20280202T173000
DTEND;TZID=America/Chicago:20280202T183000
DTSTAMP:20260423T183330
CREATED:20260122T203322Z
LAST-MODIFIED:20260122T203322Z
UID:10002438-1833125400-1833129000@www.fortatkinsonclub.org
SUMMARY:Narcotics Anonymous Meeting
DESCRIPTION:Narcotics Anonymous meets in the Lodge room weekly at 5:30.
URL:https://www.fortatkinsonclub.org/event/narcotics-anonymous-meeting/2028-02-02/
LOCATION:211 S Water St E\, 53538\, 211 South Water Street East\, Fort Atkinson\, WI\, 53538\, United States
CATEGORIES:Health & Wellness
ATTACH;FMTTYPE=image/png:https://www.fortatkinsonclub.org/wp-content/uploads/2026/01/NA-logo.png
END:VEVENT
BEGIN:VEVENT
DTSTART;TZID=America/Chicago:20280204T180000
DTEND;TZID=America/Chicago:20280204T210000
DTSTAMP:20260423T183330
CREATED:20260312T184919Z
LAST-MODIFIED:20260313T012320Z
UID:10002637-1833300000-1833310800@www.fortatkinsonclub.org
SUMMARY:Social Dance
DESCRIPTION:Dance the night away — no partner\, no experience\, no problem. \nJoin us on the first Friday of every month for an evening of movement\, music\, and community. In partnership with Fred Astaire Dance Studios in Oconomowoc\, we’re bringing the joy of ballroom dance to Fort Atkinson in a way that’s welcoming\, fun\, and completely beginner-friendly. \nThe evening kicks off with an hour-long dance lesson from 6:00–7:00 PM\, led by professional ballroom dance instructors who will teach easy\, approachable steps you can actually use on the dance floor. From 7:00–9:00 PM\, the floor opens up for social dancing — put those new moves to work as we dance to modern hits you already know and love. \nWhether you’re a seasoned dancer or have never set foot on a dance floor\, you’ll feel right at home. Come solo\, bring a friend\, or make new ones here. \nFree. No partner necessary. All ages and abilities welcome.
URL:https://www.fortatkinsonclub.org/event/social-dance/2028-02-04/
LOCATION:211 S Water St E\, 53538\, 211 South Water Street East\, Fort Atkinson\, WI\, 53538\, United States
CATEGORIES:Community,Music
ATTACH;FMTTYPE=image/png:https://www.fortatkinsonclub.org/wp-content/uploads/2026/03/Social-Dance.png
END:VEVENT
BEGIN:VEVENT
DTSTART;TZID=America/Chicago:20280209T173000
DTEND;TZID=America/Chicago:20280209T183000
DTSTAMP:20260423T183330
CREATED:20260122T203322Z
LAST-MODIFIED:20260122T203322Z
UID:10002439-1833730200-1833733800@www.fortatkinsonclub.org
SUMMARY:Narcotics Anonymous Meeting
DESCRIPTION:Narcotics Anonymous meets in the Lodge room weekly at 5:30.
URL:https://www.fortatkinsonclub.org/event/narcotics-anonymous-meeting/2028-02-09/
LOCATION:211 S Water St E\, 53538\, 211 South Water Street East\, Fort Atkinson\, WI\, 53538\, United States
CATEGORIES:Health & Wellness
ATTACH;FMTTYPE=image/png:https://www.fortatkinsonclub.org/wp-content/uploads/2026/01/NA-logo.png
END:VEVENT
END:VCALENDAR