BEGIN:VCALENDAR
VERSION:2.0
PRODID:-//The Fort Atkinson Club - ECPv6.15.20//NONSGML v1.0//EN
CALSCALE:GREGORIAN
METHOD:PUBLISH
X-WR-CALNAME:The Fort Atkinson Club
X-ORIGINAL-URL:https://www.fortatkinsonclub.org
X-WR-CALDESC:Events for The Fort Atkinson Club
REFRESH-INTERVAL;VALUE=DURATION:PT1H
X-Robots-Tag:noindex
X-PUBLISHED-TTL:PT1H
BEGIN:VTIMEZONE
TZID:America/Chicago
BEGIN:DAYLIGHT
TZOFFSETFROM:-0600
TZOFFSETTO:-0500
TZNAME:CDT
DTSTART:20270314T080000
END:DAYLIGHT
BEGIN:STANDARD
TZOFFSETFROM:-0500
TZOFFSETTO:-0600
TZNAME:CST
DTSTART:20271107T070000
END:STANDARD
BEGIN:DAYLIGHT
TZOFFSETFROM:-0600
TZOFFSETTO:-0500
TZNAME:CDT
DTSTART:20280312T080000
END:DAYLIGHT
BEGIN:STANDARD
TZOFFSETFROM:-0500
TZOFFSETTO:-0600
TZNAME:CST
DTSTART:20281105T070000
END:STANDARD
BEGIN:DAYLIGHT
TZOFFSETFROM:-0600
TZOFFSETTO:-0500
TZNAME:CDT
DTSTART:20290311T080000
END:DAYLIGHT
BEGIN:STANDARD
TZOFFSETFROM:-0500
TZOFFSETTO:-0600
TZNAME:CST
DTSTART:20291104T070000
END:STANDARD
END:VTIMEZONE
BEGIN:VEVENT
DTSTART;TZID=America/Chicago:20280315T173000
DTEND;TZID=America/Chicago:20280315T183000
DTSTAMP:20260425T061301
CREATED:20260122T203322Z
LAST-MODIFIED:20260122T203322Z
UID:10002444-1836754200-1836757800@www.fortatkinsonclub.org
SUMMARY:Narcotics Anonymous Meeting
DESCRIPTION:Narcotics Anonymous meets in the Lodge room weekly at 5:30.
URL:https://www.fortatkinsonclub.org/event/narcotics-anonymous-meeting/2028-03-15/
LOCATION:211 S Water St E\, 53538\, 211 South Water Street East\, Fort Atkinson\, WI\, 53538\, United States
CATEGORIES:Health & Wellness
ATTACH;FMTTYPE=image/png:https://www.fortatkinsonclub.org/wp-content/uploads/2026/01/NA-logo.png
END:VEVENT
BEGIN:VEVENT
DTSTART;TZID=America/Chicago:20280321T173000
DTEND;TZID=America/Chicago:20280321T183000
DTSTAMP:20260425T061301
CREATED:20230227T200833Z
LAST-MODIFIED:20250115T155450Z
UID:10002204-1837272600-1837276200@www.fortatkinsonclub.org
SUMMARY:Fort Club Board Meeting
DESCRIPTION:
URL:https://www.fortatkinsonclub.org/event/fort-club-board-meeting/2028-03-21/
LOCATION:211 S Water St E\, 53538\, 211 South Water Street East\, Fort Atkinson\, WI\, 53538\, United States
ATTACH;FMTTYPE=image/jpeg:https://www.fortatkinsonclub.org/wp-content/uploads/2023/02/Failte4-scaled.jpg
END:VEVENT
BEGIN:VEVENT
DTSTART;TZID=America/Chicago:20280322T173000
DTEND;TZID=America/Chicago:20280322T183000
DTSTAMP:20260425T061301
CREATED:20260122T203322Z
LAST-MODIFIED:20260122T203322Z
UID:10002445-1837359000-1837362600@www.fortatkinsonclub.org
SUMMARY:Narcotics Anonymous Meeting
DESCRIPTION:Narcotics Anonymous meets in the Lodge room weekly at 5:30.
URL:https://www.fortatkinsonclub.org/event/narcotics-anonymous-meeting/2028-03-22/
LOCATION:211 S Water St E\, 53538\, 211 South Water Street East\, Fort Atkinson\, WI\, 53538\, United States
CATEGORIES:Health & Wellness
ATTACH;FMTTYPE=image/png:https://www.fortatkinsonclub.org/wp-content/uploads/2026/01/NA-logo.png
END:VEVENT
BEGIN:VEVENT
DTSTART;TZID=America/Chicago:20280329T173000
DTEND;TZID=America/Chicago:20280329T183000
DTSTAMP:20260425T061301
CREATED:20260122T203322Z
LAST-MODIFIED:20260122T203322Z
UID:10002446-1837963800-1837967400@www.fortatkinsonclub.org
SUMMARY:Narcotics Anonymous Meeting
DESCRIPTION:Narcotics Anonymous meets in the Lodge room weekly at 5:30.
URL:https://www.fortatkinsonclub.org/event/narcotics-anonymous-meeting/2028-03-29/
LOCATION:211 S Water St E\, 53538\, 211 South Water Street East\, Fort Atkinson\, WI\, 53538\, United States
CATEGORIES:Health & Wellness
ATTACH;FMTTYPE=image/png:https://www.fortatkinsonclub.org/wp-content/uploads/2026/01/NA-logo.png
END:VEVENT
BEGIN:VEVENT
DTSTART;TZID=America/Chicago:20280405T173000
DTEND;TZID=America/Chicago:20280405T183000
DTSTAMP:20260425T061301
CREATED:20260122T203322Z
LAST-MODIFIED:20260122T203322Z
UID:10002447-1838568600-1838572200@www.fortatkinsonclub.org
SUMMARY:Narcotics Anonymous Meeting
DESCRIPTION:Narcotics Anonymous meets in the Lodge room weekly at 5:30.
URL:https://www.fortatkinsonclub.org/event/narcotics-anonymous-meeting/2028-04-05/
LOCATION:211 S Water St E\, 53538\, 211 South Water Street East\, Fort Atkinson\, WI\, 53538\, United States
CATEGORIES:Health & Wellness
ATTACH;FMTTYPE=image/png:https://www.fortatkinsonclub.org/wp-content/uploads/2026/01/NA-logo.png
END:VEVENT
BEGIN:VEVENT
DTSTART;TZID=America/Chicago:20280407T180000
DTEND;TZID=America/Chicago:20280407T210000
DTSTAMP:20260425T061301
CREATED:20260312T184919Z
LAST-MODIFIED:20260313T012320Z
UID:10002639-1838743200-1838754000@www.fortatkinsonclub.org
SUMMARY:Social Dance
DESCRIPTION:Dance the night away — no partner\, no experience\, no problem. \nJoin us on the first Friday of every month for an evening of movement\, music\, and community. In partnership with Fred Astaire Dance Studios in Oconomowoc\, we’re bringing the joy of ballroom dance to Fort Atkinson in a way that’s welcoming\, fun\, and completely beginner-friendly. \nThe evening kicks off with an hour-long dance lesson from 6:00–7:00 PM\, led by professional ballroom dance instructors who will teach easy\, approachable steps you can actually use on the dance floor. From 7:00–9:00 PM\, the floor opens up for social dancing — put those new moves to work as we dance to modern hits you already know and love. \nWhether you’re a seasoned dancer or have never set foot on a dance floor\, you’ll feel right at home. Come solo\, bring a friend\, or make new ones here. \nFree. No partner necessary. All ages and abilities welcome.
URL:https://www.fortatkinsonclub.org/event/social-dance/2028-04-07/
LOCATION:211 S Water St E\, 53538\, 211 South Water Street East\, Fort Atkinson\, WI\, 53538\, United States
CATEGORIES:Community,Music
ATTACH;FMTTYPE=image/png:https://www.fortatkinsonclub.org/wp-content/uploads/2026/03/Social-Dance.png
END:VEVENT
BEGIN:VEVENT
DTSTART;TZID=America/Chicago:20280412T173000
DTEND;TZID=America/Chicago:20280412T183000
DTSTAMP:20260425T061301
CREATED:20260122T203322Z
LAST-MODIFIED:20260122T203322Z
UID:10002448-1839173400-1839177000@www.fortatkinsonclub.org
SUMMARY:Narcotics Anonymous Meeting
DESCRIPTION:Narcotics Anonymous meets in the Lodge room weekly at 5:30.
URL:https://www.fortatkinsonclub.org/event/narcotics-anonymous-meeting/2028-04-12/
LOCATION:211 S Water St E\, 53538\, 211 South Water Street East\, Fort Atkinson\, WI\, 53538\, United States
CATEGORIES:Health & Wellness
ATTACH;FMTTYPE=image/png:https://www.fortatkinsonclub.org/wp-content/uploads/2026/01/NA-logo.png
END:VEVENT
BEGIN:VEVENT
DTSTART;TZID=America/Chicago:20280418T173000
DTEND;TZID=America/Chicago:20280418T183000
DTSTAMP:20260425T061301
CREATED:20230227T200833Z
LAST-MODIFIED:20250115T155450Z
UID:10002205-1839691800-1839695400@www.fortatkinsonclub.org
SUMMARY:Fort Club Board Meeting
DESCRIPTION:
URL:https://www.fortatkinsonclub.org/event/fort-club-board-meeting/2028-04-18/
LOCATION:211 S Water St E\, 53538\, 211 South Water Street East\, Fort Atkinson\, WI\, 53538\, United States
ATTACH;FMTTYPE=image/jpeg:https://www.fortatkinsonclub.org/wp-content/uploads/2023/02/Failte4-scaled.jpg
END:VEVENT
BEGIN:VEVENT
DTSTART;TZID=America/Chicago:20280419T173000
DTEND;TZID=America/Chicago:20280419T183000
DTSTAMP:20260425T061301
CREATED:20260122T203322Z
LAST-MODIFIED:20260122T203322Z
UID:10002449-1839778200-1839781800@www.fortatkinsonclub.org
SUMMARY:Narcotics Anonymous Meeting
DESCRIPTION:Narcotics Anonymous meets in the Lodge room weekly at 5:30.
URL:https://www.fortatkinsonclub.org/event/narcotics-anonymous-meeting/2028-04-19/
LOCATION:211 S Water St E\, 53538\, 211 South Water Street East\, Fort Atkinson\, WI\, 53538\, United States
CATEGORIES:Health & Wellness
ATTACH;FMTTYPE=image/png:https://www.fortatkinsonclub.org/wp-content/uploads/2026/01/NA-logo.png
END:VEVENT
BEGIN:VEVENT
DTSTART;TZID=America/Chicago:20280426T173000
DTEND;TZID=America/Chicago:20280426T183000
DTSTAMP:20260425T061301
CREATED:20260122T203322Z
LAST-MODIFIED:20260122T203322Z
UID:10002450-1840383000-1840386600@www.fortatkinsonclub.org
SUMMARY:Narcotics Anonymous Meeting
DESCRIPTION:Narcotics Anonymous meets in the Lodge room weekly at 5:30.
URL:https://www.fortatkinsonclub.org/event/narcotics-anonymous-meeting/2028-04-26/
LOCATION:211 S Water St E\, 53538\, 211 South Water Street East\, Fort Atkinson\, WI\, 53538\, United States
CATEGORIES:Health & Wellness
ATTACH;FMTTYPE=image/png:https://www.fortatkinsonclub.org/wp-content/uploads/2026/01/NA-logo.png
END:VEVENT
BEGIN:VEVENT
DTSTART;TZID=America/Chicago:20280503T173000
DTEND;TZID=America/Chicago:20280503T183000
DTSTAMP:20260425T061301
CREATED:20260122T203322Z
LAST-MODIFIED:20260122T203322Z
UID:10002451-1840987800-1840991400@www.fortatkinsonclub.org
SUMMARY:Narcotics Anonymous Meeting
DESCRIPTION:Narcotics Anonymous meets in the Lodge room weekly at 5:30.
URL:https://www.fortatkinsonclub.org/event/narcotics-anonymous-meeting/2028-05-03/
LOCATION:211 S Water St E\, 53538\, 211 South Water Street East\, Fort Atkinson\, WI\, 53538\, United States
CATEGORIES:Health & Wellness
ATTACH;FMTTYPE=image/png:https://www.fortatkinsonclub.org/wp-content/uploads/2026/01/NA-logo.png
END:VEVENT
BEGIN:VEVENT
DTSTART;TZID=America/Chicago:20280505T180000
DTEND;TZID=America/Chicago:20280505T210000
DTSTAMP:20260425T061301
CREATED:20260312T184919Z
LAST-MODIFIED:20260313T012320Z
UID:10002640-1841162400-1841173200@www.fortatkinsonclub.org
SUMMARY:Social Dance
DESCRIPTION:Dance the night away — no partner\, no experience\, no problem. \nJoin us on the first Friday of every month for an evening of movement\, music\, and community. In partnership with Fred Astaire Dance Studios in Oconomowoc\, we’re bringing the joy of ballroom dance to Fort Atkinson in a way that’s welcoming\, fun\, and completely beginner-friendly. \nThe evening kicks off with an hour-long dance lesson from 6:00–7:00 PM\, led by professional ballroom dance instructors who will teach easy\, approachable steps you can actually use on the dance floor. From 7:00–9:00 PM\, the floor opens up for social dancing — put those new moves to work as we dance to modern hits you already know and love. \nWhether you’re a seasoned dancer or have never set foot on a dance floor\, you’ll feel right at home. Come solo\, bring a friend\, or make new ones here. \nFree. No partner necessary. All ages and abilities welcome.
URL:https://www.fortatkinsonclub.org/event/social-dance/2028-05-05/
LOCATION:211 S Water St E\, 53538\, 211 South Water Street East\, Fort Atkinson\, WI\, 53538\, United States
CATEGORIES:Community,Music
ATTACH;FMTTYPE=image/png:https://www.fortatkinsonclub.org/wp-content/uploads/2026/03/Social-Dance.png
END:VEVENT
BEGIN:VEVENT
DTSTART;TZID=America/Chicago:20280510T173000
DTEND;TZID=America/Chicago:20280510T183000
DTSTAMP:20260425T061301
CREATED:20260122T203322Z
LAST-MODIFIED:20260122T203322Z
UID:10002452-1841592600-1841596200@www.fortatkinsonclub.org
SUMMARY:Narcotics Anonymous Meeting
DESCRIPTION:Narcotics Anonymous meets in the Lodge room weekly at 5:30.
URL:https://www.fortatkinsonclub.org/event/narcotics-anonymous-meeting/2028-05-10/
LOCATION:211 S Water St E\, 53538\, 211 South Water Street East\, Fort Atkinson\, WI\, 53538\, United States
CATEGORIES:Health & Wellness
ATTACH;FMTTYPE=image/png:https://www.fortatkinsonclub.org/wp-content/uploads/2026/01/NA-logo.png
END:VEVENT
BEGIN:VEVENT
DTSTART;TZID=America/Chicago:20280516T173000
DTEND;TZID=America/Chicago:20280516T183000
DTSTAMP:20260425T061301
CREATED:20230227T200833Z
LAST-MODIFIED:20250115T155450Z
UID:10002206-1842111000-1842114600@www.fortatkinsonclub.org
SUMMARY:Fort Club Board Meeting
DESCRIPTION:
URL:https://www.fortatkinsonclub.org/event/fort-club-board-meeting/2028-05-16/
LOCATION:211 S Water St E\, 53538\, 211 South Water Street East\, Fort Atkinson\, WI\, 53538\, United States
ATTACH;FMTTYPE=image/jpeg:https://www.fortatkinsonclub.org/wp-content/uploads/2023/02/Failte4-scaled.jpg
END:VEVENT
BEGIN:VEVENT
DTSTART;TZID=America/Chicago:20280517T173000
DTEND;TZID=America/Chicago:20280517T183000
DTSTAMP:20260425T061301
CREATED:20260122T203322Z
LAST-MODIFIED:20260122T203322Z
UID:10002453-1842197400-1842201000@www.fortatkinsonclub.org
SUMMARY:Narcotics Anonymous Meeting
DESCRIPTION:Narcotics Anonymous meets in the Lodge room weekly at 5:30.
URL:https://www.fortatkinsonclub.org/event/narcotics-anonymous-meeting/2028-05-17/
LOCATION:211 S Water St E\, 53538\, 211 South Water Street East\, Fort Atkinson\, WI\, 53538\, United States
CATEGORIES:Health & Wellness
ATTACH;FMTTYPE=image/png:https://www.fortatkinsonclub.org/wp-content/uploads/2026/01/NA-logo.png
END:VEVENT
BEGIN:VEVENT
DTSTART;TZID=America/Chicago:20280524T173000
DTEND;TZID=America/Chicago:20280524T183000
DTSTAMP:20260425T061301
CREATED:20260122T203322Z
LAST-MODIFIED:20260122T203322Z
UID:10002454-1842802200-1842805800@www.fortatkinsonclub.org
SUMMARY:Narcotics Anonymous Meeting
DESCRIPTION:Narcotics Anonymous meets in the Lodge room weekly at 5:30.
URL:https://www.fortatkinsonclub.org/event/narcotics-anonymous-meeting/2028-05-24/
LOCATION:211 S Water St E\, 53538\, 211 South Water Street East\, Fort Atkinson\, WI\, 53538\, United States
CATEGORIES:Health & Wellness
ATTACH;FMTTYPE=image/png:https://www.fortatkinsonclub.org/wp-content/uploads/2026/01/NA-logo.png
END:VEVENT
BEGIN:VEVENT
DTSTART;TZID=America/Chicago:20280531T173000
DTEND;TZID=America/Chicago:20280531T183000
DTSTAMP:20260425T061301
CREATED:20260122T203322Z
LAST-MODIFIED:20260122T203322Z
UID:10002455-1843407000-1843410600@www.fortatkinsonclub.org
SUMMARY:Narcotics Anonymous Meeting
DESCRIPTION:Narcotics Anonymous meets in the Lodge room weekly at 5:30.
URL:https://www.fortatkinsonclub.org/event/narcotics-anonymous-meeting/2028-05-31/
LOCATION:211 S Water St E\, 53538\, 211 South Water Street East\, Fort Atkinson\, WI\, 53538\, United States
CATEGORIES:Health & Wellness
ATTACH;FMTTYPE=image/png:https://www.fortatkinsonclub.org/wp-content/uploads/2026/01/NA-logo.png
END:VEVENT
BEGIN:VEVENT
DTSTART;TZID=America/Chicago:20280602T180000
DTEND;TZID=America/Chicago:20280602T210000
DTSTAMP:20260425T061301
CREATED:20260312T184919Z
LAST-MODIFIED:20260313T012320Z
UID:10002641-1843581600-1843592400@www.fortatkinsonclub.org
SUMMARY:Social Dance
DESCRIPTION:Dance the night away — no partner\, no experience\, no problem. \nJoin us on the first Friday of every month for an evening of movement\, music\, and community. In partnership with Fred Astaire Dance Studios in Oconomowoc\, we’re bringing the joy of ballroom dance to Fort Atkinson in a way that’s welcoming\, fun\, and completely beginner-friendly. \nThe evening kicks off with an hour-long dance lesson from 6:00–7:00 PM\, led by professional ballroom dance instructors who will teach easy\, approachable steps you can actually use on the dance floor. From 7:00–9:00 PM\, the floor opens up for social dancing — put those new moves to work as we dance to modern hits you already know and love. \nWhether you’re a seasoned dancer or have never set foot on a dance floor\, you’ll feel right at home. Come solo\, bring a friend\, or make new ones here. \nFree. No partner necessary. All ages and abilities welcome.
URL:https://www.fortatkinsonclub.org/event/social-dance/2028-06-02/
LOCATION:211 S Water St E\, 53538\, 211 South Water Street East\, Fort Atkinson\, WI\, 53538\, United States
CATEGORIES:Community,Music
ATTACH;FMTTYPE=image/png:https://www.fortatkinsonclub.org/wp-content/uploads/2026/03/Social-Dance.png
END:VEVENT
BEGIN:VEVENT
DTSTART;TZID=America/Chicago:20280607T173000
DTEND;TZID=America/Chicago:20280607T183000
DTSTAMP:20260425T061301
CREATED:20260122T203322Z
LAST-MODIFIED:20260122T203322Z
UID:10002456-1844011800-1844015400@www.fortatkinsonclub.org
SUMMARY:Narcotics Anonymous Meeting
DESCRIPTION:Narcotics Anonymous meets in the Lodge room weekly at 5:30.
URL:https://www.fortatkinsonclub.org/event/narcotics-anonymous-meeting/2028-06-07/
LOCATION:211 S Water St E\, 53538\, 211 South Water Street East\, Fort Atkinson\, WI\, 53538\, United States
CATEGORIES:Health & Wellness
ATTACH;FMTTYPE=image/png:https://www.fortatkinsonclub.org/wp-content/uploads/2026/01/NA-logo.png
END:VEVENT
BEGIN:VEVENT
DTSTART;TZID=America/Chicago:20280614T173000
DTEND;TZID=America/Chicago:20280614T183000
DTSTAMP:20260425T061301
CREATED:20260122T203322Z
LAST-MODIFIED:20260122T203322Z
UID:10002457-1844616600-1844620200@www.fortatkinsonclub.org
SUMMARY:Narcotics Anonymous Meeting
DESCRIPTION:Narcotics Anonymous meets in the Lodge room weekly at 5:30.
URL:https://www.fortatkinsonclub.org/event/narcotics-anonymous-meeting/2028-06-14/
LOCATION:211 S Water St E\, 53538\, 211 South Water Street East\, Fort Atkinson\, WI\, 53538\, United States
CATEGORIES:Health & Wellness
ATTACH;FMTTYPE=image/png:https://www.fortatkinsonclub.org/wp-content/uploads/2026/01/NA-logo.png
END:VEVENT
BEGIN:VEVENT
DTSTART;TZID=America/Chicago:20280620T173000
DTEND;TZID=America/Chicago:20280620T183000
DTSTAMP:20260425T061301
CREATED:20230227T200833Z
LAST-MODIFIED:20250115T155450Z
UID:10002207-1845135000-1845138600@www.fortatkinsonclub.org
SUMMARY:Fort Club Board Meeting
DESCRIPTION:
URL:https://www.fortatkinsonclub.org/event/fort-club-board-meeting/2028-06-20/
LOCATION:211 S Water St E\, 53538\, 211 South Water Street East\, Fort Atkinson\, WI\, 53538\, United States
ATTACH;FMTTYPE=image/jpeg:https://www.fortatkinsonclub.org/wp-content/uploads/2023/02/Failte4-scaled.jpg
END:VEVENT
BEGIN:VEVENT
DTSTART;TZID=America/Chicago:20280621T173000
DTEND;TZID=America/Chicago:20280621T183000
DTSTAMP:20260425T061301
CREATED:20260122T203322Z
LAST-MODIFIED:20260122T203322Z
UID:10002458-1845221400-1845225000@www.fortatkinsonclub.org
SUMMARY:Narcotics Anonymous Meeting
DESCRIPTION:Narcotics Anonymous meets in the Lodge room weekly at 5:30.
URL:https://www.fortatkinsonclub.org/event/narcotics-anonymous-meeting/2028-06-21/
LOCATION:211 S Water St E\, 53538\, 211 South Water Street East\, Fort Atkinson\, WI\, 53538\, United States
CATEGORIES:Health & Wellness
ATTACH;FMTTYPE=image/png:https://www.fortatkinsonclub.org/wp-content/uploads/2026/01/NA-logo.png
END:VEVENT
BEGIN:VEVENT
DTSTART;TZID=America/Chicago:20280628T173000
DTEND;TZID=America/Chicago:20280628T183000
DTSTAMP:20260425T061301
CREATED:20260122T203322Z
LAST-MODIFIED:20260122T203322Z
UID:10002459-1845826200-1845829800@www.fortatkinsonclub.org
SUMMARY:Narcotics Anonymous Meeting
DESCRIPTION:Narcotics Anonymous meets in the Lodge room weekly at 5:30.
URL:https://www.fortatkinsonclub.org/event/narcotics-anonymous-meeting/2028-06-28/
LOCATION:211 S Water St E\, 53538\, 211 South Water Street East\, Fort Atkinson\, WI\, 53538\, United States
CATEGORIES:Health & Wellness
ATTACH;FMTTYPE=image/png:https://www.fortatkinsonclub.org/wp-content/uploads/2026/01/NA-logo.png
END:VEVENT
BEGIN:VEVENT
DTSTART;TZID=America/Chicago:20280705T173000
DTEND;TZID=America/Chicago:20280705T183000
DTSTAMP:20260425T061301
CREATED:20260122T203322Z
LAST-MODIFIED:20260122T203322Z
UID:10002460-1846431000-1846434600@www.fortatkinsonclub.org
SUMMARY:Narcotics Anonymous Meeting
DESCRIPTION:Narcotics Anonymous meets in the Lodge room weekly at 5:30.
URL:https://www.fortatkinsonclub.org/event/narcotics-anonymous-meeting/2028-07-05/
LOCATION:211 S Water St E\, 53538\, 211 South Water Street East\, Fort Atkinson\, WI\, 53538\, United States
CATEGORIES:Health & Wellness
ATTACH;FMTTYPE=image/png:https://www.fortatkinsonclub.org/wp-content/uploads/2026/01/NA-logo.png
END:VEVENT
BEGIN:VEVENT
DTSTART;TZID=America/Chicago:20280707T180000
DTEND;TZID=America/Chicago:20280707T210000
DTSTAMP:20260425T061301
CREATED:20260312T184919Z
LAST-MODIFIED:20260313T012320Z
UID:10002642-1846605600-1846616400@www.fortatkinsonclub.org
SUMMARY:Social Dance
DESCRIPTION:Dance the night away — no partner\, no experience\, no problem. \nJoin us on the first Friday of every month for an evening of movement\, music\, and community. In partnership with Fred Astaire Dance Studios in Oconomowoc\, we’re bringing the joy of ballroom dance to Fort Atkinson in a way that’s welcoming\, fun\, and completely beginner-friendly. \nThe evening kicks off with an hour-long dance lesson from 6:00–7:00 PM\, led by professional ballroom dance instructors who will teach easy\, approachable steps you can actually use on the dance floor. From 7:00–9:00 PM\, the floor opens up for social dancing — put those new moves to work as we dance to modern hits you already know and love. \nWhether you’re a seasoned dancer or have never set foot on a dance floor\, you’ll feel right at home. Come solo\, bring a friend\, or make new ones here. \nFree. No partner necessary. All ages and abilities welcome.
URL:https://www.fortatkinsonclub.org/event/social-dance/2028-07-07/
LOCATION:211 S Water St E\, 53538\, 211 South Water Street East\, Fort Atkinson\, WI\, 53538\, United States
CATEGORIES:Community,Music
ATTACH;FMTTYPE=image/png:https://www.fortatkinsonclub.org/wp-content/uploads/2026/03/Social-Dance.png
END:VEVENT
BEGIN:VEVENT
DTSTART;TZID=America/Chicago:20280712T173000
DTEND;TZID=America/Chicago:20280712T183000
DTSTAMP:20260425T061301
CREATED:20260122T203322Z
LAST-MODIFIED:20260122T203322Z
UID:10002461-1847035800-1847039400@www.fortatkinsonclub.org
SUMMARY:Narcotics Anonymous Meeting
DESCRIPTION:Narcotics Anonymous meets in the Lodge room weekly at 5:30.
URL:https://www.fortatkinsonclub.org/event/narcotics-anonymous-meeting/2028-07-12/
LOCATION:211 S Water St E\, 53538\, 211 South Water Street East\, Fort Atkinson\, WI\, 53538\, United States
CATEGORIES:Health & Wellness
ATTACH;FMTTYPE=image/png:https://www.fortatkinsonclub.org/wp-content/uploads/2026/01/NA-logo.png
END:VEVENT
BEGIN:VEVENT
DTSTART;TZID=America/Chicago:20280718T173000
DTEND;TZID=America/Chicago:20280718T183000
DTSTAMP:20260425T061301
CREATED:20230227T200833Z
LAST-MODIFIED:20250115T155450Z
UID:10002208-1847554200-1847557800@www.fortatkinsonclub.org
SUMMARY:Fort Club Board Meeting
DESCRIPTION:
URL:https://www.fortatkinsonclub.org/event/fort-club-board-meeting/2028-07-18/
LOCATION:211 S Water St E\, 53538\, 211 South Water Street East\, Fort Atkinson\, WI\, 53538\, United States
ATTACH;FMTTYPE=image/jpeg:https://www.fortatkinsonclub.org/wp-content/uploads/2023/02/Failte4-scaled.jpg
END:VEVENT
BEGIN:VEVENT
DTSTART;TZID=America/Chicago:20280719T173000
DTEND;TZID=America/Chicago:20280719T183000
DTSTAMP:20260425T061301
CREATED:20260122T203322Z
LAST-MODIFIED:20260122T203322Z
UID:10002462-1847640600-1847644200@www.fortatkinsonclub.org
SUMMARY:Narcotics Anonymous Meeting
DESCRIPTION:Narcotics Anonymous meets in the Lodge room weekly at 5:30.
URL:https://www.fortatkinsonclub.org/event/narcotics-anonymous-meeting/2028-07-19/
LOCATION:211 S Water St E\, 53538\, 211 South Water Street East\, Fort Atkinson\, WI\, 53538\, United States
CATEGORIES:Health & Wellness
ATTACH;FMTTYPE=image/png:https://www.fortatkinsonclub.org/wp-content/uploads/2026/01/NA-logo.png
END:VEVENT
BEGIN:VEVENT
DTSTART;TZID=America/Chicago:20280726T173000
DTEND;TZID=America/Chicago:20280726T183000
DTSTAMP:20260425T061301
CREATED:20260122T203322Z
LAST-MODIFIED:20260122T203322Z
UID:10002463-1848245400-1848249000@www.fortatkinsonclub.org
SUMMARY:Narcotics Anonymous Meeting
DESCRIPTION:Narcotics Anonymous meets in the Lodge room weekly at 5:30.
URL:https://www.fortatkinsonclub.org/event/narcotics-anonymous-meeting/2028-07-26/
LOCATION:211 S Water St E\, 53538\, 211 South Water Street East\, Fort Atkinson\, WI\, 53538\, United States
CATEGORIES:Health & Wellness
ATTACH;FMTTYPE=image/png:https://www.fortatkinsonclub.org/wp-content/uploads/2026/01/NA-logo.png
END:VEVENT
BEGIN:VEVENT
DTSTART;TZID=America/Chicago:20280802T173000
DTEND;TZID=America/Chicago:20280802T183000
DTSTAMP:20260425T061301
CREATED:20260122T203322Z
LAST-MODIFIED:20260122T203322Z
UID:10002464-1848850200-1848853800@www.fortatkinsonclub.org
SUMMARY:Narcotics Anonymous Meeting
DESCRIPTION:Narcotics Anonymous meets in the Lodge room weekly at 5:30.
URL:https://www.fortatkinsonclub.org/event/narcotics-anonymous-meeting/2028-08-02/
LOCATION:211 S Water St E\, 53538\, 211 South Water Street East\, Fort Atkinson\, WI\, 53538\, United States
CATEGORIES:Health & Wellness
ATTACH;FMTTYPE=image/png:https://www.fortatkinsonclub.org/wp-content/uploads/2026/01/NA-logo.png
END:VEVENT
END:VCALENDAR