BEGIN:VCALENDAR
VERSION:2.0
PRODID:-//The Fort Atkinson Club - ECPv6.15.20//NONSGML v1.0//EN
CALSCALE:GREGORIAN
METHOD:PUBLISH
X-WR-CALNAME:The Fort Atkinson Club
X-ORIGINAL-URL:https://www.fortatkinsonclub.org
X-WR-CALDESC:Events for The Fort Atkinson Club
REFRESH-INTERVAL;VALUE=DURATION:PT1H
X-Robots-Tag:noindex
X-PUBLISHED-TTL:PT1H
BEGIN:VTIMEZONE
TZID:America/Chicago
BEGIN:DAYLIGHT
TZOFFSETFROM:-0600
TZOFFSETTO:-0500
TZNAME:CDT
DTSTART:20230312T080000
END:DAYLIGHT
BEGIN:STANDARD
TZOFFSETFROM:-0500
TZOFFSETTO:-0600
TZNAME:CST
DTSTART:20231105T070000
END:STANDARD
BEGIN:DAYLIGHT
TZOFFSETFROM:-0600
TZOFFSETTO:-0500
TZNAME:CDT
DTSTART:20240310T080000
END:DAYLIGHT
BEGIN:STANDARD
TZOFFSETFROM:-0500
TZOFFSETTO:-0600
TZNAME:CST
DTSTART:20241103T070000
END:STANDARD
BEGIN:DAYLIGHT
TZOFFSETFROM:-0600
TZOFFSETTO:-0500
TZNAME:CDT
DTSTART:20250309T080000
END:DAYLIGHT
BEGIN:STANDARD
TZOFFSETFROM:-0500
TZOFFSETTO:-0600
TZNAME:CST
DTSTART:20251102T070000
END:STANDARD
END:VTIMEZONE
BEGIN:VEVENT
DTSTART;VALUE=DATE:20241231
DTEND;VALUE=DATE:20250101
DTSTAMP:20260423T182630
CREATED:20230227T204847Z
LAST-MODIFIED:20230227T204847Z
UID:10000609-1735603200-1735689599@www.fortatkinsonclub.org
SUMMARY:New Year's Eve - Closed
DESCRIPTION:
URL:https://www.fortatkinsonclub.org/event/new-years-eve-closed/2024-12-31/
LOCATION:WI
END:VEVENT
BEGIN:VEVENT
DTSTART;VALUE=DATE:20241225
DTEND;VALUE=DATE:20241226
DTSTAMP:20260423T182630
CREATED:20230227T204656Z
LAST-MODIFIED:20230227T204656Z
UID:10000606-1735084800-1735171199@www.fortatkinsonclub.org
SUMMARY:Christmas Day - Closed
DESCRIPTION:
URL:https://www.fortatkinsonclub.org/event/christmas-day-closed/2024-12-25/
LOCATION:WI
END:VEVENT
BEGIN:VEVENT
DTSTART;VALUE=DATE:20241224
DTEND;VALUE=DATE:20241225
DTSTAMP:20260423T182630
CREATED:20230227T204553Z
LAST-MODIFIED:20230227T204553Z
UID:10000604-1734998400-1735084799@www.fortatkinsonclub.org
SUMMARY:Christmas Eve - Closed
DESCRIPTION:
URL:https://www.fortatkinsonclub.org/event/christmas-eve-closed/2024-12-24/
LOCATION:WI
END:VEVENT
BEGIN:VEVENT
DTSTART;TZID=America/Chicago:20241217T173000
DTEND;TZID=America/Chicago:20241217T183000
DTSTAMP:20260423T182630
CREATED:20230227T200833Z
LAST-MODIFIED:20250115T155450Z
UID:10002165-1734456600-1734460200@www.fortatkinsonclub.org
SUMMARY:Fort Club Board Meeting
DESCRIPTION:
URL:https://www.fortatkinsonclub.org/event/fort-club-board-meeting/2024-12-17/
LOCATION:211 S Water St E\, 53538\, 211 South Water Street East\, Fort Atkinson\, WI\, 53538\, United States
ATTACH;FMTTYPE=image/jpeg:https://www.fortatkinsonclub.org/wp-content/uploads/2023/02/Failte4-scaled.jpg
END:VEVENT
BEGIN:VEVENT
DTSTART;TZID=America/Chicago:20241214T190000
DTEND;TZID=America/Chicago:20241214T200000
DTSTAMP:20260423T182630
CREATED:20241204T191717Z
LAST-MODIFIED:20241204T191717Z
UID:10002140-1734202800-1734206400@www.fortatkinsonclub.org
SUMMARY:Christmas Radio Play
DESCRIPTION:Kick off the holiday season with FAC and the Fort Atkinson Community Theater (FACT) for a Christmas radio play on December 14th. Donations are appreciated.
URL:https://www.fortatkinsonclub.org/event/christmas-radio-play/
LOCATION:211 S Water St E\, 53538\, 211 South Water Street East\, Fort Atkinson\, WI\, 53538\, United States
CATEGORIES:Community
ATTACH;FMTTYPE=image/png:https://www.fortatkinsonclub.org/wp-content/uploads/2024/12/FAC-readers.png
END:VEVENT
BEGIN:VEVENT
DTSTART;TZID=America/Chicago:20241207T090000
DTEND;TZID=America/Chicago:20241207T150000
DTSTAMP:20260423T182630
CREATED:20241111T193804Z
LAST-MODIFIED:20241111T193804Z
UID:10002138-1733562000-1733583600@www.fortatkinsonclub.org
SUMMARY:Holiday Market
DESCRIPTION:Celebrate the season by supporting local talent and exploring a variety of unique gifts and handmade treasures from vendors across the community. Enjoy seasonal treats and hot chocolate with a Latin flair by FUMC Hispanic Ministry\, and don’t miss our special floor dedicated to next-gen artists and entrepreneurs\, showcasing fresh creativity and innovation.   
URL:https://www.fortatkinsonclub.org/event/holiday-market/
LOCATION:211 S Water St E\, 53538\, 211 South Water Street East\, Fort Atkinson\, WI\, 53538\, United States
CATEGORIES:Community
ATTACH;FMTTYPE=image/png:https://www.fortatkinsonclub.org/wp-content/uploads/2024/11/Holiday-Market-Dec-2024-1.png
END:VEVENT
BEGIN:VEVENT
DTSTART;TZID=America/Chicago:20241119T173000
DTEND;TZID=America/Chicago:20241119T183000
DTSTAMP:20260423T182630
CREATED:20230227T200833Z
LAST-MODIFIED:20250115T155450Z
UID:10002164-1732037400-1732041000@www.fortatkinsonclub.org
SUMMARY:Fort Club Board Meeting
DESCRIPTION:
URL:https://www.fortatkinsonclub.org/event/fort-club-board-meeting/2024-11-19/
LOCATION:211 S Water St E\, 53538\, 211 South Water Street East\, Fort Atkinson\, WI\, 53538\, United States
ATTACH;FMTTYPE=image/jpeg:https://www.fortatkinsonclub.org/wp-content/uploads/2023/02/Failte4-scaled.jpg
END:VEVENT
BEGIN:VEVENT
DTSTART;TZID=America/Chicago:20241112T170000
DTEND;TZID=America/Chicago:20241112T190000
DTSTAMP:20260423T182630
CREATED:20241023T140712Z
LAST-MODIFIED:20241023T140713Z
UID:10002114-1731430800-1731438000@www.fortatkinsonclub.org
SUMMARY:FREE Community Art Class
DESCRIPTION:UW-Whitewater’s Art Education graduating students are offering free art classes to the Fort Atkinson community! These classes will be led by talented students who will share their skills with participants of all ages. Everyone is welcome to join and explore their creativity. The class will meet on September 24\, October 22\, November 21\, February 11\, March 11\, and April 22 with a concluding class show in May. \n \n 
URL:https://www.fortatkinsonclub.org/event/free-community-art-class-3/
LOCATION:211 S Water St E\, 53538\, 211 South Water Street East\, Fort Atkinson\, WI\, 53538\, United States
CATEGORIES:Community,Visual Arts
ATTACH;FMTTYPE=image/png:https://www.fortatkinsonclub.org/wp-content/uploads/2024/09/art-event.png
END:VEVENT
BEGIN:VEVENT
DTSTART;TZID=America/Chicago:20241106T090000
DTEND;TZID=America/Chicago:20241106T160000
DTSTAMP:20260423T182630
CREATED:20241003T193624Z
LAST-MODIFIED:20241003T193624Z
UID:10002129-1730883600-1730908800@www.fortatkinsonclub.org
SUMMARY:A Day at the Club: Caregiver Retreat
DESCRIPTION:
URL:https://www.fortatkinsonclub.org/event/a-day-at-the-club-caregiver-retreat/
LOCATION:211 S Water St E\, 53538\, 211 South Water Street East\, Fort Atkinson\, WI\, 53538\, United States
CATEGORIES:Community,Health & Wellness
ATTACH;FMTTYPE=image/png:https://www.fortatkinsonclub.org/wp-content/uploads/2024/10/BPDD-square-graphic.png
END:VEVENT
BEGIN:VEVENT
DTSTART;TZID=America/Chicago:20241027T160000
DTEND;TZID=America/Chicago:20241027T180000
DTSTAMP:20260423T182630
CREATED:20240911T015240Z
LAST-MODIFIED:20240911T015240Z
UID:10002119-1730044800-1730052000@www.fortatkinsonclub.org
SUMMARY:Chamber Concert: Duo Zinck-Chicha
DESCRIPTION:
URL:https://www.fortatkinsonclub.org/event/chamber-concert-duo-zinck-chicha/
LOCATION:211 S Water St E\, 53538\, 211 South Water Street East\, Fort Atkinson\, WI\, 53538\, United States
CATEGORIES:Music
ATTACH;FMTTYPE=image/jpeg:https://www.fortatkinsonclub.org/wp-content/uploads/2024/07/2024Website-01.jpg
END:VEVENT
BEGIN:VEVENT
DTSTART;TZID=America/Chicago:20241026T150000
DTEND;TZID=America/Chicago:20241026T170000
DTSTAMP:20260423T182630
CREATED:20240925T152855Z
LAST-MODIFIED:20240925T152855Z
UID:10002128-1729954800-1729962000@www.fortatkinsonclub.org
SUMMARY:Indigenous Textiles Community Conversation
DESCRIPTION:Join Marcia Miquelon\, Arts Outreach Project Coordinator for the University of Wisconsin- Madison’s Division of the Arts\, for a community conversation around textiles\, and their power to preserve cultural heritage. The conversation will focus on this impact among women in indigenous\, immigrant\, and refugee communities.
URL:https://www.fortatkinsonclub.org/event/indigenous-textiles-community-conversation/
LOCATION:211 S Water St E\, 53538\, 211 South Water Street East\, Fort Atkinson\, WI\, 53538\, United States
CATEGORIES:Visual Arts
ATTACH;FMTTYPE=image/jpeg:https://www.fortatkinsonclub.org/wp-content/uploads/2024/09/2024_Barbata_Flyer_D4.jpg
END:VEVENT
BEGIN:VEVENT
DTSTART;TZID=America/Chicago:20241022T170000
DTEND;TZID=America/Chicago:20241022T193000
DTSTAMP:20260423T182630
CREATED:20240904T163809Z
LAST-MODIFIED:20240913T022534Z
UID:10002113-1729616400-1729625400@www.fortatkinsonclub.org
SUMMARY:FREE Community Art Class
DESCRIPTION:UW-Whitewater’s Art Education graduating students are offering free art classes to the Fort Atkinson community! These classes will be led by talented students who will share their skills with participants of all ages. Everyone is welcome to join and explore their creativity. The class will meet on September 24\, October 22\, November 21\, February 11\, March 11\, and April 22 with a concluding class show in May. \n \n 
URL:https://www.fortatkinsonclub.org/event/free-community-art-class/2024-10-22/
LOCATION:211 S Water St E\, 53538\, 211 South Water Street East\, Fort Atkinson\, WI\, 53538\, United States
CATEGORIES:Community,Visual Arts
ATTACH;FMTTYPE=image/png:https://www.fortatkinsonclub.org/wp-content/uploads/2024/09/art-event.png
END:VEVENT
BEGIN:VEVENT
DTSTART;TZID=America/Chicago:20241016T090000
DTEND;TZID=America/Chicago:20241016T113000
DTSTAMP:20260423T182630
CREATED:20240904T145707Z
LAST-MODIFIED:20240905T013044Z
UID:10002112-1729069200-1729078200@www.fortatkinsonclub.org
SUMMARY:Disability & Inclusion Workshop
DESCRIPTION:Join the Fort Atkinson Club for this important morning workshop. We will focus on ways to foster more equitable and accessible workplaces\, schools\, and communities – starting with one person at a time. This FREE\, public event is made possible for the Fort Atkinson community through a grant from the Wisconsin Board for People with Developmental Disabilities (BPDD). All are welcome to attend. \nRegister\n  \nTopics will include: \nUnderstanding Disability \n\nTypes of Disabilities: There are various types of disabilities\, including physical\, sensory\, intellectual\, and mental health disabilities. All are not the same.\nEtiquette and Language: Examples of respectful language and appropriate behavior when interacting with people with disabilities.\n\nLegal Framework \n\nLaws and Regulations: Overview of relevant laws\, such as the Americans with Disabilities Act (ADA) in the U.S.\, or equivalent legislation in other countries.\nRights and Responsibilities: Understanding the rights of individuals with disabilities and the obligations of organizations to ensure accessibility and accommodation.\n\nInclusive Practices \n\nDiversity and Inclusion: Emphasizing the importance of diversity and creating an inclusive culture that values all individuals.\nBias and Unconscious Bias: Identifying and addressing unconscious biases that might affect interactions with people with disabilities.\n\nCommunication Skills \n\nEffective Communication: Techniques for clear and respectful communication\, including understanding and using alternative communication methods when necessary.\nListening and Feedback: Encouraging open dialogue and feedback to better understand and address the needs of individuals with disabilities.\n\nAction Planning \n\nImplementing Changes: Developing action plans to improve accessibility and inclusion within the community.\nMonitoring and Evaluation: Setting up mechanisms to regularly review and improve accessibility and inclusion efforts.\n\nResources and Support \n\nLocal and Online Resources: Providing information on additional resources\, organizations\, and support networks.\nSupport Systems: Establishing internal support systems and contacts for individuals needing accommodation or assistance.
URL:https://www.fortatkinsonclub.org/event/disability-inclusion-workshop/
LOCATION:211 S Water St E\, 53538\, 211 South Water Street East\, Fort Atkinson\, WI\, 53538\, United States
CATEGORIES:Business Development,Community
ATTACH;FMTTYPE=image/png:https://www.fortatkinsonclub.org/wp-content/uploads/2024/09/BPDD-event-graphic.png
END:VEVENT
BEGIN:VEVENT
DTSTART;TZID=America/Chicago:20241015T173000
DTEND;TZID=America/Chicago:20241015T183000
DTSTAMP:20260423T182630
CREATED:20230227T200833Z
LAST-MODIFIED:20250115T155450Z
UID:10002163-1729013400-1729017000@www.fortatkinsonclub.org
SUMMARY:Fort Club Board Meeting
DESCRIPTION:
URL:https://www.fortatkinsonclub.org/event/fort-club-board-meeting/2024-10-15/
LOCATION:211 S Water St E\, 53538\, 211 South Water Street East\, Fort Atkinson\, WI\, 53538\, United States
ATTACH;FMTTYPE=image/jpeg:https://www.fortatkinsonclub.org/wp-content/uploads/2023/02/Failte4-scaled.jpg
END:VEVENT
BEGIN:VEVENT
DTSTART;TZID=America/Chicago:20241012T173000
DTEND;TZID=America/Chicago:20241012T220000
DTSTAMP:20260423T182630
CREATED:20240806T123223Z
LAST-MODIFIED:20240806T123322Z
UID:10002103-1728754200-1728770400@www.fortatkinsonclub.org
SUMMARY:Supper Club Fundraiser
DESCRIPTION:
URL:https://www.fortatkinsonclub.org/event/supper-club/
LOCATION:211 S Water St E\, 53538\, 211 South Water Street East\, Fort Atkinson\, WI\, 53538\, United States
ATTACH;FMTTYPE=image/jpeg:https://www.fortatkinsonclub.org/wp-content/uploads/2024/08/2024_SuperClub_DonorviewWebBanner.jpg
END:VEVENT
BEGIN:VEVENT
DTSTART;TZID=America/Chicago:20241002T190000
DTEND;TZID=America/Chicago:20241002T203000
DTSTAMP:20260423T182630
CREATED:20240902T024715Z
LAST-MODIFIED:20240902T024715Z
UID:10002109-1727895600-1727901000@www.fortatkinsonclub.org
SUMMARY:FAC Talk - Wisconsin Supper Club Cookbook: A Taste of History\, Through All Courses
DESCRIPTION:
URL:https://www.fortatkinsonclub.org/event/fac-talk-wisconsin-supper-club-cookbook-a-taste-of-history-through-all-courses/
LOCATION:211 S Water St E\, 53538\, 211 South Water Street East\, Fort Atkinson\, WI\, 53538\, United States
ATTACH;FMTTYPE=image/jpeg:https://www.fortatkinsonclub.org/wp-content/uploads/2024/09/Banner-scaled.jpg
END:VEVENT
BEGIN:VEVENT
DTSTART;TZID=America/Chicago:20240926T180000
DTEND;TZID=America/Chicago:20240926T200000
DTSTAMP:20260423T182630
CREATED:20240828T153845Z
LAST-MODIFIED:20240828T160823Z
UID:10002108-1727373600-1727380800@www.fortatkinsonclub.org
SUMMARY:Build Local: Setting up for Entrepreneurial Success with WWBIC
DESCRIPTION:
URL:https://www.fortatkinsonclub.org/event/build-local-setting-up-for-entrepreneurial-success-with-wwbic/
LOCATION:WI
CATEGORIES:Business Development,Community
ATTACH;FMTTYPE=image/png:https://www.fortatkinsonclub.org/wp-content/uploads/2024/08/Build-Local-September-26-Graphic-for-Event-page-1.png
END:VEVENT
BEGIN:VEVENT
DTSTART;TZID=America/Chicago:20240925T170000
DTEND;TZID=America/Chicago:20240925T190000
DTSTAMP:20260423T182630
CREATED:20240904T135815Z
LAST-MODIFIED:20240904T140013Z
UID:10002110-1727283600-1727290800@www.fortatkinsonclub.org
SUMMARY:Medicare Education Seminar
DESCRIPTION:Join us for a free Medicare seminar hosted by WPS Health Insurance and sponsored by Day Insurance. This event is perfect for those about to start Medicare or those already enrolled who want to learn more about their options. Please RSVP to Day Insurance at 920-563-5872 to save your seat\, but walk-ins are also welcome!
URL:https://www.fortatkinsonclub.org/event/medicare-education-seminar/
LOCATION:211 S Water St E\, 53538\, 211 South Water Street East\, Fort Atkinson\, WI\, 53538\, United States
CATEGORIES:Community,Health & Wellness
ATTACH;FMTTYPE=image/png:https://www.fortatkinsonclub.org/wp-content/uploads/2024/09/medicare-seminar-graphic-e1725458365739.png
END:VEVENT
BEGIN:VEVENT
DTSTART;TZID=America/Chicago:20240924T170000
DTEND;TZID=America/Chicago:20240924T193000
DTSTAMP:20260423T182630
CREATED:20240913T022759Z
LAST-MODIFIED:20240913T022800Z
UID:10002111-1727197200-1727206200@www.fortatkinsonclub.org
SUMMARY:FREE Community Art Class: Create Postcards Using Everyday Ingredients
DESCRIPTION:Create unique postcards by using food—like fruits\, vegetables\, and dried pasta—to create one-of-a-kind art prints. Learn innovative techniques to paint and transfer your designs onto paper\, or use our additional printing supplies if food-based tools aren’t your style. Take home your personalized postcards\, or mail them to friends  and share your masterpiece! \nClass Instructors:\nSidney Chaney\nSidney is from Eagle\, Wisconsin\, and a dedicated art education major at UW-Whitewater. With plans to become a high school art teacher in the Midwest after graduation\, Sidney is passionate about supporting the creativity in her students and is looking forward to sharing her knowledge in the classroom. \n\n\n\n\n\n\n\n\n\n\n\n\n\nEmma Siskoff\nEmma is pursuing a degree in art education with a minor in entrepreneurship at UW-Whitewater. Alongside her studies\, she runs a small business creating murals and commissioned paintings. Emma is excited to apply her skills in real-world classroom settings. In her free time\, she enjoys reading and spending time with her fiancé and friends. \n\n\n\n\n\n\n\n\n\n\n\n\n\n\nRegister  \n 
URL:https://www.fortatkinsonclub.org/event/free-community-art-class-2/
LOCATION:211 S Water St E\, 53538\, 211 South Water Street East\, Fort Atkinson\, WI\, 53538\, United States
CATEGORIES:Community,Visual Arts
ATTACH;FMTTYPE=image/png:https://www.fortatkinsonclub.org/wp-content/uploads/2024/09/art-event.png
END:VEVENT
BEGIN:VEVENT
DTSTART;TZID=America/Chicago:20240924T161500
DTEND;TZID=America/Chicago:20240924T170000
DTSTAMP:20260423T182630
CREATED:20240911T194211Z
LAST-MODIFIED:20240911T194211Z
UID:10002120-1727194500-1727197200@www.fortatkinsonclub.org
SUMMARY:Supper Juried Art Exhibition Reception
DESCRIPTION:Join us for a reception to meet the artists featured in the Supper Juried Art Exhibition. Immerse yourself in their work and learn about their interpretations of the theme Supper. A diverse selection of artwork will be available for purchase\, offering a chance to support talented artists. Don’t miss this opportunity to engage with the artists and gain insight into their creative processes\, and all are invited to join us for the art workshop at 5 pm hosted by UW-Whitewater art education students.
URL:https://www.fortatkinsonclub.org/event/supper-juried-art-exhibition-reception/
LOCATION:211 S Water St E\, 53538\, 211 South Water Street East\, Fort Atkinson\, WI\, 53538\, United States
CATEGORIES:Visual Arts
ATTACH;FMTTYPE=image/jpeg:https://www.fortatkinsonclub.org/wp-content/uploads/2024/09/SupperArtExhibitionDesign-03.jpg
END:VEVENT
BEGIN:VEVENT
DTSTART;VALUE=DATE:20240920
DTEND;VALUE=DATE:20241201
DTSTAMP:20260423T182630
CREATED:20240717T191032Z
LAST-MODIFIED:20240911T191820Z
UID:10002099-1726790400-1733011199@www.fortatkinsonclub.org
SUMMARY:Supper Exhibition
DESCRIPTION:Learn more about this exhibition at fortatkinsonclub.org/visual-arts.
URL:https://www.fortatkinsonclub.org/event/supper-exhibition/
LOCATION:211 S Water St E\, 53538\, 211 South Water Street East\, Fort Atkinson\, WI\, 53538\, United States
CATEGORIES:Visual Arts
ATTACH;FMTTYPE=image/jpeg:https://www.fortatkinsonclub.org/wp-content/uploads/2023/02/Failte2-scaled.jpg
END:VEVENT
BEGIN:VEVENT
DTSTART;TZID=America/Chicago:20240918T190000
DTEND;TZID=America/Chicago:20240918T203000
DTSTAMP:20260423T182630
CREATED:20240821T184959Z
LAST-MODIFIED:20240916T235129Z
UID:10002105-1726686000-1726691400@www.fortatkinsonclub.org
SUMMARY:FAC Taste: Hispanic Culinary Traditions | Tradiciones Culinarias Hispanas
DESCRIPTION:Wednesday\, September 18\n7:00-8:30 pm\nBilingual Event!\nTo celebrate Hispanic Heritage Month\, come taste and learn about traditional recipes from three Hispanic cultures. Discover how these dishes are made and the traditions behind them. Enjoy a variety of authentic flavors with us. Also\, to improve your bilingual skills\, plan to join our friends from Dwight Foster Public Library\, who will lead a Spanish/English language exchange right after the recipe demos. \nLearn how to make: \n\nHandmade tortillas – Mexico:\nFried plantain with filling – Dominican Republic\nTamales – Honduras\n\n\n\n\n\n\n\nMiércoles\, 18 de septiembre\n7:00 – 8:30 pm\n¡Hablaremos Español!\nPara celebrar el Mes de la Herencia Hispana\, prueba y aprende recetas tradicionales de tres culturas hispanas. Descubre cómo se preparan estos platos y las tradiciones que hay detrás de ellos\, y disfruta de una variedad de sabores auténticos con nosotros. Además\, para mejorar tus habilidades bilingües\, podrás participar en un intercambio de Lengua Español/Inglés con nuestros amigos de la Biblioteca Pública Dwight Foster\, justo después de las demostraciones de recetas. \n  \n\nTortillas caseras – México:\nCanastas de plátano – Dominican Republic\nTamales – Honduras
URL:https://www.fortatkinsonclub.org/event/fac-taste-hispanic-culinary-traditions/
LOCATION:211 S Water St E\, 53538\, 211 South Water Street East\, Fort Atkinson\, WI\, 53538\, United States
CATEGORIES:Community
ATTACH;FMTTYPE=image/jpeg:https://www.fortatkinsonclub.org/wp-content/uploads/2024/08/FBCover-scaled.jpg
END:VEVENT
BEGIN:VEVENT
DTSTART;TZID=America/Chicago:20240917T173000
DTEND;TZID=America/Chicago:20240917T183000
DTSTAMP:20260423T182630
CREATED:20230227T200833Z
LAST-MODIFIED:20250115T155450Z
UID:10002162-1726594200-1726597800@www.fortatkinsonclub.org
SUMMARY:Fort Club Board Meeting
DESCRIPTION:
URL:https://www.fortatkinsonclub.org/event/fort-club-board-meeting/2024-09-17/
LOCATION:211 S Water St E\, 53538\, 211 South Water Street East\, Fort Atkinson\, WI\, 53538\, United States
ATTACH;FMTTYPE=image/jpeg:https://www.fortatkinsonclub.org/wp-content/uploads/2023/02/Failte4-scaled.jpg
END:VEVENT
BEGIN:VEVENT
DTSTART;TZID=America/Chicago:20240914T130000
DTEND;TZID=America/Chicago:20240914T140000
DTSTAMP:20260423T182630
CREATED:20240821T191024Z
LAST-MODIFIED:20240821T191219Z
UID:10002107-1726318800-1726322400@www.fortatkinsonclub.org
SUMMARY:Fort Atkinson Fiesta: Quinceañera Fashion Show
DESCRIPTION:Join us at the 7th Annual Fort Atkinson Fall Fiesta! The Fall Fiesta is hosted by the Unity Project at Jones Park in Fort Atkinson from 12-4 pm. The fashion show takes place at 1:00 pm. Participants will be walking the runway in dresses donated by the community. To be a participant in the fashion show\, please contact info@fortatkinsonclub.org.
URL:https://www.fortatkinsonclub.org/event/fort-atkinson-fiesta-quinceanera-fashion-show/
LOCATION:Jones Park\, 600 Janesville Ave\,\, Fort Atkinson\, WI\, 53538\, United States
ATTACH;FMTTYPE=image/jpeg:https://www.fortatkinsonclub.org/wp-content/uploads/2024/08/fort-atkinson-fall-fiesta.jpg
END:VEVENT
BEGIN:VEVENT
DTSTART;TZID=America/Chicago:20240907T160000
DTEND;TZID=America/Chicago:20240907T180000
DTSTAMP:20260423T182630
CREATED:20240821T185902Z
LAST-MODIFIED:20240830T025508Z
UID:10002106-1725724800-1725732000@www.fortatkinsonclub.org
SUMMARY: Fashion Show Rehearsal & Afternoon Tea - Ensayo y Tarde de Té: Desfile de Modas Quinceañera
DESCRIPTION:Ladies interested in joining the Quinceañera Fashion Show at the Fort Atkinson Fiesta are invited to a special pre-event on Saturday\, September 7\, from 4-6pm. Come try on fabulous dresses\, rehearse your runway look\, and enjoy a charming afternoon tea together. Don’t miss this chance to prepare and connect before the big show!\n\nLas interesadas en participar en el Desfile de Modas Quinceañera en el Fort Atkinson Fiesta están invitadas a un evento especial previo el sábado 7 de septiembre\, de 4 a 6 p.m. Ven a probarte fabulosos vestidos\, ensayar tu desfile y disfrutar de una encantadora tarde de té. ¡No te pierdas esta oportunidad para prepararte y conectar antes del gran evento!
URL:https://www.fortatkinsonclub.org/event/fashion-show-try-on-tea-party/
LOCATION:211 S Water St E\, 53538\, 211 South Water Street East\, Fort Atkinson\, WI\, 53538\, United States
CATEGORIES:Community
ATTACH;FMTTYPE=image/jpeg:https://www.fortatkinsonclub.org/wp-content/uploads/2024/08/fort-atkinson-fall-fiesta.jpg
END:VEVENT
BEGIN:VEVENT
DTSTART;TZID=America/Chicago:20240902T080000
DTEND;TZID=America/Chicago:20240902T170000
DTSTAMP:20260423T182630
CREATED:20230227T204059Z
LAST-MODIFIED:20230227T204059Z
UID:10000596-1725264000-1725296400@www.fortatkinsonclub.org
SUMMARY:Labor Day- Closed
DESCRIPTION:
URL:https://www.fortatkinsonclub.org/event/labor-day-closed/2024-09-02/
LOCATION:WI
END:VEVENT
BEGIN:VEVENT
DTSTART;TZID=America/Chicago:20240823T180000
DTEND;TZID=America/Chicago:20240823T210000
DTSTAMP:20260423T182630
CREATED:20240717T192054Z
LAST-MODIFIED:20240731T155745Z
UID:10002101-1724436000-1724446800@www.fortatkinsonclub.org
SUMMARY:Pop-Up Retro Market
DESCRIPTION:Put on your bell-bottom jeans\, leg warmers\, or whatever retro attire you love\, and join us for our final patio concert of the summer! Enjoy a lively performance by Nightinjails\, an all-women band covering everything from classic rock to grunge icons. \n			\n				Patio Concert Info\n			\n				\n				\n				\n				\n				Retro Night & Pop-Up Market\n			\n				\n				\n				\n				\n				We’ll also be hosting a Retro Fashion Contest with exciting prizes for the best outfits! This community event is free and will feature food\, drinks\, and a pop-up market with unique items for purchase. We’re excited to welcome local retro and vintage vendors to our Retro Night pop-up market. We’re looking for high-quality\, curated collections of clothing\, home goods\, and more. \nVendorsWe’re inviting vendors offering genuine vintage\, retro\, and antique merchandise to ensure an authentic retro experience for our attendees. Spaces are limited and will be allocated on a first-come\, first-served basis. Vendors are permitted to bring in food and beverages for their consumption. No food or beverage of any kind is allowed to be sold or given away. The includes but is not limited to candy\, cookies\, and water.  \n			\n				Vendor Registration\n			\n				\n				\n				\n				\n				The vendor form is best viewed on a desktop/laptop\, or tablet. 
URL:https://www.fortatkinsonclub.org/event/pop-up-retro-market/
LOCATION:211 S Water St E\, 53538\, 211 South Water Street East\, Fort Atkinson\, WI\, 53538\, United States
ATTACH;FMTTYPE=image/png:https://www.fortatkinsonclub.org/wp-content/uploads/2024/07/retro-night-banner.png
END:VEVENT
BEGIN:VEVENT
DTSTART;TZID=America/Chicago:20240823T180000
DTEND;TZID=America/Chicago:20240823T200000
DTSTAMP:20260423T182630
CREATED:20240522T153033Z
LAST-MODIFIED:20240522T153033Z
UID:10001860-1724436000-1724443200@www.fortatkinsonclub.org
SUMMARY:Patio Concert: Nightinjails
DESCRIPTION:Bring a chair and join us for our summer Concerts on the Patio!  Enjoy live\, local music with the whole family. All concerts are free to the public. Beverages and snacks are available for purchase. \nThe Nightinjails are a Milwaukee-based duet – two established female artists\, combining acoustic guitar\, violin\, and vocals.  Their setlist pulls from classic rock and grunge icons like Nirvana\, U2\, Led Zeppelin\, and David Bowie\, remaking classics into a captivating acoustic live show.
URL:https://www.fortatkinsonclub.org/event/patio-concert-nightinjails/
LOCATION:211 S Water St E\, 53538\, 211 South Water Street East\, Fort Atkinson\, WI\, 53538\, United States
CATEGORIES:Music
ATTACH;FMTTYPE=image/jpeg:https://www.fortatkinsonclub.org/wp-content/uploads/2024/05/2024_PatioConcertImages-05-scaled.jpg
END:VEVENT
BEGIN:VEVENT
DTSTART;TZID=America/Chicago:20240820T173000
DTEND;TZID=America/Chicago:20240820T183000
DTSTAMP:20260423T182630
CREATED:20230227T200833Z
LAST-MODIFIED:20250115T155450Z
UID:10002161-1724175000-1724178600@www.fortatkinsonclub.org
SUMMARY:Fort Club Board Meeting
DESCRIPTION:
URL:https://www.fortatkinsonclub.org/event/fort-club-board-meeting/2024-08-20/
LOCATION:211 S Water St E\, 53538\, 211 South Water Street East\, Fort Atkinson\, WI\, 53538\, United States
ATTACH;FMTTYPE=image/jpeg:https://www.fortatkinsonclub.org/wp-content/uploads/2023/02/Failte4-scaled.jpg
END:VEVENT
BEGIN:VEVENT
DTSTART;VALUE=DATE:20240820
DTEND;VALUE=DATE:20240821
DTSTAMP:20260423T182630
CREATED:20240717T190525Z
LAST-MODIFIED:20240717T190808Z
UID:10002098-1724112000-1724198399@www.fortatkinsonclub.org
SUMMARY:Call for Art Submission Deadline
DESCRIPTION:The Fort Atkinson Club is seeking artwork from visual artists within a 50-mile radius of Fort Atkinson\, WI\, for an upcoming three-month exhibition centered around the topic of supper. We encourage submissions that explore creative interpretations of this theme\, including but not limited to: conversations\, culinary\, relationships\, and all things associated with “supper”. Both professional and avocational artists working in any medium are encouraged to apply! (No entry fee) \nSubmit
URL:https://www.fortatkinsonclub.org/event/call-for-art-submission-deadline/
LOCATION:WI
CATEGORIES:Visual Arts
ATTACH;FMTTYPE=image/jpeg:https://www.fortatkinsonclub.org/wp-content/uploads/2024/06/CallForArt.jpg
END:VEVENT
END:VCALENDAR