BEGIN:VCALENDAR
VERSION:2.0
PRODID:-//The Fort Atkinson Club - ECPv6.15.20//NONSGML v1.0//EN
CALSCALE:GREGORIAN
METHOD:PUBLISH
X-ORIGINAL-URL:https://www.fortatkinsonclub.org
X-WR-CALDESC:Events for The Fort Atkinson Club
REFRESH-INTERVAL;VALUE=DURATION:PT1H
X-Robots-Tag:noindex
X-PUBLISHED-TTL:PT1H
BEGIN:VTIMEZONE
TZID:America/Chicago
BEGIN:DAYLIGHT
TZOFFSETFROM:-0600
TZOFFSETTO:-0500
TZNAME:CDT
DTSTART:20250309T080000
END:DAYLIGHT
BEGIN:STANDARD
TZOFFSETFROM:-0500
TZOFFSETTO:-0600
TZNAME:CST
DTSTART:20251102T070000
END:STANDARD
BEGIN:DAYLIGHT
TZOFFSETFROM:-0600
TZOFFSETTO:-0500
TZNAME:CDT
DTSTART:20260308T080000
END:DAYLIGHT
BEGIN:STANDARD
TZOFFSETFROM:-0500
TZOFFSETTO:-0600
TZNAME:CST
DTSTART:20261101T070000
END:STANDARD
BEGIN:DAYLIGHT
TZOFFSETFROM:-0600
TZOFFSETTO:-0500
TZNAME:CDT
DTSTART:20270314T080000
END:DAYLIGHT
BEGIN:STANDARD
TZOFFSETFROM:-0500
TZOFFSETTO:-0600
TZNAME:CST
DTSTART:20271107T070000
END:STANDARD
END:VTIMEZONE
BEGIN:VEVENT
DTSTART;TZID=America/Chicago:20261130T180000
DTEND;TZID=America/Chicago:20261130T193000
DTSTAMP:20260423T051212
CREATED:20260224T173030Z
LAST-MODIFIED:20260224T173043Z
UID:10002613-1796061600-1796067000@www.fortatkinsonclub.org
SUMMARY:Art with Aimee
DESCRIPTION:Join us for monthly discussions about the visual arts\, demonstrations\, and guidance in creating your own works of art. Every skill level is welcome! Whether you are just starting out\, or wish to take your skills to the next stage\, this FREE class will help you every step of the way. Necessary art supplies will be provided.  \nAimee is an experienced local artist and owner of A Little Off Kilter Fine Art
URL:https://www.fortatkinsonclub.org/event/art-with-aimee-2/2026-11-30/
LOCATION:211 S Water St E\, 53538\, 211 South Water Street East\, Fort Atkinson\, WI\, 53538\, United States
CATEGORIES:Community,Visual Arts
ATTACH;FMTTYPE=image/png:https://www.fortatkinsonclub.org/wp-content/uploads/2026/01/Art-with-Aimee-event-graphic-1200-x-800-px.png
END:VEVENT
BEGIN:VEVENT
DTSTART;TZID=America/Chicago:20261228T180000
DTEND;TZID=America/Chicago:20261228T193000
DTSTAMP:20260423T051212
CREATED:20260224T173030Z
LAST-MODIFIED:20260224T173043Z
UID:10002614-1798480800-1798486200@www.fortatkinsonclub.org
SUMMARY:Art with Aimee
DESCRIPTION:Join us for monthly discussions about the visual arts\, demonstrations\, and guidance in creating your own works of art. Every skill level is welcome! Whether you are just starting out\, or wish to take your skills to the next stage\, this FREE class will help you every step of the way. Necessary art supplies will be provided.  \nAimee is an experienced local artist and owner of A Little Off Kilter Fine Art
URL:https://www.fortatkinsonclub.org/event/art-with-aimee-2/2026-12-28/
LOCATION:211 S Water St E\, 53538\, 211 South Water Street East\, Fort Atkinson\, WI\, 53538\, United States
CATEGORIES:Community,Visual Arts
ATTACH;FMTTYPE=image/png:https://www.fortatkinsonclub.org/wp-content/uploads/2026/01/Art-with-Aimee-event-graphic-1200-x-800-px.png
END:VEVENT
END:VCALENDAR