BEGIN:VCALENDAR
VERSION:2.0
PRODID:-//The Fort Atkinson Club - ECPv6.15.20//NONSGML v1.0//EN
CALSCALE:GREGORIAN
METHOD:PUBLISH
X-WR-CALNAME:The Fort Atkinson Club
X-ORIGINAL-URL:https://www.fortatkinsonclub.org
X-WR-CALDESC:Events for The Fort Atkinson Club
REFRESH-INTERVAL;VALUE=DURATION:PT1H
X-Robots-Tag:noindex
X-PUBLISHED-TTL:PT1H
BEGIN:VTIMEZONE
TZID:America/Chicago
BEGIN:DAYLIGHT
TZOFFSETFROM:-0600
TZOFFSETTO:-0500
TZNAME:CDT
DTSTART:20250309T080000
END:DAYLIGHT
BEGIN:STANDARD
TZOFFSETFROM:-0500
TZOFFSETTO:-0600
TZNAME:CST
DTSTART:20251102T070000
END:STANDARD
BEGIN:DAYLIGHT
TZOFFSETFROM:-0600
TZOFFSETTO:-0500
TZNAME:CDT
DTSTART:20260308T080000
END:DAYLIGHT
BEGIN:STANDARD
TZOFFSETFROM:-0500
TZOFFSETTO:-0600
TZNAME:CST
DTSTART:20261101T070000
END:STANDARD
BEGIN:DAYLIGHT
TZOFFSETFROM:-0600
TZOFFSETTO:-0500
TZNAME:CDT
DTSTART:20270314T080000
END:DAYLIGHT
BEGIN:STANDARD
TZOFFSETFROM:-0500
TZOFFSETTO:-0600
TZNAME:CST
DTSTART:20271107T070000
END:STANDARD
END:VTIMEZONE
BEGIN:VEVENT
DTSTART;TZID=America/Chicago:20260126T180000
DTEND;TZID=America/Chicago:20260126T193000
DTSTAMP:20260423T032750
CREATED:20250925T173253Z
LAST-MODIFIED:20260210T180901Z
UID:10002311-1769450400-1769455800@www.fortatkinsonclub.org
SUMMARY:Full Spectrum Theatre
DESCRIPTION:Calling all storytellers!\nThe Fort Atkinson Club invites youth and adults with disabilities to join Full Spectrum Theatre — a fun\, welcoming\, and creative playwriting program starting this fall. This program takes place on Monday evenings starting on January 26\, 2026. \nParticipants will work with professional artists to explore storytelling\, build writing skills\, and create short plays based on their own experiences. The program includes weekly writing workshops\, opportunities to share and connect\, and will culminate in a public performance of original work. \nNo theatre or writing experience is needed — just a willingness to share your voice and be part of a creative community. \nFree to participate. \nRegister
URL:https://www.fortatkinsonclub.org/event/full-spectrum-theatre/2026-01-26/
LOCATION:211 S Water St E\, 53538\, 211 South Water Street East\, Fort Atkinson\, WI\, 53538\, United States
CATEGORIES:Community,Visual Arts
ATTACH;FMTTYPE=image/png:https://www.fortatkinsonclub.org/wp-content/uploads/2025/09/Full-Spectrum-Theatre.png
END:VEVENT
BEGIN:VEVENT
DTSTART;TZID=America/Chicago:20260126T180000
DTEND;TZID=America/Chicago:20260126T193000
DTSTAMP:20260423T032750
CREATED:20260108T201710Z
LAST-MODIFIED:20260109T164624Z
UID:10002309-1769450400-1769455800@www.fortatkinsonclub.org
SUMMARY:Art with Aimee
DESCRIPTION:Art With Aimee is held on the last Monday of each month from 6:00 – 7:30 PM.  \n\n\n\n\n\n\n\n\n\n\n\n\nJoin us for monthly discussions about the visual arts\, demonstrations\, and guidance in creating your own works of art. Every skill level is welcome! Whether you are just starting out\, or wish to take your skills to the next stage\, this FREE class will help you every step of the way. Necessary art supplies will be provided.  \nAimee is an experienced local artist and owner of A Little Off Kilter Fine Art \n\nREGISTER
URL:https://www.fortatkinsonclub.org/event/art-with-aimee/
LOCATION:211 S Water St E\, 53538\, 211 South Water Street East\, Fort Atkinson\, WI\, 53538\, United States
CATEGORIES:Visual Arts
ATTACH;FMTTYPE=image/png:https://www.fortatkinsonclub.org/wp-content/uploads/2026/01/Art-with-Aimee-event-graphic-1200-x-800-px.png
END:VEVENT
END:VCALENDAR