BEGIN:VCALENDAR
VERSION:2.0
PRODID:-//The Fort Atkinson Club - ECPv6.15.20//NONSGML v1.0//EN
CALSCALE:GREGORIAN
METHOD:PUBLISH
X-WR-CALNAME:The Fort Atkinson Club
X-ORIGINAL-URL:https://www.fortatkinsonclub.org
X-WR-CALDESC:Events for The Fort Atkinson Club
REFRESH-INTERVAL;VALUE=DURATION:PT1H
X-Robots-Tag:noindex
X-PUBLISHED-TTL:PT1H
BEGIN:VTIMEZONE
TZID:America/Chicago
BEGIN:DAYLIGHT
TZOFFSETFROM:-0600
TZOFFSETTO:-0500
TZNAME:CDT
DTSTART:20230312T080000
END:DAYLIGHT
BEGIN:STANDARD
TZOFFSETFROM:-0500
TZOFFSETTO:-0600
TZNAME:CST
DTSTART:20231105T070000
END:STANDARD
BEGIN:DAYLIGHT
TZOFFSETFROM:-0600
TZOFFSETTO:-0500
TZNAME:CDT
DTSTART:20240310T080000
END:DAYLIGHT
BEGIN:STANDARD
TZOFFSETFROM:-0500
TZOFFSETTO:-0600
TZNAME:CST
DTSTART:20241103T070000
END:STANDARD
BEGIN:DAYLIGHT
TZOFFSETFROM:-0600
TZOFFSETTO:-0500
TZNAME:CDT
DTSTART:20250309T080000
END:DAYLIGHT
BEGIN:STANDARD
TZOFFSETFROM:-0500
TZOFFSETTO:-0600
TZNAME:CST
DTSTART:20251102T070000
END:STANDARD
BEGIN:DAYLIGHT
TZOFFSETFROM:-0600
TZOFFSETTO:-0500
TZNAME:CDT
DTSTART:20260308T080000
END:DAYLIGHT
BEGIN:STANDARD
TZOFFSETFROM:-0500
TZOFFSETTO:-0600
TZNAME:CST
DTSTART:20261101T070000
END:STANDARD
BEGIN:DAYLIGHT
TZOFFSETFROM:-0600
TZOFFSETTO:-0500
TZNAME:CDT
DTSTART:20270314T080000
END:DAYLIGHT
BEGIN:STANDARD
TZOFFSETFROM:-0500
TZOFFSETTO:-0600
TZNAME:CST
DTSTART:20271107T070000
END:STANDARD
END:VTIMEZONE
BEGIN:VEVENT
DTSTART;TZID=America/Chicago:20260417T180000
DTEND;TZID=America/Chicago:20260417T200000
DTSTAMP:20260423T004109
CREATED:20260312T185257Z
LAST-MODIFIED:20260312T185257Z
UID:10002675-1776448800-1776456000@www.fortatkinsonclub.org
SUMMARY:Open Mic Night
DESCRIPTION:Your stage. Your moment. Open Mic Night is here and we want to see what you’ve got. Musicians\, poets\, comedians\, storytellers — if you’ve got something to say or perform\, grab the mic. Family friendly\, all styles welcome\, no experience necessary. \nSign up at the door. Performers must be 13 or older.
URL:https://www.fortatkinsonclub.org/event/open-mic-night/
LOCATION:211 S Water St E\, 53538\, 211 South Water Street East\, Fort Atkinson\, WI\, 53538\, United States
CATEGORIES:Community,Music
ATTACH;FMTTYPE=image/png:https://www.fortatkinsonclub.org/wp-content/uploads/2026/03/Open-Mic-Night.png
END:VEVENT
BEGIN:VEVENT
DTSTART;TZID=America/Chicago:20260403T180000
DTEND;TZID=America/Chicago:20260403T210000
DTSTAMP:20260423T004109
CREATED:20260312T184919Z
LAST-MODIFIED:20260313T012320Z
UID:10002615-1775239200-1775250000@www.fortatkinsonclub.org
SUMMARY:Social Dance
DESCRIPTION:Dance the night away — no partner\, no experience\, no problem. \nJoin us on the first Friday of every month for an evening of movement\, music\, and community. In partnership with Fred Astaire Dance Studios in Oconomowoc\, we’re bringing the joy of ballroom dance to Fort Atkinson in a way that’s welcoming\, fun\, and completely beginner-friendly. \nThe evening kicks off with an hour-long dance lesson from 6:00–7:00 PM\, led by professional ballroom dance instructors who will teach easy\, approachable steps you can actually use on the dance floor. From 7:00–9:00 PM\, the floor opens up for social dancing — put those new moves to work as we dance to modern hits you already know and love. \nWhether you’re a seasoned dancer or have never set foot on a dance floor\, you’ll feel right at home. Come solo\, bring a friend\, or make new ones here. \nFree. No partner necessary. All ages and abilities welcome.
URL:https://www.fortatkinsonclub.org/event/social-dance/2026-04-03/
LOCATION:211 S Water St E\, 53538\, 211 South Water Street East\, Fort Atkinson\, WI\, 53538\, United States
CATEGORIES:Community,Music
ATTACH;FMTTYPE=image/png:https://www.fortatkinsonclub.org/wp-content/uploads/2026/03/Social-Dance.png
END:VEVENT
BEGIN:VEVENT
DTSTART;TZID=America/Chicago:20260322T180000
DTEND;TZID=America/Chicago:20260322T200000
DTSTAMP:20260423T004109
CREATED:20260224T032306Z
LAST-MODIFIED:20260313T154411Z
UID:10002602-1774202400-1774209600@www.fortatkinsonclub.org
SUMMARY:Failte - Rescheduled
DESCRIPTION:Join us for an afternoon of music\, poetry\, and old-world warmth as Failte fills the FAC with the sound and spirit of the Celtic nations. This special afternoon blends poetry\, reflection\, and community—exactly the kind of performance meant to be shared. \nThis is a free community event and everyone is welcome!
URL:https://www.fortatkinsonclub.org/event/failte-rescheduled/
LOCATION:211 S Water St E\, 53538\, 211 South Water Street East\, Fort Atkinson\, WI\, 53538\, United States
CATEGORIES:Music
ATTACH;FMTTYPE=image/jpeg:https://www.fortatkinsonclub.org/wp-content/uploads/2026/01/FAILTE-LARGE-IRISH-TRAD-LOGO-1.jpg
END:VEVENT
BEGIN:VEVENT
DTSTART;TZID=America/Chicago:20260222T140000
DTEND;TZID=America/Chicago:20260222T144500
DTSTAMP:20260423T004109
CREATED:20260202T175007Z
LAST-MODIFIED:20260202T175007Z
UID:10002595-1771768800-1771771500@www.fortatkinsonclub.org
SUMMARY:Kids Concert with David Landau
DESCRIPTION:David Landau is known as the King of Kids’ Music. Heaspires to expand his reach and impact\, bringing his unique brand of children’s entertainment to audiences far and wide. Through partnerships with schools\, libraries\, and other community organizations\, he seeks to inspire children across diverse backgrounds to embrace the joy of music and imagination. \nJoin us for this FREE show!
URL:https://www.fortatkinsonclub.org/event/kids-concert-with-david-landau/
LOCATION:211 S Water St E\, 53538\, 211 South Water Street East\, Fort Atkinson\, WI\, 53538\, United States
CATEGORIES:Kids,Music
ATTACH;FMTTYPE=image/png:https://www.fortatkinsonclub.org/wp-content/uploads/2026/02/dave-landau-facebook.png
END:VEVENT
BEGIN:VEVENT
DTSTART;TZID=America/Chicago:20260213T180000
DTEND;TZID=America/Chicago:20260213T210000
DTSTAMP:20260423T004109
CREATED:20260202T175144Z
LAST-MODIFIED:20260202T175144Z
UID:10002596-1771005600-1771016400@www.fortatkinsonclub.org
SUMMARY:Social Dance + Dance Instruction
DESCRIPTION:Grab a partner and join us for a night of dancing! The night starts at 6:00 PM with dance instruction followed by a social dance. Come for the lesson\, the dance\, or both! This event is free to attend.
URL:https://www.fortatkinsonclub.org/event/social-dance-dance-instruction/
LOCATION:WI
CATEGORIES:Community,Music
ATTACH;FMTTYPE=image/png:https://www.fortatkinsonclub.org/wp-content/uploads/2026/02/valentines-day-dance-facebook.png
END:VEVENT
BEGIN:VEVENT
DTSTART;TZID=America/Chicago:20260123T180000
DTEND;TZID=America/Chicago:20260123T200000
DTSTAMP:20260423T004109
CREATED:20260109T164852Z
LAST-MODIFIED:20260112T231628Z
UID:10002310-1769191200-1769198400@www.fortatkinsonclub.org
SUMMARY:Burns Night: Music\, Poetry\, and Old-World Warmth
DESCRIPTION:Celebrate Burns Night on January 23 with music\, poetry\, and old-world warmth as Failte fills the evening with the sound and spirit of the Celtic nations.\nBurns Night is a Scottish tradition held in honor of national poet Robert Burns\, celebrating his words\, wit\, and enduring love of music\, friendship\, and storytelling. This special evening blends poetry\, reflection\, and community—exactly the kind of night meant to be shared. \nFailte—Gaelic for “Welcome”—is a spirited quartet rooted in the Irish session tradition\, playing Irish and Scottish tunes with vibrant affection. From lively jigs and reels to tender waltzes\, their sound weaves together cittern\, fiddle\, bodhrán\, and button accordion into a rich\, inviting musical tapestry. \nThe evening will also feature readings of Robert Burns’ poetry around the fireplace\, creating a cozy\, intimate atmosphere that echoes the rare old times—when music\, words\, and community gathered together in warmth and good company.
URL:https://www.fortatkinsonclub.org/event/burn-night-music-poetry-and-old-world-warmth-2/
LOCATION:211 S Water St E\, 53538\, 211 South Water Street East\, Fort Atkinson\, WI\, 53538\, United States
CATEGORIES:Music
ATTACH;FMTTYPE=image/jpeg:https://www.fortatkinsonclub.org/wp-content/uploads/2026/01/FAILTE-LARGE-IRISH-TRAD-LOGO.jpg
END:VEVENT
BEGIN:VEVENT
DTSTART;TZID=America/Chicago:20260122T173000
DTEND;TZID=America/Chicago:20260122T193000
DTSTAMP:20260423T004109
CREATED:20260108T175345Z
LAST-MODIFIED:20260108T175345Z
UID:10002296-1769103000-1769110200@www.fortatkinsonclub.org
SUMMARY:Jill and the Jax at Stable Rock: Fundraiser for FAC
DESCRIPTION:Join Jill and the Jax for a Free show on January 22nd at Stable Rock Winery in Jefferson. Admission to the show is free\, but all tips will go to support the Fort Atkinson Club Community Center.
URL:https://www.fortatkinsonclub.org/event/jill-and-the-jax-at-stable-rock-fundraiser-for-fac/
LOCATION:Stable Rock\, 118 W Milwaukee St\, Jefferson\, WI\, 53549\, United States
CATEGORIES:Music
ATTACH;FMTTYPE=image/jpeg:https://www.fortatkinsonclub.org/wp-content/uploads/2026/01/jill-and-the-jax-fundraiser.jpg
END:VEVENT
BEGIN:VEVENT
DTSTART;TZID=America/Chicago:20251102T160000
DTEND;TZID=America/Chicago:20251102T180000
DTSTAMP:20260423T004109
CREATED:20250919T174511Z
LAST-MODIFIED:20251006T191249Z
UID:10002251-1762099200-1762106400@www.fortatkinsonclub.org
SUMMARY:Chamber Concert Series: The Fulton Chamber Players
DESCRIPTION:The Fulton Chambers Players are presenting a violin-viola duo. This classical music ensemble unites world-class artists to present exceptional programs. Our members are passionate about bringing the highest quality performances to all audiences as well as inspiring the next generation of musicians \nRecent seasons have taken the members of FCP to audiences both in the US and abroad. The ensemble debuted in 2022 in a collaborative pop-up with Michelin-starred chefs in Chicago\, and they continue to cultivate partnerships across the globe. Recent seasons have featured tours to Taiwan\, Japan\, Portland\, Miami\, Hawai’i\, Canada\, and across the Midwest\, and have included their debut at Newport Classical in Rhode Island.  \nThis is a FREE concert and is open to the public. 
URL:https://www.fortatkinsonclub.org/event/chamber-concert-series-the-fulton-chamber-players/
LOCATION:211 S Water St E\, 53538\, 211 South Water Street East\, Fort Atkinson\, WI\, 53538\, United States
CATEGORIES:Music
ATTACH;FMTTYPE=image/jpeg:https://www.fortatkinsonclub.org/wp-content/uploads/2025/10/duo-photo-scaled.jpg
END:VEVENT
BEGIN:VEVENT
DTSTART;TZID=America/Chicago:20250919T180000
DTEND;TZID=America/Chicago:20250919T210000
DTSTAMP:20260423T004109
CREATED:20250709T150754Z
LAST-MODIFIED:20250715T152122Z
UID:10002239-1758304800-1758315600@www.fortatkinsonclub.org
SUMMARY:Rhythms on the Rock: Latin Night
DESCRIPTION:Join us for our final patio concert of the season! Admission and all activities are FREE — food will be available for purchase. Everyone is welcome!\n\nLast year’s Latin Night was incredible — and this year promises to be even more amazing. Get ready for an evening full of dancing\, live music\, and delicious food as we celebrate the vibrant cultures of the Latino community!\n\nStarting at 6 PM on the river level inside\, we’ll kick things off with a Latin dance lesson where you’ll learn the moves for the night. Get ready to learn from Luis Armacanqui of Capitol Social in Madison! He’ll be teaching Latin dance classics like Merengue\, Bachata\, and Salsa\, along with a bit of background on each style. After this fun and engaging lesson\, you’ll be all set to dance the night away!\n\nExperience the unique sounds of Clave y Afinque\, featuring some of the greatest Latin musicians in Wisconsin. Founded by Jesus “Joey” Burgos\, hailed as the best Latin vocalist in Milwaukee and surrounding areas\, this musical group promises an unforgettable performance! \n\nBut that’s not all! Hosted by First United Methodist Church Hispanic Ministry (FUMC)\, we will be serving up mouthwatering dishes\, with proceeds benefiting youth activities. Support a good cause while indulging in a range of Latin foods! Menu coming soon! Don’t miss out on this unforgettable celebration of Latin culture!\n\n******************************************************************************************\nAcompáñenos a nuestro último concierto de la temporada. ¡La entrada y todas las actividades son GRATUITAS y todos son bienvenidos! La Noche Latina del año pasado fue increíble\, y este año promete ser aún mejor. ¡Prepárate para una noche llena de baile\, música en vivo y deliciosa comida mientras celebramos las vibrantes culturas de la comunidad latina!\n\nA las 6 p.m. comenzaremos con una clase de baile latino donde aprenderás los pasos de la noche. ¡Prepárate para aprender con Luis Armacanqui de Capitol Social en Madison! Enseñará clásicos del baile latino como merengue\, bachata y salsa\, junto con un poco de historia sobre cada estilo. Después de esta divertida clase\, ¡estarás listo para bailar toda la noche!\n\nExperimenta los sonidos únicos de Clave y Afinque\, con algunos de los mejores músicos latinos de Wisconsin. Fundado por Jesús “Joey” Burgos\, aclamado como el mejor vocalista latino de Milwaukee y sus alrededores\, ¡este grupo musical promete música inolvidable!\n\n¡Pero eso no es todo! Organizado por el Ministerio Hispano de la Primera Iglesia Metodista Unida (FUMC)\, serviremos platillos deliciosos\, y las ganancias se destinarán a actividades juveniles. ¡Apoya una buena causa y disfruta de una variedad de platillos latinos. ¡Menú disponible próximamente! ¡No te pierdas esta inolvidable celebración de la cultura latina!
URL:https://www.fortatkinsonclub.org/event/rhythms-on-the-rock-3/
LOCATION:WI
CATEGORIES:Music
ATTACH;FMTTYPE=image/png:https://www.fortatkinsonclub.org/wp-content/uploads/2025/05/Latin-Night-2025-2.png
END:VEVENT
BEGIN:VEVENT
DTSTART;TZID=America/Chicago:20250725T180000
DTEND;TZID=America/Chicago:20250725T210000
DTSTAMP:20260423T004109
CREATED:20250524T015448Z
LAST-MODIFIED:20250709T150448Z
UID:10002238-1753466400-1753477200@www.fortatkinsonclub.org
SUMMARY:Rhythms on the Rock
DESCRIPTION:Join us for Americana on the Rock\, an evening of music\, history\, and hometown fun—all to support FAC’s free community programs!\n\nEnjoy a live performance by the Kettle Moraine Blues Band with special guest musical historian Ed Pierce\, presenting “Songs of Victory”—a musical tribute honoring the 80th anniversary of World War II. Travel back to the 1940s through powerful storytelling and beloved songs like “God Bless America” and “Over the Rainbow.” Audience sing-alongs encouraged!\n\nLive Music\nConcessions for purchase – brats\, hot dogs\, ice cream & beverages\nLive auction featuring homemade pies & premium whiskeys\n50/50 raffle\nLawn chairs welcome – make yourself at home on the FAC patio!\n\n\nAdmission is FREE and open to all. Bring your friends\, and be part of a meaningful evening under the summer sky. We’ll see you there!
URL:https://www.fortatkinsonclub.org/event/rhythms-on-the-rock-2/
LOCATION:WI
CATEGORIES:Music
ATTACH;FMTTYPE=image/png:https://www.fortatkinsonclub.org/wp-content/uploads/2025/06/Americana-on-the-Rock-2025-Website-Graphic-2.png
END:VEVENT
BEGIN:VEVENT
DTSTART;TZID=America/Chicago:20250614T170000
DTEND;TZID=America/Chicago:20250614T200000
DTSTAMP:20260423T004109
CREATED:20250521T205732Z
LAST-MODIFIED:20250521T205756Z
UID:10002241-1749920400-1749931200@www.fortatkinsonclub.org
SUMMARY:Cheese Louise!
DESCRIPTION:Cheese Louise!—a celebration of Wisconsin’s most iconic culinary treasure. The evening features a lively patio concert by Goose McCluskey\, tasty cheese-themed culinary demonstrations\, cheese and beverage tastings\, and kids activities the whole family can enjoy. We’re also thrilled to host two celebratory art exhibits: Art For All Wisconsin’s Cattle Call Collection\, and Made in Wisconsin: Art from America’s Dairyland\, curated by the Fort Atkinson Club. It’s a feast for all the senses and a tribute to the dairy-rich roots that shape our state’s identity. \nNo registration required. All are welcome to attend!
URL:https://www.fortatkinsonclub.org/event/cheese-louise/
LOCATION:211 S Water St E\, 53538\, 211 South Water Street East\, Fort Atkinson\, WI\, 53538\, United States
CATEGORIES:Community,Music,Visual Arts
ATTACH;FMTTYPE=image/png:https://www.fortatkinsonclub.org/wp-content/uploads/2025/05/Cheese-Louise-1.png
END:VEVENT
BEGIN:VEVENT
DTSTART;TZID=America/Chicago:20250530T180000
DTEND;TZID=America/Chicago:20250530T210000
DTSTAMP:20260423T004109
CREATED:20250520T001102Z
LAST-MODIFIED:20250520T001102Z
UID:10002237-1748628000-1748638800@www.fortatkinsonclub.org
SUMMARY:Rhythms on the Rock
DESCRIPTION:
URL:https://www.fortatkinsonclub.org/event/rhythms-on-the-rock/
LOCATION:WI
CATEGORIES:Music
ATTACH;FMTTYPE=image/png:https://www.fortatkinsonclub.org/wp-content/uploads/2025/04/FRIDAY-MAY-30-1.png
END:VEVENT
BEGIN:VEVENT
DTSTART;TZID=America/Chicago:20250530T180000
DTEND;TZID=America/Chicago:20250530T200000
DTSTAMP:20260423T004109
CREATED:20250519T235630Z
LAST-MODIFIED:20250519T235630Z
UID:10002234-1748628000-1748635200@www.fortatkinsonclub.org
SUMMARY:Retro Night Patio Concert
DESCRIPTION:Join us for Retro Night May 30 at 6 PM.  Live music by Take Back the Sun with Extra\, a Retro Style Costume Contest and complimentary ice cream floats. This event is FREE and open to everyone!
URL:https://www.fortatkinsonclub.org/event/retro-night-patio-concert/
LOCATION:211 S Water St E\, 53538\, 211 South Water Street East\, Fort Atkinson\, WI\, 53538\, United States
CATEGORIES:Music
ATTACH;FMTTYPE=image/jpeg:https://www.fortatkinsonclub.org/wp-content/uploads/2024/07/2024PatioConcertRetroNight-e1747697700737.jpg
END:VEVENT
BEGIN:VEVENT
DTSTART;TZID=America/Chicago:20250427T160000
DTEND;TZID=America/Chicago:20250427T180000
DTSTAMP:20260423T004109
CREATED:20250319T162423Z
LAST-MODIFIED:20250319T162423Z
UID:10002232-1745769600-1745776800@www.fortatkinsonclub.org
SUMMARY:Chamber Concert: Wingra Wind Quintet
DESCRIPTION:
URL:https://www.fortatkinsonclub.org/event/chamber-concert-wingra-wind-quintet/
LOCATION:211 S Water St E\, 53538\, 211 South Water Street East\, Fort Atkinson\, WI\, 53538\, United States
CATEGORIES:Music
ATTACH;FMTTYPE=image/png:https://www.fortatkinsonclub.org/wp-content/uploads/2025/03/Chamber-Concert-Wingra-Wind-Quintet-2.png
END:VEVENT
BEGIN:VEVENT
DTSTART;TZID=America/Chicago:20250126T160000
DTEND;TZID=America/Chicago:20250126T180000
DTSTAMP:20260423T004109
CREATED:20250115T161215Z
LAST-MODIFIED:20250115T161215Z
UID:10002227-1737907200-1737914400@www.fortatkinsonclub.org
SUMMARY:Chamber Concert Series: Varshavski-Shapiro Piano Duo
DESCRIPTION:
URL:https://www.fortatkinsonclub.org/event/chamber-concert-series-varshavski-shapiro-piano-duo/
LOCATION:211 S Water St E\, 53538\, 211 South Water Street East\, Fort Atkinson\, WI\, 53538\, United States
CATEGORIES:Music
ATTACH;FMTTYPE=image/png:https://www.fortatkinsonclub.org/wp-content/uploads/2025/01/Chamber-Concert.png
END:VEVENT
BEGIN:VEVENT
DTSTART;TZID=America/Chicago:20241027T160000
DTEND;TZID=America/Chicago:20241027T180000
DTSTAMP:20260423T004109
CREATED:20240911T015240Z
LAST-MODIFIED:20240911T015240Z
UID:10002119-1730044800-1730052000@www.fortatkinsonclub.org
SUMMARY:Chamber Concert: Duo Zinck-Chicha
DESCRIPTION:
URL:https://www.fortatkinsonclub.org/event/chamber-concert-duo-zinck-chicha/
LOCATION:211 S Water St E\, 53538\, 211 South Water Street East\, Fort Atkinson\, WI\, 53538\, United States
CATEGORIES:Music
ATTACH;FMTTYPE=image/jpeg:https://www.fortatkinsonclub.org/wp-content/uploads/2024/07/2024Website-01.jpg
END:VEVENT
BEGIN:VEVENT
DTSTART;TZID=America/Chicago:20240823T180000
DTEND;TZID=America/Chicago:20240823T200000
DTSTAMP:20260423T004109
CREATED:20240522T153033Z
LAST-MODIFIED:20240522T153033Z
UID:10001860-1724436000-1724443200@www.fortatkinsonclub.org
SUMMARY:Patio Concert: Nightinjails
DESCRIPTION:Bring a chair and join us for our summer Concerts on the Patio!  Enjoy live\, local music with the whole family. All concerts are free to the public. Beverages and snacks are available for purchase. \nThe Nightinjails are a Milwaukee-based duet – two established female artists\, combining acoustic guitar\, violin\, and vocals.  Their setlist pulls from classic rock and grunge icons like Nirvana\, U2\, Led Zeppelin\, and David Bowie\, remaking classics into a captivating acoustic live show.
URL:https://www.fortatkinsonclub.org/event/patio-concert-nightinjails/
LOCATION:211 S Water St E\, 53538\, 211 South Water Street East\, Fort Atkinson\, WI\, 53538\, United States
CATEGORIES:Music
ATTACH;FMTTYPE=image/jpeg:https://www.fortatkinsonclub.org/wp-content/uploads/2024/05/2024_PatioConcertImages-05-scaled.jpg
END:VEVENT
BEGIN:VEVENT
DTSTART;TZID=America/Chicago:20240811T160000
DTEND;TZID=America/Chicago:20240811T180000
DTSTAMP:20260423T004109
CREATED:20240717T191346Z
LAST-MODIFIED:20240717T191346Z
UID:10002100-1723392000-1723399200@www.fortatkinsonclub.org
SUMMARY:Chamber Concert: The Dream Songs Project
DESCRIPTION:The Dream Songs Project\nAugust 11\, 2024\n4:00 PM \nThe Dream Songs Project presents a program of classical art song arrangements of folk music from around the world\, including Spanish music by Joaquin Rodrigo\, songs of the British by Benjamin Britten\, French folksongs by Mattyas Seiber\, and Brazilian music from Laurindo Almeida. \nThe music is varied and is appealing to classical music aficionados as well as audiences with little exposure to classical music. The Brazilian arrangements in particular are familiar to audiences of a certain age as they come from a very popular classical “crossover” album from the late 1950s. \nThe Dream Songs Project has been performing and educating as a duo since 2010. You can read and listen to more at thedreamsongsproject.org
URL:https://www.fortatkinsonclub.org/event/chamber-concert-the-dream-songs-project/
LOCATION:211 S Water St E\, 53538\, 211 South Water Street East\, Fort Atkinson\, WI\, 53538\, United States
CATEGORIES:Music
ATTACH;FMTTYPE=image/jpeg:https://www.fortatkinsonclub.org/wp-content/uploads/2024/07/2b611f-20140401-the-dream-songs-project.jpeg
END:VEVENT
BEGIN:VEVENT
DTSTART;TZID=America/Chicago:20240727T170000
DTEND;TZID=America/Chicago:20240727T220000
DTSTAMP:20260423T004109
CREATED:20240515T164633Z
LAST-MODIFIED:20240724T175250Z
UID:10001746-1722099600-1722117600@www.fortatkinsonclub.org
SUMMARY:Americana on the Rock
DESCRIPTION:Join us for a family fun\, local music festival with grilled brats\, strawberry shortcake\, craft & domestic beers\, wine\, bowling\, ping-pong\, and pontoon rides. Enjoy the free-spirited live music of Rags O’Hooligan and the Parasites on the patio as the sunsets on the Rock River. This is an annual fundraiser supporting yearly music events at the FAC.\nLearn more
URL:https://www.fortatkinsonclub.org/event/americana-on-the-rock/
LOCATION:WI
CATEGORIES:Music
ATTACH;FMTTYPE=image/png:https://www.fortatkinsonclub.org/wp-content/uploads/2024/05/UpdatedColorsWebsiteImages-04.png
END:VEVENT
BEGIN:VEVENT
DTSTART;TZID=America/Chicago:20240719T180000
DTEND;TZID=America/Chicago:20240719T200000
DTSTAMP:20260423T004109
CREATED:20240522T153138Z
LAST-MODIFIED:20240703T184729Z
UID:10001861-1721412000-1721419200@www.fortatkinsonclub.org
SUMMARY:Patio Concert: Clave Y Afinque
DESCRIPTION:Join us for our second patio concert of the season! Get ready for an evening filled with dancing\, music\, and delicious food as we celebrate the vibrant cultures of the Latino community!\n\nExperience the unique sounds of Clave y Afinque\, featuring some of the greatest Latin musicians in Wisconsin. Founded by Jesus “Joey” Burgos\, hailed as the best Latin vocalist in Milwaukee and surrounding areas\, this musical group promises an unforgettable performance!\n\nHosted by First United Methodist Church Hispanic Ministry (FUMC)\, we will be serving up mouthwatering dishes\, with proceeds benefiting youth activities. Support a good cause while indulging in a range of Latin foods!\n\nCheck out our menu featuring specialties from different countries: Pupusas (El Salvador) Arepas (Venezuela/Colombia) Empanadas (Dominican Republic) Tamales (Honduras) Tamales: Mexican (Oaxaca\, Mexico) Rice pudding (Nicaragua) Drinks: Limon\, Tamarind Mabi and Fruit Cocktail\n\nBut that’s not all! Join the Unity Project for dance lessons in salsa\, bachata\, and merengue during the band intermission on the river level inside. Don’t miss out on this unforgettable celebration of Latin culture!\n\n——\n\n\nPlease join FAC and the Unity Project for a prom dress donation drive. Donate gently used prom/formal dresses and accessories for the fashion show at the 2024 Fort Fall Fiesta taking place in September. Each girl will get to keep a dress!\n\n\nDress Drop Off Times:\nSummer patio concert with band Clave y Afinque: 6pm-9pm on July 19.\nFort Atkinson Club office hours: 10am-3pm M-F.\n\nPlease drop off your donations by August 16th. Any questions or for more information\, please contact us at info@fortatkinsonclub.org | 920.568.1720
URL:https://www.fortatkinsonclub.org/event/patio-concert-clave-y-afinque/
LOCATION:211 S Water St E\, 53538\, 211 South Water Street East\, Fort Atkinson\, WI\, 53538\, United States
CATEGORIES:Music
ATTACH;FMTTYPE=image/jpeg:https://www.fortatkinsonclub.org/wp-content/uploads/2024/05/2024_PatioConcertImages-05-scaled.jpg
END:VEVENT
BEGIN:VEVENT
DTSTART;TZID=America/Chicago:20240629T120000
DTEND;TZID=America/Chicago:20240629T170000
DTSTAMP:20260423T004109
CREATED:20240522T145902Z
LAST-MODIFIED:20240615T030601Z
UID:10001859-1719662400-1719680400@www.fortatkinsonclub.org
SUMMARY:Veterans Benefits Block Party
DESCRIPTION:Join us at the Veterans Benefits Block Party hosted by the Jefferson County Veterans Service Office at Fort Atkinson Club and American Legion. You’ll have the opportunity to meet representatives from federal\, state\, and county veteran programs\, as well as advocates supporting veterans and their families. You can explore vendor services and listen to informative speakers throughout the day. BBQ will be provided for lunch!\nMore Info \nLive music on Patio 5:00 – 8:00 pm!
URL:https://www.fortatkinsonclub.org/event/veterans-benefits-block-party/
LOCATION:211 S Water St E\, 53538\, 211 South Water Street East\, Fort Atkinson\, WI\, 53538\, United States
CATEGORIES:Music
END:VEVENT
BEGIN:VEVENT
DTSTART;TZID=America/Chicago:20240621T180000
DTEND;TZID=America/Chicago:20240621T200000
DTSTAMP:20260423T004109
CREATED:20240508T141855Z
LAST-MODIFIED:20240522T152017Z
UID:10001740-1718992800-1719000000@www.fortatkinsonclub.org
SUMMARY:Patio Concert: Failte
DESCRIPTION:Bring a chair and join us for our summer Concerts on the Patio!  Enjoy live\, local music with the whole family. All concerts are free to the public. Beverages and snacks are available for purchase. \nEnjoy this mix of Scottish/Irish traditional music that consists of a trio of seasoned musicians including Alerdale Wimer on Fiddle\, Patrick Moran on Octave Mandolin\, and Terry Maloney on percussion.
URL:https://www.fortatkinsonclub.org/event/patio-concert-failte/
LOCATION:211 S Water St E\, 53538\, 211 South Water Street East\, Fort Atkinson\, WI\, 53538\, United States
CATEGORIES:Music
ATTACH;FMTTYPE=image/jpeg:https://www.fortatkinsonclub.org/wp-content/uploads/2024/05/2024_PatioConcertImages-05-scaled.jpg
END:VEVENT
END:VCALENDAR