BEGIN:VCALENDAR
VERSION:2.0
PRODID:-//The Fort Atkinson Club - ECPv6.15.20//NONSGML v1.0//EN
CALSCALE:GREGORIAN
METHOD:PUBLISH
X-ORIGINAL-URL:https://www.fortatkinsonclub.org
X-WR-CALDESC:Events for The Fort Atkinson Club
REFRESH-INTERVAL;VALUE=DURATION:PT1H
X-Robots-Tag:noindex
X-PUBLISHED-TTL:PT1H
BEGIN:VTIMEZONE
TZID:America/Chicago
BEGIN:DAYLIGHT
TZOFFSETFROM:-0600
TZOFFSETTO:-0500
TZNAME:CDT
DTSTART:20240310T080000
END:DAYLIGHT
BEGIN:STANDARD
TZOFFSETFROM:-0500
TZOFFSETTO:-0600
TZNAME:CST
DTSTART:20241103T070000
END:STANDARD
BEGIN:DAYLIGHT
TZOFFSETFROM:-0600
TZOFFSETTO:-0500
TZNAME:CDT
DTSTART:20250309T080000
END:DAYLIGHT
BEGIN:STANDARD
TZOFFSETFROM:-0500
TZOFFSETTO:-0600
TZNAME:CST
DTSTART:20251102T070000
END:STANDARD
BEGIN:DAYLIGHT
TZOFFSETFROM:-0600
TZOFFSETTO:-0500
TZNAME:CDT
DTSTART:20260308T080000
END:DAYLIGHT
BEGIN:STANDARD
TZOFFSETFROM:-0500
TZOFFSETTO:-0600
TZNAME:CST
DTSTART:20261101T070000
END:STANDARD
END:VTIMEZONE
BEGIN:VEVENT
DTSTART;TZID=America/Chicago:20250614T170000
DTEND;TZID=America/Chicago:20250614T200000
DTSTAMP:20260425T082323
CREATED:20250521T205732Z
LAST-MODIFIED:20250521T205756Z
UID:10002241-1749920400-1749931200@www.fortatkinsonclub.org
SUMMARY:Cheese Louise!
DESCRIPTION:Cheese Louise!—a celebration of Wisconsin’s most iconic culinary treasure. The evening features a lively patio concert by Goose McCluskey\, tasty cheese-themed culinary demonstrations\, cheese and beverage tastings\, and kids activities the whole family can enjoy. We’re also thrilled to host two celebratory art exhibits: Art For All Wisconsin’s Cattle Call Collection\, and Made in Wisconsin: Art from America’s Dairyland\, curated by the Fort Atkinson Club. It’s a feast for all the senses and a tribute to the dairy-rich roots that shape our state’s identity. \nNo registration required. All are welcome to attend!
URL:https://www.fortatkinsonclub.org/event/cheese-louise/
LOCATION:211 S Water St E\, 53538\, 211 South Water Street East\, Fort Atkinson\, WI\, 53538\, United States
CATEGORIES:Community,Music,Visual Arts
ATTACH;FMTTYPE=image/png:https://www.fortatkinsonclub.org/wp-content/uploads/2025/05/Cheese-Louise-1.png
END:VEVENT
END:VCALENDAR