BEGIN:VCALENDAR
VERSION:2.0
PRODID:-//The Fort Atkinson Club - ECPv6.15.20//NONSGML v1.0//EN
CALSCALE:GREGORIAN
METHOD:PUBLISH
X-WR-CALNAME:The Fort Atkinson Club
X-ORIGINAL-URL:https://www.fortatkinsonclub.org
X-WR-CALDESC:Events for The Fort Atkinson Club
REFRESH-INTERVAL;VALUE=DURATION:PT1H
X-Robots-Tag:noindex
X-PUBLISHED-TTL:PT1H
BEGIN:VTIMEZONE
TZID:America/Chicago
BEGIN:DAYLIGHT
TZOFFSETFROM:-0600
TZOFFSETTO:-0500
TZNAME:CDT
DTSTART:20290311T080000
END:DAYLIGHT
BEGIN:STANDARD
TZOFFSETFROM:-0500
TZOFFSETTO:-0600
TZNAME:CST
DTSTART:20291104T070000
END:STANDARD
BEGIN:DAYLIGHT
TZOFFSETFROM:-0600
TZOFFSETTO:-0500
TZNAME:CDT
DTSTART:20300310T080000
END:DAYLIGHT
BEGIN:STANDARD
TZOFFSETFROM:-0500
TZOFFSETTO:-0600
TZNAME:CST
DTSTART:20301103T070000
END:STANDARD
BEGIN:DAYLIGHT
TZOFFSETFROM:-0600
TZOFFSETTO:-0500
TZNAME:CDT
DTSTART:20310309T080000
END:DAYLIGHT
BEGIN:STANDARD
TZOFFSETFROM:-0500
TZOFFSETTO:-0600
TZNAME:CST
DTSTART:20311102T070000
END:STANDARD
END:VTIMEZONE
BEGIN:VEVENT
DTSTART;TZID=America/Chicago:20300327T173000
DTEND;TZID=America/Chicago:20300327T183000
DTSTAMP:20260425T073702
CREATED:20260122T203322Z
LAST-MODIFIED:20260122T203322Z
UID:10002550-1900863000-1900866600@www.fortatkinsonclub.org
SUMMARY:Narcotics Anonymous Meeting
DESCRIPTION:Narcotics Anonymous meets in the Lodge room weekly at 5:30.
URL:https://www.fortatkinsonclub.org/event/narcotics-anonymous-meeting/2030-03-27/
LOCATION:211 S Water St E\, 53538\, 211 South Water Street East\, Fort Atkinson\, WI\, 53538\, United States
CATEGORIES:Health & Wellness
ATTACH;FMTTYPE=image/png:https://www.fortatkinsonclub.org/wp-content/uploads/2026/01/NA-logo.png
END:VEVENT
BEGIN:VEVENT
DTSTART;TZID=America/Chicago:20300403T173000
DTEND;TZID=America/Chicago:20300403T183000
DTSTAMP:20260425T073702
CREATED:20260122T203322Z
LAST-MODIFIED:20260122T203322Z
UID:10002551-1901467800-1901471400@www.fortatkinsonclub.org
SUMMARY:Narcotics Anonymous Meeting
DESCRIPTION:Narcotics Anonymous meets in the Lodge room weekly at 5:30.
URL:https://www.fortatkinsonclub.org/event/narcotics-anonymous-meeting/2030-04-03/
LOCATION:211 S Water St E\, 53538\, 211 South Water Street East\, Fort Atkinson\, WI\, 53538\, United States
CATEGORIES:Health & Wellness
ATTACH;FMTTYPE=image/png:https://www.fortatkinsonclub.org/wp-content/uploads/2026/01/NA-logo.png
END:VEVENT
BEGIN:VEVENT
DTSTART;TZID=America/Chicago:20300410T173000
DTEND;TZID=America/Chicago:20300410T183000
DTSTAMP:20260425T073702
CREATED:20260122T203322Z
LAST-MODIFIED:20260122T203322Z
UID:10002552-1902072600-1902076200@www.fortatkinsonclub.org
SUMMARY:Narcotics Anonymous Meeting
DESCRIPTION:Narcotics Anonymous meets in the Lodge room weekly at 5:30.
URL:https://www.fortatkinsonclub.org/event/narcotics-anonymous-meeting/2030-04-10/
LOCATION:211 S Water St E\, 53538\, 211 South Water Street East\, Fort Atkinson\, WI\, 53538\, United States
CATEGORIES:Health & Wellness
ATTACH;FMTTYPE=image/png:https://www.fortatkinsonclub.org/wp-content/uploads/2026/01/NA-logo.png
END:VEVENT
BEGIN:VEVENT
DTSTART;TZID=America/Chicago:20300417T173000
DTEND;TZID=America/Chicago:20300417T183000
DTSTAMP:20260425T073702
CREATED:20260122T203322Z
LAST-MODIFIED:20260122T203322Z
UID:10002553-1902677400-1902681000@www.fortatkinsonclub.org
SUMMARY:Narcotics Anonymous Meeting
DESCRIPTION:Narcotics Anonymous meets in the Lodge room weekly at 5:30.
URL:https://www.fortatkinsonclub.org/event/narcotics-anonymous-meeting/2030-04-17/
LOCATION:211 S Water St E\, 53538\, 211 South Water Street East\, Fort Atkinson\, WI\, 53538\, United States
CATEGORIES:Health & Wellness
ATTACH;FMTTYPE=image/png:https://www.fortatkinsonclub.org/wp-content/uploads/2026/01/NA-logo.png
END:VEVENT
BEGIN:VEVENT
DTSTART;TZID=America/Chicago:20300424T173000
DTEND;TZID=America/Chicago:20300424T183000
DTSTAMP:20260425T073702
CREATED:20260122T203322Z
LAST-MODIFIED:20260122T203322Z
UID:10002554-1903282200-1903285800@www.fortatkinsonclub.org
SUMMARY:Narcotics Anonymous Meeting
DESCRIPTION:Narcotics Anonymous meets in the Lodge room weekly at 5:30.
URL:https://www.fortatkinsonclub.org/event/narcotics-anonymous-meeting/2030-04-24/
LOCATION:211 S Water St E\, 53538\, 211 South Water Street East\, Fort Atkinson\, WI\, 53538\, United States
CATEGORIES:Health & Wellness
ATTACH;FMTTYPE=image/png:https://www.fortatkinsonclub.org/wp-content/uploads/2026/01/NA-logo.png
END:VEVENT
BEGIN:VEVENT
DTSTART;TZID=America/Chicago:20300501T173000
DTEND;TZID=America/Chicago:20300501T183000
DTSTAMP:20260425T073702
CREATED:20260122T203322Z
LAST-MODIFIED:20260122T203322Z
UID:10002555-1903887000-1903890600@www.fortatkinsonclub.org
SUMMARY:Narcotics Anonymous Meeting
DESCRIPTION:Narcotics Anonymous meets in the Lodge room weekly at 5:30.
URL:https://www.fortatkinsonclub.org/event/narcotics-anonymous-meeting/2030-05-01/
LOCATION:211 S Water St E\, 53538\, 211 South Water Street East\, Fort Atkinson\, WI\, 53538\, United States
CATEGORIES:Health & Wellness
ATTACH;FMTTYPE=image/png:https://www.fortatkinsonclub.org/wp-content/uploads/2026/01/NA-logo.png
END:VEVENT
BEGIN:VEVENT
DTSTART;TZID=America/Chicago:20300508T173000
DTEND;TZID=America/Chicago:20300508T183000
DTSTAMP:20260425T073702
CREATED:20260122T203322Z
LAST-MODIFIED:20260122T203322Z
UID:10002556-1904491800-1904495400@www.fortatkinsonclub.org
SUMMARY:Narcotics Anonymous Meeting
DESCRIPTION:Narcotics Anonymous meets in the Lodge room weekly at 5:30.
URL:https://www.fortatkinsonclub.org/event/narcotics-anonymous-meeting/2030-05-08/
LOCATION:211 S Water St E\, 53538\, 211 South Water Street East\, Fort Atkinson\, WI\, 53538\, United States
CATEGORIES:Health & Wellness
ATTACH;FMTTYPE=image/png:https://www.fortatkinsonclub.org/wp-content/uploads/2026/01/NA-logo.png
END:VEVENT
BEGIN:VEVENT
DTSTART;TZID=America/Chicago:20300515T173000
DTEND;TZID=America/Chicago:20300515T183000
DTSTAMP:20260425T073702
CREATED:20260122T203322Z
LAST-MODIFIED:20260122T203322Z
UID:10002557-1905096600-1905100200@www.fortatkinsonclub.org
SUMMARY:Narcotics Anonymous Meeting
DESCRIPTION:Narcotics Anonymous meets in the Lodge room weekly at 5:30.
URL:https://www.fortatkinsonclub.org/event/narcotics-anonymous-meeting/2030-05-15/
LOCATION:211 S Water St E\, 53538\, 211 South Water Street East\, Fort Atkinson\, WI\, 53538\, United States
CATEGORIES:Health & Wellness
ATTACH;FMTTYPE=image/png:https://www.fortatkinsonclub.org/wp-content/uploads/2026/01/NA-logo.png
END:VEVENT
BEGIN:VEVENT
DTSTART;TZID=America/Chicago:20300522T173000
DTEND;TZID=America/Chicago:20300522T183000
DTSTAMP:20260425T073702
CREATED:20260122T203322Z
LAST-MODIFIED:20260122T203322Z
UID:10002558-1905701400-1905705000@www.fortatkinsonclub.org
SUMMARY:Narcotics Anonymous Meeting
DESCRIPTION:Narcotics Anonymous meets in the Lodge room weekly at 5:30.
URL:https://www.fortatkinsonclub.org/event/narcotics-anonymous-meeting/2030-05-22/
LOCATION:211 S Water St E\, 53538\, 211 South Water Street East\, Fort Atkinson\, WI\, 53538\, United States
CATEGORIES:Health & Wellness
ATTACH;FMTTYPE=image/png:https://www.fortatkinsonclub.org/wp-content/uploads/2026/01/NA-logo.png
END:VEVENT
BEGIN:VEVENT
DTSTART;TZID=America/Chicago:20300529T173000
DTEND;TZID=America/Chicago:20300529T183000
DTSTAMP:20260425T073702
CREATED:20260122T203322Z
LAST-MODIFIED:20260122T203322Z
UID:10002559-1906306200-1906309800@www.fortatkinsonclub.org
SUMMARY:Narcotics Anonymous Meeting
DESCRIPTION:Narcotics Anonymous meets in the Lodge room weekly at 5:30.
URL:https://www.fortatkinsonclub.org/event/narcotics-anonymous-meeting/2030-05-29/
LOCATION:211 S Water St E\, 53538\, 211 South Water Street East\, Fort Atkinson\, WI\, 53538\, United States
CATEGORIES:Health & Wellness
ATTACH;FMTTYPE=image/png:https://www.fortatkinsonclub.org/wp-content/uploads/2026/01/NA-logo.png
END:VEVENT
BEGIN:VEVENT
DTSTART;TZID=America/Chicago:20300605T173000
DTEND;TZID=America/Chicago:20300605T183000
DTSTAMP:20260425T073702
CREATED:20260122T203322Z
LAST-MODIFIED:20260122T203322Z
UID:10002560-1906911000-1906914600@www.fortatkinsonclub.org
SUMMARY:Narcotics Anonymous Meeting
DESCRIPTION:Narcotics Anonymous meets in the Lodge room weekly at 5:30.
URL:https://www.fortatkinsonclub.org/event/narcotics-anonymous-meeting/2030-06-05/
LOCATION:211 S Water St E\, 53538\, 211 South Water Street East\, Fort Atkinson\, WI\, 53538\, United States
CATEGORIES:Health & Wellness
ATTACH;FMTTYPE=image/png:https://www.fortatkinsonclub.org/wp-content/uploads/2026/01/NA-logo.png
END:VEVENT
BEGIN:VEVENT
DTSTART;TZID=America/Chicago:20300612T173000
DTEND;TZID=America/Chicago:20300612T183000
DTSTAMP:20260425T073702
CREATED:20260122T203322Z
LAST-MODIFIED:20260122T203322Z
UID:10002561-1907515800-1907519400@www.fortatkinsonclub.org
SUMMARY:Narcotics Anonymous Meeting
DESCRIPTION:Narcotics Anonymous meets in the Lodge room weekly at 5:30.
URL:https://www.fortatkinsonclub.org/event/narcotics-anonymous-meeting/2030-06-12/
LOCATION:211 S Water St E\, 53538\, 211 South Water Street East\, Fort Atkinson\, WI\, 53538\, United States
CATEGORIES:Health & Wellness
ATTACH;FMTTYPE=image/png:https://www.fortatkinsonclub.org/wp-content/uploads/2026/01/NA-logo.png
END:VEVENT
BEGIN:VEVENT
DTSTART;TZID=America/Chicago:20300619T173000
DTEND;TZID=America/Chicago:20300619T183000
DTSTAMP:20260425T073702
CREATED:20260122T203322Z
LAST-MODIFIED:20260122T203322Z
UID:10002562-1908120600-1908124200@www.fortatkinsonclub.org
SUMMARY:Narcotics Anonymous Meeting
DESCRIPTION:Narcotics Anonymous meets in the Lodge room weekly at 5:30.
URL:https://www.fortatkinsonclub.org/event/narcotics-anonymous-meeting/2030-06-19/
LOCATION:211 S Water St E\, 53538\, 211 South Water Street East\, Fort Atkinson\, WI\, 53538\, United States
CATEGORIES:Health & Wellness
ATTACH;FMTTYPE=image/png:https://www.fortatkinsonclub.org/wp-content/uploads/2026/01/NA-logo.png
END:VEVENT
BEGIN:VEVENT
DTSTART;TZID=America/Chicago:20300626T173000
DTEND;TZID=America/Chicago:20300626T183000
DTSTAMP:20260425T073702
CREATED:20260122T203322Z
LAST-MODIFIED:20260122T203322Z
UID:10002563-1908725400-1908729000@www.fortatkinsonclub.org
SUMMARY:Narcotics Anonymous Meeting
DESCRIPTION:Narcotics Anonymous meets in the Lodge room weekly at 5:30.
URL:https://www.fortatkinsonclub.org/event/narcotics-anonymous-meeting/2030-06-26/
LOCATION:211 S Water St E\, 53538\, 211 South Water Street East\, Fort Atkinson\, WI\, 53538\, United States
CATEGORIES:Health & Wellness
ATTACH;FMTTYPE=image/png:https://www.fortatkinsonclub.org/wp-content/uploads/2026/01/NA-logo.png
END:VEVENT
BEGIN:VEVENT
DTSTART;TZID=America/Chicago:20300703T173000
DTEND;TZID=America/Chicago:20300703T183000
DTSTAMP:20260425T073702
CREATED:20260122T203322Z
LAST-MODIFIED:20260122T203322Z
UID:10002564-1909330200-1909333800@www.fortatkinsonclub.org
SUMMARY:Narcotics Anonymous Meeting
DESCRIPTION:Narcotics Anonymous meets in the Lodge room weekly at 5:30.
URL:https://www.fortatkinsonclub.org/event/narcotics-anonymous-meeting/2030-07-03/
LOCATION:211 S Water St E\, 53538\, 211 South Water Street East\, Fort Atkinson\, WI\, 53538\, United States
CATEGORIES:Health & Wellness
ATTACH;FMTTYPE=image/png:https://www.fortatkinsonclub.org/wp-content/uploads/2026/01/NA-logo.png
END:VEVENT
BEGIN:VEVENT
DTSTART;TZID=America/Chicago:20300710T173000
DTEND;TZID=America/Chicago:20300710T183000
DTSTAMP:20260425T073702
CREATED:20260122T203322Z
LAST-MODIFIED:20260122T203322Z
UID:10002565-1909935000-1909938600@www.fortatkinsonclub.org
SUMMARY:Narcotics Anonymous Meeting
DESCRIPTION:Narcotics Anonymous meets in the Lodge room weekly at 5:30.
URL:https://www.fortatkinsonclub.org/event/narcotics-anonymous-meeting/2030-07-10/
LOCATION:211 S Water St E\, 53538\, 211 South Water Street East\, Fort Atkinson\, WI\, 53538\, United States
CATEGORIES:Health & Wellness
ATTACH;FMTTYPE=image/png:https://www.fortatkinsonclub.org/wp-content/uploads/2026/01/NA-logo.png
END:VEVENT
BEGIN:VEVENT
DTSTART;TZID=America/Chicago:20300717T173000
DTEND;TZID=America/Chicago:20300717T183000
DTSTAMP:20260425T073702
CREATED:20260122T203322Z
LAST-MODIFIED:20260122T203322Z
UID:10002566-1910539800-1910543400@www.fortatkinsonclub.org
SUMMARY:Narcotics Anonymous Meeting
DESCRIPTION:Narcotics Anonymous meets in the Lodge room weekly at 5:30.
URL:https://www.fortatkinsonclub.org/event/narcotics-anonymous-meeting/2030-07-17/
LOCATION:211 S Water St E\, 53538\, 211 South Water Street East\, Fort Atkinson\, WI\, 53538\, United States
CATEGORIES:Health & Wellness
ATTACH;FMTTYPE=image/png:https://www.fortatkinsonclub.org/wp-content/uploads/2026/01/NA-logo.png
END:VEVENT
BEGIN:VEVENT
DTSTART;TZID=America/Chicago:20300724T173000
DTEND;TZID=America/Chicago:20300724T183000
DTSTAMP:20260425T073702
CREATED:20260122T203322Z
LAST-MODIFIED:20260122T203322Z
UID:10002567-1911144600-1911148200@www.fortatkinsonclub.org
SUMMARY:Narcotics Anonymous Meeting
DESCRIPTION:Narcotics Anonymous meets in the Lodge room weekly at 5:30.
URL:https://www.fortatkinsonclub.org/event/narcotics-anonymous-meeting/2030-07-24/
LOCATION:211 S Water St E\, 53538\, 211 South Water Street East\, Fort Atkinson\, WI\, 53538\, United States
CATEGORIES:Health & Wellness
ATTACH;FMTTYPE=image/png:https://www.fortatkinsonclub.org/wp-content/uploads/2026/01/NA-logo.png
END:VEVENT
BEGIN:VEVENT
DTSTART;TZID=America/Chicago:20300731T173000
DTEND;TZID=America/Chicago:20300731T183000
DTSTAMP:20260425T073702
CREATED:20260122T203322Z
LAST-MODIFIED:20260122T203322Z
UID:10002568-1911749400-1911753000@www.fortatkinsonclub.org
SUMMARY:Narcotics Anonymous Meeting
DESCRIPTION:Narcotics Anonymous meets in the Lodge room weekly at 5:30.
URL:https://www.fortatkinsonclub.org/event/narcotics-anonymous-meeting/2030-07-31/
LOCATION:211 S Water St E\, 53538\, 211 South Water Street East\, Fort Atkinson\, WI\, 53538\, United States
CATEGORIES:Health & Wellness
ATTACH;FMTTYPE=image/png:https://www.fortatkinsonclub.org/wp-content/uploads/2026/01/NA-logo.png
END:VEVENT
BEGIN:VEVENT
DTSTART;TZID=America/Chicago:20300807T173000
DTEND;TZID=America/Chicago:20300807T183000
DTSTAMP:20260425T073702
CREATED:20260122T203322Z
LAST-MODIFIED:20260122T203322Z
UID:10002569-1912354200-1912357800@www.fortatkinsonclub.org
SUMMARY:Narcotics Anonymous Meeting
DESCRIPTION:Narcotics Anonymous meets in the Lodge room weekly at 5:30.
URL:https://www.fortatkinsonclub.org/event/narcotics-anonymous-meeting/2030-08-07/
LOCATION:211 S Water St E\, 53538\, 211 South Water Street East\, Fort Atkinson\, WI\, 53538\, United States
CATEGORIES:Health & Wellness
ATTACH;FMTTYPE=image/png:https://www.fortatkinsonclub.org/wp-content/uploads/2026/01/NA-logo.png
END:VEVENT
BEGIN:VEVENT
DTSTART;TZID=America/Chicago:20300814T173000
DTEND;TZID=America/Chicago:20300814T183000
DTSTAMP:20260425T073702
CREATED:20260122T203322Z
LAST-MODIFIED:20260122T203322Z
UID:10002570-1912959000-1912962600@www.fortatkinsonclub.org
SUMMARY:Narcotics Anonymous Meeting
DESCRIPTION:Narcotics Anonymous meets in the Lodge room weekly at 5:30.
URL:https://www.fortatkinsonclub.org/event/narcotics-anonymous-meeting/2030-08-14/
LOCATION:211 S Water St E\, 53538\, 211 South Water Street East\, Fort Atkinson\, WI\, 53538\, United States
CATEGORIES:Health & Wellness
ATTACH;FMTTYPE=image/png:https://www.fortatkinsonclub.org/wp-content/uploads/2026/01/NA-logo.png
END:VEVENT
BEGIN:VEVENT
DTSTART;TZID=America/Chicago:20300821T173000
DTEND;TZID=America/Chicago:20300821T183000
DTSTAMP:20260425T073702
CREATED:20260122T203322Z
LAST-MODIFIED:20260122T203322Z
UID:10002571-1913563800-1913567400@www.fortatkinsonclub.org
SUMMARY:Narcotics Anonymous Meeting
DESCRIPTION:Narcotics Anonymous meets in the Lodge room weekly at 5:30.
URL:https://www.fortatkinsonclub.org/event/narcotics-anonymous-meeting/2030-08-21/
LOCATION:211 S Water St E\, 53538\, 211 South Water Street East\, Fort Atkinson\, WI\, 53538\, United States
CATEGORIES:Health & Wellness
ATTACH;FMTTYPE=image/png:https://www.fortatkinsonclub.org/wp-content/uploads/2026/01/NA-logo.png
END:VEVENT
BEGIN:VEVENT
DTSTART;TZID=America/Chicago:20300828T173000
DTEND;TZID=America/Chicago:20300828T183000
DTSTAMP:20260425T073702
CREATED:20260122T203322Z
LAST-MODIFIED:20260122T203322Z
UID:10002572-1914168600-1914172200@www.fortatkinsonclub.org
SUMMARY:Narcotics Anonymous Meeting
DESCRIPTION:Narcotics Anonymous meets in the Lodge room weekly at 5:30.
URL:https://www.fortatkinsonclub.org/event/narcotics-anonymous-meeting/2030-08-28/
LOCATION:211 S Water St E\, 53538\, 211 South Water Street East\, Fort Atkinson\, WI\, 53538\, United States
CATEGORIES:Health & Wellness
ATTACH;FMTTYPE=image/png:https://www.fortatkinsonclub.org/wp-content/uploads/2026/01/NA-logo.png
END:VEVENT
BEGIN:VEVENT
DTSTART;TZID=America/Chicago:20300904T173000
DTEND;TZID=America/Chicago:20300904T183000
DTSTAMP:20260425T073702
CREATED:20260122T203322Z
LAST-MODIFIED:20260122T203322Z
UID:10002573-1914773400-1914777000@www.fortatkinsonclub.org
SUMMARY:Narcotics Anonymous Meeting
DESCRIPTION:Narcotics Anonymous meets in the Lodge room weekly at 5:30.
URL:https://www.fortatkinsonclub.org/event/narcotics-anonymous-meeting/2030-09-04/
LOCATION:211 S Water St E\, 53538\, 211 South Water Street East\, Fort Atkinson\, WI\, 53538\, United States
CATEGORIES:Health & Wellness
ATTACH;FMTTYPE=image/png:https://www.fortatkinsonclub.org/wp-content/uploads/2026/01/NA-logo.png
END:VEVENT
BEGIN:VEVENT
DTSTART;TZID=America/Chicago:20300911T173000
DTEND;TZID=America/Chicago:20300911T183000
DTSTAMP:20260425T073702
CREATED:20260122T203322Z
LAST-MODIFIED:20260122T203322Z
UID:10002574-1915378200-1915381800@www.fortatkinsonclub.org
SUMMARY:Narcotics Anonymous Meeting
DESCRIPTION:Narcotics Anonymous meets in the Lodge room weekly at 5:30.
URL:https://www.fortatkinsonclub.org/event/narcotics-anonymous-meeting/2030-09-11/
LOCATION:211 S Water St E\, 53538\, 211 South Water Street East\, Fort Atkinson\, WI\, 53538\, United States
CATEGORIES:Health & Wellness
ATTACH;FMTTYPE=image/png:https://www.fortatkinsonclub.org/wp-content/uploads/2026/01/NA-logo.png
END:VEVENT
BEGIN:VEVENT
DTSTART;TZID=America/Chicago:20300918T173000
DTEND;TZID=America/Chicago:20300918T183000
DTSTAMP:20260425T073702
CREATED:20260122T203322Z
LAST-MODIFIED:20260122T203322Z
UID:10002575-1915983000-1915986600@www.fortatkinsonclub.org
SUMMARY:Narcotics Anonymous Meeting
DESCRIPTION:Narcotics Anonymous meets in the Lodge room weekly at 5:30.
URL:https://www.fortatkinsonclub.org/event/narcotics-anonymous-meeting/2030-09-18/
LOCATION:211 S Water St E\, 53538\, 211 South Water Street East\, Fort Atkinson\, WI\, 53538\, United States
CATEGORIES:Health & Wellness
ATTACH;FMTTYPE=image/png:https://www.fortatkinsonclub.org/wp-content/uploads/2026/01/NA-logo.png
END:VEVENT
BEGIN:VEVENT
DTSTART;TZID=America/Chicago:20300925T173000
DTEND;TZID=America/Chicago:20300925T183000
DTSTAMP:20260425T073703
CREATED:20260122T203322Z
LAST-MODIFIED:20260122T203322Z
UID:10002576-1916587800-1916591400@www.fortatkinsonclub.org
SUMMARY:Narcotics Anonymous Meeting
DESCRIPTION:Narcotics Anonymous meets in the Lodge room weekly at 5:30.
URL:https://www.fortatkinsonclub.org/event/narcotics-anonymous-meeting/2030-09-25/
LOCATION:211 S Water St E\, 53538\, 211 South Water Street East\, Fort Atkinson\, WI\, 53538\, United States
CATEGORIES:Health & Wellness
ATTACH;FMTTYPE=image/png:https://www.fortatkinsonclub.org/wp-content/uploads/2026/01/NA-logo.png
END:VEVENT
BEGIN:VEVENT
DTSTART;TZID=America/Chicago:20301002T173000
DTEND;TZID=America/Chicago:20301002T183000
DTSTAMP:20260425T073703
CREATED:20260122T203322Z
LAST-MODIFIED:20260122T203322Z
UID:10002577-1917192600-1917196200@www.fortatkinsonclub.org
SUMMARY:Narcotics Anonymous Meeting
DESCRIPTION:Narcotics Anonymous meets in the Lodge room weekly at 5:30.
URL:https://www.fortatkinsonclub.org/event/narcotics-anonymous-meeting/2030-10-02/
LOCATION:211 S Water St E\, 53538\, 211 South Water Street East\, Fort Atkinson\, WI\, 53538\, United States
CATEGORIES:Health & Wellness
ATTACH;FMTTYPE=image/png:https://www.fortatkinsonclub.org/wp-content/uploads/2026/01/NA-logo.png
END:VEVENT
BEGIN:VEVENT
DTSTART;TZID=America/Chicago:20301009T173000
DTEND;TZID=America/Chicago:20301009T183000
DTSTAMP:20260425T073703
CREATED:20260122T203322Z
LAST-MODIFIED:20260122T203322Z
UID:10002578-1917797400-1917801000@www.fortatkinsonclub.org
SUMMARY:Narcotics Anonymous Meeting
DESCRIPTION:Narcotics Anonymous meets in the Lodge room weekly at 5:30.
URL:https://www.fortatkinsonclub.org/event/narcotics-anonymous-meeting/2030-10-09/
LOCATION:211 S Water St E\, 53538\, 211 South Water Street East\, Fort Atkinson\, WI\, 53538\, United States
CATEGORIES:Health & Wellness
ATTACH;FMTTYPE=image/png:https://www.fortatkinsonclub.org/wp-content/uploads/2026/01/NA-logo.png
END:VEVENT
BEGIN:VEVENT
DTSTART;TZID=America/Chicago:20301016T173000
DTEND;TZID=America/Chicago:20301016T183000
DTSTAMP:20260425T073703
CREATED:20260122T203322Z
LAST-MODIFIED:20260122T203322Z
UID:10002579-1918402200-1918405800@www.fortatkinsonclub.org
SUMMARY:Narcotics Anonymous Meeting
DESCRIPTION:Narcotics Anonymous meets in the Lodge room weekly at 5:30.
URL:https://www.fortatkinsonclub.org/event/narcotics-anonymous-meeting/2030-10-16/
LOCATION:211 S Water St E\, 53538\, 211 South Water Street East\, Fort Atkinson\, WI\, 53538\, United States
CATEGORIES:Health & Wellness
ATTACH;FMTTYPE=image/png:https://www.fortatkinsonclub.org/wp-content/uploads/2026/01/NA-logo.png
END:VEVENT
END:VCALENDAR