BEGIN:VCALENDAR
VERSION:2.0
PRODID:-//The Fort Atkinson Club - ECPv6.15.20//NONSGML v1.0//EN
CALSCALE:GREGORIAN
METHOD:PUBLISH
X-WR-CALNAME:The Fort Atkinson Club
X-ORIGINAL-URL:https://www.fortatkinsonclub.org
X-WR-CALDESC:Events for The Fort Atkinson Club
REFRESH-INTERVAL;VALUE=DURATION:PT1H
X-Robots-Tag:noindex
X-PUBLISHED-TTL:PT1H
BEGIN:VTIMEZONE
TZID:America/Chicago
BEGIN:DAYLIGHT
TZOFFSETFROM:-0600
TZOFFSETTO:-0500
TZNAME:CDT
DTSTART:20230312T080000
END:DAYLIGHT
BEGIN:STANDARD
TZOFFSETFROM:-0500
TZOFFSETTO:-0600
TZNAME:CST
DTSTART:20231105T070000
END:STANDARD
BEGIN:DAYLIGHT
TZOFFSETFROM:-0600
TZOFFSETTO:-0500
TZNAME:CDT
DTSTART:20240310T080000
END:DAYLIGHT
BEGIN:STANDARD
TZOFFSETFROM:-0500
TZOFFSETTO:-0600
TZNAME:CST
DTSTART:20241103T070000
END:STANDARD
BEGIN:DAYLIGHT
TZOFFSETFROM:-0600
TZOFFSETTO:-0500
TZNAME:CDT
DTSTART:20250309T080000
END:DAYLIGHT
BEGIN:STANDARD
TZOFFSETFROM:-0500
TZOFFSETTO:-0600
TZNAME:CST
DTSTART:20251102T070000
END:STANDARD
BEGIN:DAYLIGHT
TZOFFSETFROM:-0600
TZOFFSETTO:-0500
TZNAME:CDT
DTSTART:20260308T080000
END:DAYLIGHT
BEGIN:STANDARD
TZOFFSETFROM:-0500
TZOFFSETTO:-0600
TZNAME:CST
DTSTART:20261101T070000
END:STANDARD
BEGIN:DAYLIGHT
TZOFFSETFROM:-0600
TZOFFSETTO:-0500
TZNAME:CDT
DTSTART:20270314T080000
END:DAYLIGHT
BEGIN:STANDARD
TZOFFSETFROM:-0500
TZOFFSETTO:-0600
TZNAME:CST
DTSTART:20271107T070000
END:STANDARD
END:VTIMEZONE
BEGIN:VEVENT
DTSTART;TZID=America/Chicago:20260422T173000
DTEND;TZID=America/Chicago:20260422T183000
DTSTAMP:20260423T095433
CREATED:20260122T203322Z
LAST-MODIFIED:20260122T203322Z
UID:10002345-1776879000-1776882600@www.fortatkinsonclub.org
SUMMARY:Narcotics Anonymous Meeting
DESCRIPTION:Narcotics Anonymous meets in the Lodge room weekly at 5:30.
URL:https://www.fortatkinsonclub.org/event/narcotics-anonymous-meeting/2026-04-22/
LOCATION:211 S Water St E\, 53538\, 211 South Water Street East\, Fort Atkinson\, WI\, 53538\, United States
CATEGORIES:Health & Wellness
ATTACH;FMTTYPE=image/png:https://www.fortatkinsonclub.org/wp-content/uploads/2026/01/NA-logo.png
END:VEVENT
BEGIN:VEVENT
DTSTART;TZID=America/Chicago:20260415T173000
DTEND;TZID=America/Chicago:20260415T183000
DTSTAMP:20260423T095433
CREATED:20260122T203322Z
LAST-MODIFIED:20260122T203322Z
UID:10002344-1776274200-1776277800@www.fortatkinsonclub.org
SUMMARY:Narcotics Anonymous Meeting
DESCRIPTION:Narcotics Anonymous meets in the Lodge room weekly at 5:30.
URL:https://www.fortatkinsonclub.org/event/narcotics-anonymous-meeting/2026-04-15/
LOCATION:211 S Water St E\, 53538\, 211 South Water Street East\, Fort Atkinson\, WI\, 53538\, United States
CATEGORIES:Health & Wellness
ATTACH;FMTTYPE=image/png:https://www.fortatkinsonclub.org/wp-content/uploads/2026/01/NA-logo.png
END:VEVENT
BEGIN:VEVENT
DTSTART;TZID=America/Chicago:20260408T173000
DTEND;TZID=America/Chicago:20260408T183000
DTSTAMP:20260423T095433
CREATED:20260122T203322Z
LAST-MODIFIED:20260122T203322Z
UID:10002343-1775669400-1775673000@www.fortatkinsonclub.org
SUMMARY:Narcotics Anonymous Meeting
DESCRIPTION:Narcotics Anonymous meets in the Lodge room weekly at 5:30.
URL:https://www.fortatkinsonclub.org/event/narcotics-anonymous-meeting/2026-04-08/
LOCATION:211 S Water St E\, 53538\, 211 South Water Street East\, Fort Atkinson\, WI\, 53538\, United States
CATEGORIES:Health & Wellness
ATTACH;FMTTYPE=image/png:https://www.fortatkinsonclub.org/wp-content/uploads/2026/01/NA-logo.png
END:VEVENT
BEGIN:VEVENT
DTSTART;TZID=America/Chicago:20260404T090000
DTEND;TZID=America/Chicago:20260404T120000
DTSTAMP:20260423T095433
CREATED:20260210T014558Z
LAST-MODIFIED:20260210T014558Z
UID:10002597-1775293200-1775304000@www.fortatkinsonclub.org
SUMMARY:Spring Into Wellness
DESCRIPTION:Join us for a FREE\, community-wide health and wellness event—now in its third year and proudly sponsored by Fort Healthcare. This event brings together local health and wellness vendors and organizations\, engaging fitness classes\, and complimentary snacks\, all designed to support and inspire your wellness journey. Spend the day connecting with health-focused experts\, learning practical skills\, and discovering resources that empower our community to feel better\, move more\, and stay prepared. \nOn the main floor\, explore a variety of vendors and community partners offering wellness services\, education\, and resources to help you maintain a healthier lifestyle. Participating vendors and organizations include: \n\nJefferson County Health Department\nFort HealthCare\nHometown Pharmacy\nFort Community Credit Union\nRock River Dental\nNancy Shea Clinical EFT\nFort Atkinson Senior Center\n\n**Interested in joining as a vendor? To reserve your space\, a $25 refundable deposit is required\, which will be returned at the end of the event. Please register before February 15. REGISTER HERE.\nOn the River/Lower Level\, participate in 25-minute fitness classes suitable for all levels\, including Chair Yoga and Standing Yoga.\n\nOn the Theater Level (2nd Floor)\, learn valuable emergency preparedness skills through hands-on demonstrations and training\, including AED use\, hands-only CPR\, and Narcan administration.
URL:https://www.fortatkinsonclub.org/event/spring-into-wellness/
LOCATION:211 S Water St E\, 53538\, 211 South Water Street East\, Fort Atkinson\, WI\, 53538\, United States
CATEGORIES:Health & Wellness
ATTACH;FMTTYPE=image/png:https://www.fortatkinsonclub.org/wp-content/uploads/2026/02/wellness-day-2026.png
END:VEVENT
BEGIN:VEVENT
DTSTART;TZID=America/Chicago:20260401T173000
DTEND;TZID=America/Chicago:20260401T183000
DTSTAMP:20260423T095433
CREATED:20260122T203322Z
LAST-MODIFIED:20260122T203322Z
UID:10002342-1775064600-1775068200@www.fortatkinsonclub.org
SUMMARY:Narcotics Anonymous Meeting
DESCRIPTION:Narcotics Anonymous meets in the Lodge room weekly at 5:30.
URL:https://www.fortatkinsonclub.org/event/narcotics-anonymous-meeting/2026-04-01/
LOCATION:211 S Water St E\, 53538\, 211 South Water Street East\, Fort Atkinson\, WI\, 53538\, United States
CATEGORIES:Health & Wellness
ATTACH;FMTTYPE=image/png:https://www.fortatkinsonclub.org/wp-content/uploads/2026/01/NA-logo.png
END:VEVENT
BEGIN:VEVENT
DTSTART;TZID=America/Chicago:20260325T173000
DTEND;TZID=America/Chicago:20260325T183000
DTSTAMP:20260423T095433
CREATED:20260122T203322Z
LAST-MODIFIED:20260122T203322Z
UID:10002341-1774459800-1774463400@www.fortatkinsonclub.org
SUMMARY:Narcotics Anonymous Meeting
DESCRIPTION:Narcotics Anonymous meets in the Lodge room weekly at 5:30.
URL:https://www.fortatkinsonclub.org/event/narcotics-anonymous-meeting/2026-03-25/
LOCATION:211 S Water St E\, 53538\, 211 South Water Street East\, Fort Atkinson\, WI\, 53538\, United States
CATEGORIES:Health & Wellness
ATTACH;FMTTYPE=image/png:https://www.fortatkinsonclub.org/wp-content/uploads/2026/01/NA-logo.png
END:VEVENT
BEGIN:VEVENT
DTSTART;TZID=America/Chicago:20260318T173000
DTEND;TZID=America/Chicago:20260318T183000
DTSTAMP:20260423T095433
CREATED:20260122T203322Z
LAST-MODIFIED:20260122T203322Z
UID:10002340-1773855000-1773858600@www.fortatkinsonclub.org
SUMMARY:Narcotics Anonymous Meeting
DESCRIPTION:Narcotics Anonymous meets in the Lodge room weekly at 5:30.
URL:https://www.fortatkinsonclub.org/event/narcotics-anonymous-meeting/2026-03-18/
LOCATION:211 S Water St E\, 53538\, 211 South Water Street East\, Fort Atkinson\, WI\, 53538\, United States
CATEGORIES:Health & Wellness
ATTACH;FMTTYPE=image/png:https://www.fortatkinsonclub.org/wp-content/uploads/2026/01/NA-logo.png
END:VEVENT
BEGIN:VEVENT
DTSTART;TZID=America/Chicago:20260311T173000
DTEND;TZID=America/Chicago:20260311T183000
DTSTAMP:20260423T095433
CREATED:20260122T203322Z
LAST-MODIFIED:20260122T203322Z
UID:10002339-1773250200-1773253800@www.fortatkinsonclub.org
SUMMARY:Narcotics Anonymous Meeting
DESCRIPTION:Narcotics Anonymous meets in the Lodge room weekly at 5:30.
URL:https://www.fortatkinsonclub.org/event/narcotics-anonymous-meeting/2026-03-11/
LOCATION:211 S Water St E\, 53538\, 211 South Water Street East\, Fort Atkinson\, WI\, 53538\, United States
CATEGORIES:Health & Wellness
ATTACH;FMTTYPE=image/png:https://www.fortatkinsonclub.org/wp-content/uploads/2026/01/NA-logo.png
END:VEVENT
BEGIN:VEVENT
DTSTART;TZID=America/Chicago:20260304T173000
DTEND;TZID=America/Chicago:20260304T183000
DTSTAMP:20260423T095433
CREATED:20260122T203322Z
LAST-MODIFIED:20260122T203322Z
UID:10002338-1772645400-1772649000@www.fortatkinsonclub.org
SUMMARY:Narcotics Anonymous Meeting
DESCRIPTION:Narcotics Anonymous meets in the Lodge room weekly at 5:30.
URL:https://www.fortatkinsonclub.org/event/narcotics-anonymous-meeting/2026-03-04/
LOCATION:211 S Water St E\, 53538\, 211 South Water Street East\, Fort Atkinson\, WI\, 53538\, United States
CATEGORIES:Health & Wellness
ATTACH;FMTTYPE=image/png:https://www.fortatkinsonclub.org/wp-content/uploads/2026/01/NA-logo.png
END:VEVENT
BEGIN:VEVENT
DTSTART;TZID=America/Chicago:20260225T173000
DTEND;TZID=America/Chicago:20260225T183000
DTSTAMP:20260423T095433
CREATED:20260122T203322Z
LAST-MODIFIED:20260122T203322Z
UID:10002337-1772040600-1772044200@www.fortatkinsonclub.org
SUMMARY:Narcotics Anonymous Meeting
DESCRIPTION:Narcotics Anonymous meets in the Lodge room weekly at 5:30.
URL:https://www.fortatkinsonclub.org/event/narcotics-anonymous-meeting/2026-02-25/
LOCATION:211 S Water St E\, 53538\, 211 South Water Street East\, Fort Atkinson\, WI\, 53538\, United States
CATEGORIES:Health & Wellness
ATTACH;FMTTYPE=image/png:https://www.fortatkinsonclub.org/wp-content/uploads/2026/01/NA-logo.png
END:VEVENT
BEGIN:VEVENT
DTSTART;TZID=America/Chicago:20260218T173000
DTEND;TZID=America/Chicago:20260218T183000
DTSTAMP:20260423T095433
CREATED:20260122T203322Z
LAST-MODIFIED:20260122T203322Z
UID:10002336-1771435800-1771439400@www.fortatkinsonclub.org
SUMMARY:Narcotics Anonymous Meeting
DESCRIPTION:Narcotics Anonymous meets in the Lodge room weekly at 5:30.
URL:https://www.fortatkinsonclub.org/event/narcotics-anonymous-meeting/2026-02-18/
LOCATION:211 S Water St E\, 53538\, 211 South Water Street East\, Fort Atkinson\, WI\, 53538\, United States
CATEGORIES:Health & Wellness
ATTACH;FMTTYPE=image/png:https://www.fortatkinsonclub.org/wp-content/uploads/2026/01/NA-logo.png
END:VEVENT
BEGIN:VEVENT
DTSTART;TZID=America/Chicago:20260217T180000
DTEND;TZID=America/Chicago:20260217T193000
DTSTAMP:20260423T095433
CREATED:20260210T182449Z
LAST-MODIFIED:20260211T154300Z
UID:10002598-1771351200-1771356600@www.fortatkinsonclub.org
SUMMARY:Introduction to Emotional Freedom Techniques
DESCRIPTION:Our community is navigating unprecedented levels of anxiety\, stress\, and uncertainty. Current research shows that stress has reached epidemic proportions\, affecting not only our emotional well-being but also our physical health. Now more than ever\, accessible tools for calming the nervous system and restoring balance are essential. Mindfulness and Emotional Freedom Techniques (EFT) are both simple\, evidencesupported practices. Yet many people find traditional mindfulness or breathwork difficult to access when they’re overwhelmed. EFT offers a more active\, hands-on approach that often feels easier to learn and apply in moments of stress. EFT is a practical stressmanagement method that has been shown to reduce the body’s stress response and support immune function. Developed in the 1970s\, it has become one of the most widely researched mindbody interventions for stress\, anxiety\, and PTSD since 2010. Research consistently demonstrates its effectiveness both as a selfcare practice and\, when facilitated by a trained practitioner\, as a therapeutic intervention. \nEFT—often referred to as “tapping”—involves gently tapping on specific energy meridian points to calm the body’s anxiety response. Think of it as acupuncture without needles. The technique uses nine meridian points on the face and upper body in a simple sequence that can be completed in just minutes. \nParticipants will:\n Learn EFT techniques for selfcare and improved wellbeing\n Understand the science behind EFT and how it works\n Explore research on its effectiveness for stress\, anxiety\, trauma\, and more\n Experience a guided group tapping demonstration\n Identify next steps for building a personalized stressreduction plan \nThe heart of this presentation is to strengthen the health and resilience of our community. \nAbout the Presenter\nNancy Shea\, MSE is a Certified Clinical EFT Practitioner with more than 30 years of experience in the mental health field in Jefferson County. I hold a master’s degree in counseling and guidance\, and I have had the privilege of providing EFT training to the Madison Metropolitan Police Department’s peer support team. My work is dedicated to helping individuals and communities access practical tools for emotional balance\, resilience\, and wellbeing.
URL:https://www.fortatkinsonclub.org/event/introduction-to-emotional-freedom-techniques/
LOCATION:211 S Water St E\, 53538\, 211 South Water Street East\, Fort Atkinson\, WI\, 53538\, United States
CATEGORIES:Health & Wellness
ATTACH;FMTTYPE=image/png:https://www.fortatkinsonclub.org/wp-content/uploads/2026/02/Outlook-dvdp4c45-e1770824200702.png
END:VEVENT
BEGIN:VEVENT
DTSTART;TZID=America/Chicago:20260211T173000
DTEND;TZID=America/Chicago:20260211T183000
DTSTAMP:20260423T095433
CREATED:20260122T203322Z
LAST-MODIFIED:20260122T203322Z
UID:10002335-1770831000-1770834600@www.fortatkinsonclub.org
SUMMARY:Narcotics Anonymous Meeting
DESCRIPTION:Narcotics Anonymous meets in the Lodge room weekly at 5:30.
URL:https://www.fortatkinsonclub.org/event/narcotics-anonymous-meeting/2026-02-11/
LOCATION:211 S Water St E\, 53538\, 211 South Water Street East\, Fort Atkinson\, WI\, 53538\, United States
CATEGORIES:Health & Wellness
ATTACH;FMTTYPE=image/png:https://www.fortatkinsonclub.org/wp-content/uploads/2026/01/NA-logo.png
END:VEVENT
BEGIN:VEVENT
DTSTART;TZID=America/Chicago:20260204T173000
DTEND;TZID=America/Chicago:20260204T183000
DTSTAMP:20260423T095433
CREATED:20260122T203322Z
LAST-MODIFIED:20260122T203322Z
UID:10002334-1770226200-1770229800@www.fortatkinsonclub.org
SUMMARY:Narcotics Anonymous Meeting
DESCRIPTION:Narcotics Anonymous meets in the Lodge room weekly at 5:30.
URL:https://www.fortatkinsonclub.org/event/narcotics-anonymous-meeting/2026-02-04/
LOCATION:211 S Water St E\, 53538\, 211 South Water Street East\, Fort Atkinson\, WI\, 53538\, United States
CATEGORIES:Health & Wellness
ATTACH;FMTTYPE=image/png:https://www.fortatkinsonclub.org/wp-content/uploads/2026/01/NA-logo.png
END:VEVENT
BEGIN:VEVENT
DTSTART;TZID=America/Chicago:20260128T173000
DTEND;TZID=America/Chicago:20260128T183000
DTSTAMP:20260423T095433
CREATED:20260122T203322Z
LAST-MODIFIED:20260122T203322Z
UID:10002333-1769621400-1769625000@www.fortatkinsonclub.org
SUMMARY:Narcotics Anonymous Meeting
DESCRIPTION:Narcotics Anonymous meets in the Lodge room weekly at 5:30.
URL:https://www.fortatkinsonclub.org/event/narcotics-anonymous-meeting/2026-01-28/
LOCATION:211 S Water St E\, 53538\, 211 South Water Street East\, Fort Atkinson\, WI\, 53538\, United States
CATEGORIES:Health & Wellness
ATTACH;FMTTYPE=image/png:https://www.fortatkinsonclub.org/wp-content/uploads/2026/01/NA-logo.png
END:VEVENT
BEGIN:VEVENT
DTSTART;TZID=America/Chicago:20260112T180000
DTEND;TZID=America/Chicago:20260112T193000
DTSTAMP:20260423T095433
CREATED:20260102T171552Z
LAST-MODIFIED:20260102T171552Z
UID:10002294-1768240800-1768246200@www.fortatkinsonclub.org
SUMMARY:FAC Taste: Well-Balanced Wellness with Krissy Weisgerber\, MS\, RDN
DESCRIPTION:Wellness has many components and every little bit counts!  Learn about the core requirements of nutrition and fitness that increase overall wellness.
URL:https://www.fortatkinsonclub.org/event/fac-taste-well-balanced-wellness-with-krissy-weisgerber-ms-rdn/
LOCATION:211 S Water St E\, 53538\, 211 South Water Street East\, Fort Atkinson\, WI\, 53538\, United States
CATEGORIES:Community,Health & Wellness
ATTACH;FMTTYPE=image/png:https://www.fortatkinsonclub.org/wp-content/uploads/2026/01/FAC-Taste-Well-Balanced-Wellness-Cover.png
END:VEVENT
BEGIN:VEVENT
DTSTART;VALUE=DATE:20260112
DTEND;VALUE=DATE:20260224
DTSTAMP:20260423T095433
CREATED:20260102T175412Z
LAST-MODIFIED:20260102T175412Z
UID:10002295-1768176000-1771891199@www.fortatkinsonclub.org
SUMMARY:Winter Wellness Warm-Up
DESCRIPTION:Winter is here—and it’s the perfect time to warm up your wellness routine! \nFrom January 12 through February 23\, Fort HealthCare and the Jefferson County Health Department invite YOU (and your friends\, family\, neighbors—everyone!) to join this FREE Winter Community Health Challenge\, called “Winter Wellness Warm-Up”. \nHere’s how it works:\n• Print your wellness calendar (English\, Spanish)\n• Each day\, complete the small\, doable wellness task listed\n• Check off your progress—more boxes = more prize entries!\n• Turn in your completed calendar between February 23–March 1\n• Prize winners announced the week of March 2nd \nWhy join?\n• It’s completely FREE\n• Fun + flexible = fits your winter schedule\n• Simple daily actions → BIG wellness wins\n• Chance to win prizes just for taking care of yourself \nHow to get started: \n\nDownload and print your calendar\nBegin checking off daily wellness tasks starting January 12\nDrop off your finished calendar (Feb. 23–Mar. 1) at:\n\nFort Memorial Hospital front desk\nJefferson County Health Department\nOr scan/photo & email to wellness.advisor@forthc.com\n\n\nSit tight for prize drawings the week of March 2!\n\n\nLet’s make this winter about staying active\, boosting energy\, and taking care of ourselves—one small step at a time. Who’s ready to warm things up?
URL:https://www.fortatkinsonclub.org/event/winter-wellness-warm-up/
LOCATION:WI
CATEGORIES:Community,Health & Wellness
ATTACH;FMTTYPE=image/png:https://www.fortatkinsonclub.org/wp-content/uploads/2026/01/Screenshot-2026-01-02-at-11.47.39-AM-e1767376889830.png
END:VEVENT
BEGIN:VEVENT
DTSTART;TZID=America/Chicago:20251215T090000
DTEND;TZID=America/Chicago:20251215T140000
DTSTAMP:20260423T095433
CREATED:20251022T191246Z
LAST-MODIFIED:20251030T173210Z
UID:10002258-1765789200-1765807200@www.fortatkinsonclub.org
SUMMARY:Blood Drive
DESCRIPTION:This holiday season\, when you give blood\, you give an invitation to your Crowded Table – to your gathering\, your celebration\, your joy. You save the lives of others – and you save them a seat. You extend a helping hand – and you hold hands in grace and gratitude. Together\, we gather. Give the greatest gift of all. \nSchedule Your Donation
URL:https://www.fortatkinsonclub.org/event/blood-drive-7/
LOCATION:211 S Water St E\, 53538\, 211 South Water Street East\, Fort Atkinson\, WI\, 53538\, United States
CATEGORIES:Health & Wellness
ATTACH;FMTTYPE=image/jpeg:https://www.fortatkinsonclub.org/wp-content/uploads/2025/10/Holiday_of_Hope_Social_Graphic.jpg
END:VEVENT
BEGIN:VEVENT
DTSTART;TZID=America/Chicago:20251020T140000
DTEND;TZID=America/Chicago:20251020T190000
DTSTAMP:20260423T095433
CREATED:20250919T171904Z
LAST-MODIFIED:20250925T160108Z
UID:10002250-1760968800-1760986800@www.fortatkinsonclub.org
SUMMARY:Blood Drive sponsored by Fort HealthCare
DESCRIPTION:Don’t ghost us this Halloween season —book your blood donation appointment today and save lives. \nOne donation can help save up to three lives! \nHelp those in need by donating blood. Schedule your donation today! Schedule
URL:https://www.fortatkinsonclub.org/event/blood-drive-sponsored-by-fort-healthcare/
LOCATION:211 S Water St E\, 53538\, 211 South Water Street East\, Fort Atkinson\, WI\, 53538\, United States
CATEGORIES:Health & Wellness
ATTACH;FMTTYPE=image/png:https://www.fortatkinsonclub.org/wp-content/uploads/2025/09/Dont_Ghost_Us.png
END:VEVENT
BEGIN:VEVENT
DTSTART;TZID=America/Chicago:20250616T090000
DTEND;TZID=America/Chicago:20250616T140000
DTSTAMP:20260423T095433
CREATED:20250520T010815Z
LAST-MODIFIED:20250520T011757Z
UID:10002240-1750064400-1750082400@www.fortatkinsonclub.org
SUMMARY:Blood Drive
DESCRIPTION:Escape to somewhere nice: Feeling cooped up? After a long winter indoors\, it’s time for a change of scenery — and donating blood is the perfect excuse to get out! With our free air conditioning\, free refreshments\, and friendly atmosphere\, our blood drive could be the nicest escape for donors \nDid you know that shortages of all blood types most often occur during the summer and winter holidays? Take just one hour out of your summer plans and donate blood\, save lives\, and help prevent summer shortages. \nSchedule your donation
URL:https://www.fortatkinsonclub.org/event/blood-drive-6/
LOCATION:211 S Water St E\, 53538\, 211 South Water Street East\, Fort Atkinson\, WI\, 53538\, United States
CATEGORIES:Health & Wellness
ATTACH;FMTTYPE=image/png:https://www.fortatkinsonclub.org/wp-content/uploads/2025/05/June_July_Drive_1080x1080.png
END:VEVENT
BEGIN:VEVENT
DTSTART;TZID=America/Chicago:20250421T090000
DTEND;TZID=America/Chicago:20250421T140000
DTSTAMP:20260423T095433
CREATED:20250315T174805Z
LAST-MODIFIED:20250315T174805Z
UID:10002231-1745226000-1745244000@www.fortatkinsonclub.org
SUMMARY:April Blood Drive
DESCRIPTION:Pow! Zap! Bam! Kablooey! The super strength coursing through your veins can pulverize villainous blood shortages. Schedule your donation HERE.
URL:https://www.fortatkinsonclub.org/event/blood-drive-april-2025/
LOCATION:211 S Water St E\, 53538\, 211 South Water Street East\, Fort Atkinson\, WI\, 53538\, United States
CATEGORIES:Health & Wellness
ATTACH;FMTTYPE=image/png:https://www.fortatkinsonclub.org/wp-content/uploads/2025/03/april-blood-drive.png
END:VEVENT
BEGIN:VEVENT
DTSTART;TZID=America/Chicago:20250217T090000
DTEND;TZID=America/Chicago:20250217T133000
DTSTAMP:20260423T095433
CREATED:20250205T214247Z
LAST-MODIFIED:20250205T214247Z
UID:10002228-1739782800-1739799000@www.fortatkinsonclub.org
SUMMARY:Blood Drive
DESCRIPTION:It’s American Heart Month! Celebrate by donating blood. Schedule your donation HERE.
URL:https://www.fortatkinsonclub.org/event/blood-drive-5/
LOCATION:211 S Water St E\, 53538\, 211 South Water Street East\, Fort Atkinson\, WI\, 53538\, United States
CATEGORIES:Health & Wellness
ATTACH;FMTTYPE=image/gif:https://www.fortatkinsonclub.org/wp-content/uploads/2025/02/AmericanHeartMonth1080x1080.gif
END:VEVENT
BEGIN:VEVENT
DTSTART;TZID=America/Chicago:20250201T100000
DTEND;TZID=America/Chicago:20250201T130000
DTSTAMP:20260423T095433
CREATED:20241115T191106Z
LAST-MODIFIED:20241115T191106Z
UID:10002139-1738404000-1738414800@www.fortatkinsonclub.org
SUMMARY:Wellness Day 2025
DESCRIPTION:
URL:https://www.fortatkinsonclub.org/event/wellness-day-2025/
LOCATION:211 S Water St E\, 53538\, 211 South Water Street East\, Fort Atkinson\, WI\, 53538\, United States
CATEGORIES:Health & Wellness
ATTACH;FMTTYPE=image/png:https://www.fortatkinsonclub.org/wp-content/uploads/2024/11/Wellness-Day_2025_Square.png
END:VEVENT
BEGIN:VEVENT
DTSTART;TZID=America/Chicago:20241106T090000
DTEND;TZID=America/Chicago:20241106T160000
DTSTAMP:20260423T095433
CREATED:20241003T193624Z
LAST-MODIFIED:20241003T193624Z
UID:10002129-1730883600-1730908800@www.fortatkinsonclub.org
SUMMARY:A Day at the Club: Caregiver Retreat
DESCRIPTION:
URL:https://www.fortatkinsonclub.org/event/a-day-at-the-club-caregiver-retreat/
LOCATION:211 S Water St E\, 53538\, 211 South Water Street East\, Fort Atkinson\, WI\, 53538\, United States
CATEGORIES:Community,Health & Wellness
ATTACH;FMTTYPE=image/png:https://www.fortatkinsonclub.org/wp-content/uploads/2024/10/BPDD-square-graphic.png
END:VEVENT
BEGIN:VEVENT
DTSTART;TZID=America/Chicago:20240925T170000
DTEND;TZID=America/Chicago:20240925T190000
DTSTAMP:20260423T095433
CREATED:20240904T135815Z
LAST-MODIFIED:20240904T140013Z
UID:10002110-1727283600-1727290800@www.fortatkinsonclub.org
SUMMARY:Medicare Education Seminar
DESCRIPTION:Join us for a free Medicare seminar hosted by WPS Health Insurance and sponsored by Day Insurance. This event is perfect for those about to start Medicare or those already enrolled who want to learn more about their options. Please RSVP to Day Insurance at 920-563-5872 to save your seat\, but walk-ins are also welcome!
URL:https://www.fortatkinsonclub.org/event/medicare-education-seminar/
LOCATION:211 S Water St E\, 53538\, 211 South Water Street East\, Fort Atkinson\, WI\, 53538\, United States
CATEGORIES:Community,Health & Wellness
ATTACH;FMTTYPE=image/png:https://www.fortatkinsonclub.org/wp-content/uploads/2024/09/medicare-seminar-graphic-e1725458365739.png
END:VEVENT
END:VCALENDAR