BEGIN:VCALENDAR
VERSION:2.0
PRODID:-//The Fort Atkinson Club - ECPv6.15.20//NONSGML v1.0//EN
CALSCALE:GREGORIAN
METHOD:PUBLISH
X-WR-CALNAME:The Fort Atkinson Club
X-ORIGINAL-URL:https://www.fortatkinsonclub.org
X-WR-CALDESC:Events for The Fort Atkinson Club
REFRESH-INTERVAL;VALUE=DURATION:PT1H
X-Robots-Tag:noindex
X-PUBLISHED-TTL:PT1H
BEGIN:VTIMEZONE
TZID:America/Chicago
BEGIN:DAYLIGHT
TZOFFSETFROM:-0600
TZOFFSETTO:-0500
TZNAME:CDT
DTSTART:20250309T080000
END:DAYLIGHT
BEGIN:STANDARD
TZOFFSETFROM:-0500
TZOFFSETTO:-0600
TZNAME:CST
DTSTART:20251102T070000
END:STANDARD
BEGIN:DAYLIGHT
TZOFFSETFROM:-0600
TZOFFSETTO:-0500
TZNAME:CDT
DTSTART:20260308T080000
END:DAYLIGHT
BEGIN:STANDARD
TZOFFSETFROM:-0500
TZOFFSETTO:-0600
TZNAME:CST
DTSTART:20261101T070000
END:STANDARD
BEGIN:DAYLIGHT
TZOFFSETFROM:-0600
TZOFFSETTO:-0500
TZNAME:CDT
DTSTART:20270314T080000
END:DAYLIGHT
BEGIN:STANDARD
TZOFFSETFROM:-0500
TZOFFSETTO:-0600
TZNAME:CST
DTSTART:20271107T070000
END:STANDARD
END:VTIMEZONE
BEGIN:VEVENT
DTSTART;TZID=America/Chicago:20260519T180000
DTEND;TZID=America/Chicago:20260519T190000
DTSTAMP:20260423T045602
CREATED:20260319T151837Z
LAST-MODIFIED:20260319T151837Z
UID:10002682-1779213600-1779217200@www.fortatkinsonclub.org
SUMMARY:FAC Talk: The Prairie Enthusiasts
DESCRIPTION:When the settlers arrived in the upper Midwest\, there were millions of acres of rich\, diverse\, tall grass prairie and related oak ecosystems. Now only a tiny fraction of those systems remain\, mostly in areas unsuitable for plowing. Moreover\, much of that remaining tiny fraction is in a state of ongoing decline or susceptible to development. \nThe goal of The Prairie Enthusiasts (TPE) is to reverse that decline. It should be noted that it is of particular importance that we return fire to these “fire-dependent oak ecosystems” in order to foster their diversity and well-being.
URL:https://www.fortatkinsonclub.org/event/fac-talk-the-prairie-enthusiasts/
LOCATION:211 S Water St E\, 53538\, 211 South Water Street East\, Fort Atkinson\, WI\, 53538\, United States
CATEGORIES:Community,FAC Talk
ATTACH;FMTTYPE=image/png:https://www.fortatkinsonclub.org/wp-content/uploads/2026/03/FAC-Talk-The-Prairie-Enthusiasts_cover-graphic.png
END:VEVENT
END:VCALENDAR