BEGIN:VCALENDAR
VERSION:2.0
PRODID:-//The Fort Atkinson Club - ECPv6.15.20//NONSGML v1.0//EN
CALSCALE:GREGORIAN
METHOD:PUBLISH
X-ORIGINAL-URL:https://www.fortatkinsonclub.org
X-WR-CALDESC:Events for The Fort Atkinson Club
REFRESH-INTERVAL;VALUE=DURATION:PT1H
X-Robots-Tag:noindex
X-PUBLISHED-TTL:PT1H
BEGIN:VTIMEZONE
TZID:America/Chicago
BEGIN:DAYLIGHT
TZOFFSETFROM:-0600
TZOFFSETTO:-0500
TZNAME:CDT
DTSTART:20250309T080000
END:DAYLIGHT
BEGIN:STANDARD
TZOFFSETFROM:-0500
TZOFFSETTO:-0600
TZNAME:CST
DTSTART:20251102T070000
END:STANDARD
BEGIN:DAYLIGHT
TZOFFSETFROM:-0600
TZOFFSETTO:-0500
TZNAME:CDT
DTSTART:20260308T080000
END:DAYLIGHT
BEGIN:STANDARD
TZOFFSETFROM:-0500
TZOFFSETTO:-0600
TZNAME:CST
DTSTART:20261101T070000
END:STANDARD
BEGIN:DAYLIGHT
TZOFFSETFROM:-0600
TZOFFSETTO:-0500
TZNAME:CDT
DTSTART:20270314T080000
END:DAYLIGHT
BEGIN:STANDARD
TZOFFSETFROM:-0500
TZOFFSETTO:-0600
TZNAME:CST
DTSTART:20271107T070000
END:STANDARD
END:VTIMEZONE
BEGIN:VEVENT
DTSTART;TZID=America/Chicago:20260211T180000
DTEND;TZID=America/Chicago:20260211T193000
DTSTAMP:20260423T020016
CREATED:20260115T173318Z
LAST-MODIFIED:20260121T165849Z
UID:10002331-1770832800-1770838200@www.fortatkinsonclub.org
SUMMARY:Build Local: Practical IT for Small Business
DESCRIPTION:Riley Nevins of BadgerLayer will deliver a straightforward\, non-technical talk on the IT and security issues small businesses run into most (and what to do about them). \n\n\n\n\nThe goal of this educational presentation is to outline the real-world problems we’ve seen so far with local businesses\, dive into the cost of downtime and system outages\, and ultimately developing action plans for outages and failures. Riley will also offer attendees a quick security check (or similar quick assessment) as a thank-you for coming\, and another way to get immediate value from attending.
URL:https://www.fortatkinsonclub.org/event/build-local-practical-it-for-small-business/
LOCATION:211 S Water St E\, 53538\, 211 South Water Street East\, Fort Atkinson\, WI\, 53538\, United States
CATEGORIES:Business Development
ATTACH;FMTTYPE=image/png:https://www.fortatkinsonclub.org/wp-content/uploads/2026/01/Build-Local-Q1-2026-1.png
END:VEVENT
END:VCALENDAR