BEGIN:VCALENDAR
VERSION:2.0
PRODID:-//The Fort Atkinson Club - ECPv6.15.20//NONSGML v1.0//EN
CALSCALE:GREGORIAN
METHOD:PUBLISH
X-WR-CALNAME:The Fort Atkinson Club
X-ORIGINAL-URL:https://www.fortatkinsonclub.org
X-WR-CALDESC:Events for The Fort Atkinson Club
REFRESH-INTERVAL;VALUE=DURATION:PT1H
X-Robots-Tag:noindex
X-PUBLISHED-TTL:PT1H
BEGIN:VTIMEZONE
TZID:America/Chicago
BEGIN:DAYLIGHT
TZOFFSETFROM:-0600
TZOFFSETTO:-0500
TZNAME:CDT
DTSTART:20250309T080000
END:DAYLIGHT
BEGIN:STANDARD
TZOFFSETFROM:-0500
TZOFFSETTO:-0600
TZNAME:CST
DTSTART:20251102T070000
END:STANDARD
BEGIN:DAYLIGHT
TZOFFSETFROM:-0600
TZOFFSETTO:-0500
TZNAME:CDT
DTSTART:20260308T080000
END:DAYLIGHT
BEGIN:STANDARD
TZOFFSETFROM:-0500
TZOFFSETTO:-0600
TZNAME:CST
DTSTART:20261101T070000
END:STANDARD
BEGIN:DAYLIGHT
TZOFFSETFROM:-0600
TZOFFSETTO:-0500
TZNAME:CDT
DTSTART:20270314T080000
END:DAYLIGHT
BEGIN:STANDARD
TZOFFSETFROM:-0500
TZOFFSETTO:-0600
TZNAME:CST
DTSTART:20271107T070000
END:STANDARD
END:VTIMEZONE
BEGIN:VEVENT
DTSTART;VALUE=DATE:20260530
DTEND;VALUE=DATE:20260531
DTSTAMP:20260422T205243
CREATED:20260314T012827Z
LAST-MODIFIED:20260314T014926Z
UID:10002678-1780099200-1780185599@www.fortatkinsonclub.org
SUMMARY:Spring Volunteer Work Day
DESCRIPTION:Winter is behind us and summer is coming — and we could use a few good hands to help us get ready. \nJoin us on Saturday\, May 30 for a community volunteer work day at the FAC. We’ll be tackling two simple but satisfying projects: clearing out and organizing our storage spaces\, and sprucing up our outdoor landscaping for the season ahead. \nNo special skills needed — just a willingness to roll up your sleeves and pitch in. We’ll provide snacks\, good company\, and the deep satisfaction of a job well done.\nWhat we’re working on: \nSpring cleaning and closet organization (indoor)\nLandscaping and outdoor cleanup (outdoor) \nCome for an hour or stay for the whole day — every pair of hands makes a difference.
URL:https://www.fortatkinsonclub.org/event/spring-volunteer-work-day/
LOCATION:211 S Water St E\, 53538\, 211 South Water Street East\, Fort Atkinson\, WI\, 53538\, United States
CATEGORIES:Community
ATTACH;FMTTYPE=image/png:https://www.fortatkinsonclub.org/wp-content/uploads/2026/03/volunteer-work-day-1.png
END:VEVENT
END:VCALENDAR