BEGIN:VCALENDAR
VERSION:2.0
PRODID:-//The Fort Atkinson Club - ECPv6.15.20//NONSGML v1.0//EN
CALSCALE:GREGORIAN
METHOD:PUBLISH
X-ORIGINAL-URL:https://www.fortatkinsonclub.org
X-WR-CALDESC:Events for The Fort Atkinson Club
REFRESH-INTERVAL;VALUE=DURATION:PT1H
X-Robots-Tag:noindex
X-PUBLISHED-TTL:PT1H
BEGIN:VTIMEZONE
TZID:America/Chicago
BEGIN:DAYLIGHT
TZOFFSETFROM:-0600
TZOFFSETTO:-0500
TZNAME:CDT
DTSTART:20250309T080000
END:DAYLIGHT
BEGIN:STANDARD
TZOFFSETFROM:-0500
TZOFFSETTO:-0600
TZNAME:CST
DTSTART:20251102T070000
END:STANDARD
BEGIN:DAYLIGHT
TZOFFSETFROM:-0600
TZOFFSETTO:-0500
TZNAME:CDT
DTSTART:20260308T080000
END:DAYLIGHT
BEGIN:STANDARD
TZOFFSETFROM:-0500
TZOFFSETTO:-0600
TZNAME:CST
DTSTART:20261101T070000
END:STANDARD
BEGIN:DAYLIGHT
TZOFFSETFROM:-0600
TZOFFSETTO:-0500
TZNAME:CDT
DTSTART:20270314T080000
END:DAYLIGHT
BEGIN:STANDARD
TZOFFSETFROM:-0500
TZOFFSETTO:-0600
TZNAME:CST
DTSTART:20271107T070000
END:STANDARD
END:VTIMEZONE
BEGIN:VEVENT
DTSTART;VALUE=DATE:20260227
DTEND;VALUE=DATE:20260328
DTSTAMP:20260422T205451
CREATED:20260224T035013Z
LAST-MODIFIED:20260224T035013Z
UID:10002604-1772150400-1774655999@www.fortatkinsonclub.org
SUMMARY:Your Eye Close With My Dreams
DESCRIPTION:This evocative exhibition showcases the works of husband and wife Brian and Angela Szabo. \nThough Brian and Angela Szabo each bring their own distinct artistic voice to the gallery\, a shared through-line runs gently beneath the work: a reverence for what endures. Discarded bones are reclaimed; their beauty and dignity is celebrated. Forms emerge from beneath leaves and flowers. Beauty reveals itself slowly\, through attention. \nAt the heart of the exhibition is a pair of birds bearing a line from Pablo Neruda’s Sonnet XVII\, from which the exhibition takes its title. The poem speaks of a love that is steady\, unassuming\, deeply rooted and inextricably intertwined. \nIn many ways\, this exhibition reflects that same truth: that what appears simple may hold profound depth. That love\, carried faithfully over time\, is one of the most enduring and beautiful forces we know.
URL:https://www.fortatkinsonclub.org/event/your-eye-close-with-my-dreams/
LOCATION:211 S Water St E\, 53538\, 211 South Water Street East\, Fort Atkinson\, WI\, 53538\, United States
CATEGORIES:Visual Arts
ATTACH;FMTTYPE=image/png:https://www.fortatkinsonclub.org/wp-content/uploads/2026/02/Your-Eyes-Close-With-My-Dreams-The-Art-of-Brian-Angela-Szabo-Fort-Atkinson-Club-Community-Center.png
END:VEVENT
BEGIN:VEVENT
DTSTART;TZID=America/Chicago:20260317T173000
DTEND;TZID=America/Chicago:20260317T183000
DTSTAMP:20260422T205451
CREATED:20230227T200833Z
LAST-MODIFIED:20250115T155450Z
UID:10002180-1773768600-1773772200@www.fortatkinsonclub.org
SUMMARY:Fort Club Board Meeting
DESCRIPTION:
URL:https://www.fortatkinsonclub.org/event/fort-club-board-meeting/2026-03-17/
LOCATION:211 S Water St E\, 53538\, 211 South Water Street East\, Fort Atkinson\, WI\, 53538\, United States
ATTACH;FMTTYPE=image/jpeg:https://www.fortatkinsonclub.org/wp-content/uploads/2023/02/Failte4-scaled.jpg
END:VEVENT
BEGIN:VEVENT
DTSTART;TZID=America/Chicago:20260317T180000
DTEND;TZID=America/Chicago:20260317T193000
DTSTAMP:20260422T205451
CREATED:20260216T163241Z
LAST-MODIFIED:20260216T163557Z
UID:10002599-1773770400-1773775800@www.fortatkinsonclub.org
SUMMARY:Music and the Human Spirit
DESCRIPTION:Dan Cavanagh will talk about his experiences as a composer and pianist paired alongside recent advances in neuroscience and aesthetics that illuminate why music is uniquely important to our varied experiences as human beings. He will discuss how composers\, performers\, and conductors partner with listeners in the moment to create an environment conducive to considering the human spirit\, our place in this universe\, and our relationships with each other and the world.\n\n\n\n\nAbout the Speaker\nDan Cavanagh is a composer and pianist with numerous awards in both areas. He has performed extensively in North America and Europe\, and his music continues to be performed across the globe by classical and jazz artists alike. His music can be heard on a wide variety of recordings\, and he has released five recordings as a leader. In addition to composing and performing\, he is interested in the way music and the arts serve to shed light on what it means to be human.
URL:https://www.fortatkinsonclub.org/event/music-and-the-human-spirit/
LOCATION:211 S Water St E\, 53538\, 211 South Water Street East\, Fort Atkinson\, WI\, 53538\, United States
ATTACH;FMTTYPE=image/png:https://www.fortatkinsonclub.org/wp-content/uploads/2026/01/Badger-Talks-Logo.png
END:VEVENT
END:VCALENDAR