BEGIN:VCALENDAR
VERSION:2.0
PRODID:-//The Fort Atkinson Club - ECPv6.15.20//NONSGML v1.0//EN
CALSCALE:GREGORIAN
METHOD:PUBLISH
X-ORIGINAL-URL:https://www.fortatkinsonclub.org
X-WR-CALDESC:Events for The Fort Atkinson Club
REFRESH-INTERVAL;VALUE=DURATION:PT1H
X-Robots-Tag:noindex
X-PUBLISHED-TTL:PT1H
BEGIN:VTIMEZONE
TZID:America/Chicago
BEGIN:DAYLIGHT
TZOFFSETFROM:-0600
TZOFFSETTO:-0500
TZNAME:CDT
DTSTART:20240310T080000
END:DAYLIGHT
BEGIN:STANDARD
TZOFFSETFROM:-0500
TZOFFSETTO:-0600
TZNAME:CST
DTSTART:20241103T070000
END:STANDARD
BEGIN:DAYLIGHT
TZOFFSETFROM:-0600
TZOFFSETTO:-0500
TZNAME:CDT
DTSTART:20250309T080000
END:DAYLIGHT
BEGIN:STANDARD
TZOFFSETFROM:-0500
TZOFFSETTO:-0600
TZNAME:CST
DTSTART:20251102T070000
END:STANDARD
BEGIN:DAYLIGHT
TZOFFSETFROM:-0600
TZOFFSETTO:-0500
TZNAME:CDT
DTSTART:20260308T080000
END:DAYLIGHT
BEGIN:STANDARD
TZOFFSETFROM:-0500
TZOFFSETTO:-0600
TZNAME:CST
DTSTART:20261101T070000
END:STANDARD
END:VTIMEZONE
BEGIN:VEVENT
DTSTART;TZID=America/Chicago:20251203T163000
DTEND;TZID=America/Chicago:20251203T180000
DTSTAMP:20260423T015817
CREATED:20251113T153350Z
LAST-MODIFIED:20251125T133924Z
UID:10002263-1764779400-1764784800@www.fortatkinsonclub.org
SUMMARY:FREE Community Meals
DESCRIPTION:Join us for Free Community Meals\, Wednesdays from 4:30-6\, at the FAC.  Text 920-397-9129 to reserve your meal! Neighbors helping neighbors.  During this time of uncertainty with food benefits\, our hearts are full from seeing so many members of the community coming together to share what we have with each other.  We hope you’ll make yourself at home here at the FAC for a warm meal. \nInterested in volunteering?  Text us at 920.397.9129 \n 
URL:https://www.fortatkinsonclub.org/event/free-community-meals/2025-12-03/
LOCATION:211 S Water St E\, 53538\, 211 South Water Street East\, Fort Atkinson\, WI\, 53538\, United States
CATEGORIES:Community
ATTACH;FMTTYPE=image/png:https://www.fortatkinsonclub.org/wp-content/uploads/2025/11/Copy-of-Copy-of-Pop-up-Food-Pantry-4.25-x-5.5-in.png
END:VEVENT
END:VCALENDAR